BEGIN:VCALENDAR
VERSION:2.0
PRODID:-//One Chippenham - ECPv6.15.20//NONSGML v1.0//EN
CALSCALE:GREGORIAN
METHOD:PUBLISH
X-ORIGINAL-URL:https://onechippenham.org.uk
X-WR-CALDESC:Events for One Chippenham
REFRESH-INTERVAL;VALUE=DURATION:PT1H
X-Robots-Tag:noindex
X-PUBLISHED-TTL:PT1H
BEGIN:VTIMEZONE
TZID:Europe/London
BEGIN:DAYLIGHT
TZOFFSETFROM:+0000
TZOFFSETTO:+0100
TZNAME:BST
DTSTART:20230326T010000
END:DAYLIGHT
BEGIN:STANDARD
TZOFFSETFROM:+0100
TZOFFSETTO:+0000
TZNAME:GMT
DTSTART:20231029T010000
END:STANDARD
BEGIN:DAYLIGHT
TZOFFSETFROM:+0000
TZOFFSETTO:+0100
TZNAME:BST
DTSTART:20240331T010000
END:DAYLIGHT
BEGIN:STANDARD
TZOFFSETFROM:+0100
TZOFFSETTO:+0000
TZNAME:GMT
DTSTART:20241027T010000
END:STANDARD
BEGIN:DAYLIGHT
TZOFFSETFROM:+0000
TZOFFSETTO:+0100
TZNAME:BST
DTSTART:20250330T010000
END:DAYLIGHT
BEGIN:STANDARD
TZOFFSETFROM:+0100
TZOFFSETTO:+0000
TZNAME:GMT
DTSTART:20251026T010000
END:STANDARD
END:VTIMEZONE
BEGIN:VEVENT
DTSTART;VALUE=DATE:20240108
DTEND;VALUE=DATE:20240401
DTSTAMP:20260421T030245
CREATED:20231220T192056Z
LAST-MODIFIED:20240108T152005Z
UID:25194-1704672000-1711929599@onechippenham.org.uk
SUMMARY:The Arc - Kids and Youth Sessions - Terms 3 & 4
DESCRIPTION:Kids climbing classes for ages 6+ with The Climbing Academy at The Arc in Chippenham. \nKids are natural climbers. It’s a great way to get them active\, whilst having lots of fun. Climbing is a sociable sport that can help with focus\, coordination\, balance and of course fitness. \nTerm 3 runs from Mon 8 Jan – Sun 11 Feb 2024.\nTerm 4 runs from Mon 19 Feb – Sun 31 Mar 2024.
URL:https://onechippenham.org.uk/event/the-climbing-academy-kids-and-youth-sessions-terms-3-4/
LOCATION:The Arc\, Westmead Lane\, Chippenham\, Wiltshire\, SN15 3HZ\, United Kingdom
CATEGORIES:Children,Climbing,Primary age children,Teens
ATTACH;FMTTYPE=image/jpeg:https://onechippenham.org.uk/wp-content/uploads/2023/12/274A0283-scaled.jpg
END:VEVENT
BEGIN:VEVENT
DTSTART;TZID=Europe/London:20240220T093000
DTEND;TZID=Europe/London:20240220T103000
DTSTAMP:20260421T030245
CREATED:20240221T130102Z
LAST-MODIFIED:20240221T130102Z
UID:27828-1708421400-1708425000@onechippenham.org.uk
SUMMARY:Tiny Minds Mixed-age classes
DESCRIPTION:A sensory\, exploring class for little ones and their parents/careers.\nSuitable for 1-4 year olds\, classes are every Tuesday in Chippenham at 9:30am.\nLet your little one\, scoop\, pour\, build and explore. \nClasses start with a short group singalong and then it’s time for independent play! \nFind out more about Tiny Minds: \nFacebook \nInstagram
URL:https://onechippenham.org.uk/event/tiny-minds-mixed-age-classes/2024-02-20/
LOCATION:1st Chippenham Scout Hut- Audley Road\, Audley Road\, SN14 0EN\, United Kingdom
CATEGORIES:Children,Class,Pre-school
ATTACH;FMTTYPE=image/jpeg:https://onechippenham.org.uk/wp-content/uploads/2024/02/D1880954-E028-4F1D-98BE-6A8B45066D18.jpeg
END:VEVENT
END:VCALENDAR