BEGIN:VCALENDAR
VERSION:2.0
PRODID:-//One Chippenham - ECPv6.15.20//NONSGML v1.0//EN
CALSCALE:GREGORIAN
METHOD:PUBLISH
X-ORIGINAL-URL:https://onechippenham.org.uk
X-WR-CALDESC:Events for One Chippenham
REFRESH-INTERVAL;VALUE=DURATION:PT1H
X-Robots-Tag:noindex
X-PUBLISHED-TTL:PT1H
BEGIN:VTIMEZONE
TZID:Europe/London
BEGIN:DAYLIGHT
TZOFFSETFROM:+0000
TZOFFSETTO:+0100
TZNAME:BST
DTSTART:20210328T010000
END:DAYLIGHT
BEGIN:STANDARD
TZOFFSETFROM:+0100
TZOFFSETTO:+0000
TZNAME:GMT
DTSTART:20211031T010000
END:STANDARD
BEGIN:DAYLIGHT
TZOFFSETFROM:+0000
TZOFFSETTO:+0100
TZNAME:BST
DTSTART:20220327T010000
END:DAYLIGHT
BEGIN:STANDARD
TZOFFSETFROM:+0100
TZOFFSETTO:+0000
TZNAME:GMT
DTSTART:20221030T010000
END:STANDARD
BEGIN:DAYLIGHT
TZOFFSETFROM:+0000
TZOFFSETTO:+0100
TZNAME:BST
DTSTART:20230326T010000
END:DAYLIGHT
BEGIN:STANDARD
TZOFFSETFROM:+0100
TZOFFSETTO:+0000
TZNAME:GMT
DTSTART:20231029T010000
END:STANDARD
BEGIN:DAYLIGHT
TZOFFSETFROM:+0000
TZOFFSETTO:+0100
TZNAME:BST
DTSTART:20240331T010000
END:DAYLIGHT
BEGIN:STANDARD
TZOFFSETFROM:+0100
TZOFFSETTO:+0000
TZNAME:GMT
DTSTART:20241027T010000
END:STANDARD
END:VTIMEZONE
BEGIN:VEVENT
DTSTART;VALUE=DATE:20230526
DTEND;VALUE=DATE:20230530
DTSTAMP:20260425T014441
CREATED:20230327T225044Z
LAST-MODIFIED:20230519T072908Z
UID:12662-1685059200-1685404799@onechippenham.org.uk
SUMMARY:Chippenham Folk Festival Family & Community Events
DESCRIPTION:Island Park will be the centre of the family and community programme. There’s something for the whole family including performances from choirs\, singer-songwriters\, musicians\, bands\, learn to play Ukulele\, dancing\, storytelling\, crafting\, puppetry\, face painters\, play and sensory sessions for the under 5’s and more! \nThe full family and community programme is now available on the Chippenham Folk Festival website here. \nThere will also be music and storytelling found in pubs and various other venues around the town. \nDon’t miss the return of the popular Buttercross Ceilidhs on Sunday and Monday. \nCheck out the dance displays\, two dance stages and many dancers around the town all weekend. Don’t miss the parades on Saturday and Monday. \nFree entry to the Craft Marquee with many other traders around Island Park and the town and of course don’t miss the festival bar! \nFestival Street Market on Bank Holiday Monday. \nDon’t forget you can also purchase individual Day\, Event and Concert tickets! Ticket numbers are limited though\, so don’t miss out. Buy Now. \n  \n 
URL:https://onechippenham.org.uk/event/chippenham-folk-festival-family-community-events/
LOCATION:Chippenham Town Centre
CATEGORIES:Adults,Arts,Children,Choir,Community,Crafts,Dance,Demonstrations,Family,Family Friendly,Festival,Music,Performing Arts,Storytelling
ATTACH;FMTTYPE=image/png:https://onechippenham.org.uk/wp-content/uploads/2023/03/6B8C2ED1-2513-4B30-B047-C33516ECDE0A.png
ORGANIZER;CN="Chippenham Folk Festival":MAILTO:info@chippfolk.co.uk
END:VEVENT
BEGIN:VEVENT
DTSTART;TZID=Europe/London:20230422T193000
DTEND;TZID=Europe/London:20230422T213000
DTSTAMP:20260425T014441
CREATED:20230315T145936Z
LAST-MODIFIED:20230315T145936Z
UID:12448-1682191800-1682199000@onechippenham.org.uk
SUMMARY:Three Choirs Sing Out
DESCRIPTION:A concert for Wellboring Charity with 3 choirs performing a variety of songs ranging from Gospel and World Music to Pop and Folk
URL:https://onechippenham.org.uk/event/three-choirs-sing-out/
LOCATION:St Andrew’s Church\, St Mary’s Street\, Chippenham\, SN15 3JN\, United Kingdom
CATEGORIES:Choir,Concert,Music
ATTACH;FMTTYPE=image/jpeg:https://onechippenham.org.uk/wp-content/uploads/2023/03/Slide1-1.jpeg
ORGANIZER;CN="Wellboring":MAILTO:fred@thecausevenue.com
END:VEVENT
BEGIN:VEVENT
DTSTART;TZID=Europe/London:20230202T193000
DTEND;TZID=Europe/London:20230202T210000
DTSTAMP:20260425T014441
CREATED:20230126T201030Z
LAST-MODIFIED:20230126T201030Z
UID:10689-1675366200-1675371600@onechippenham.org.uk
SUMMARY:Gospel Rocks! Chippenham’s Community Gospel Choir
DESCRIPTION:Open to all ages and all singing ability – you do not have to read music! Come along on a Thursday evening from 7:30-9pm to learn some fantastic gospel\, blues and soul songs with great tunes and beautiful harmonies. \nOur repertoire is changing and developing all the time. It currently includes O Happy Day\, Down In The River To Pray\, Trumpets\, Goodnight Sweetheart and other joyful\, fun\, soul and gospel classics. \nThe emphasis is on bringing the music to life. We move\, dance\, clap; we infuse the music with fun and laughter. We also encourage people to sing solos\, duets and in quartets and enable newcomers and beginners to find their voice and experience the joy of singing. \nEnjoy singing quick-to-learn tunes and discover the satisfaction of singing in a group! \nEach session is £8. Contact Alex on 07460 775 321 or simply turn up on the night. \nAttendees are encouraged to join the Facebook group to keep in touch.
URL:https://onechippenham.org.uk/event/gospel-rocks-chippenhams-community-gospel-choir/2023-02-02/
LOCATION:The Cause Music and Arts Centre\, 42 The Causeway\, Chippenham\, Wiltshire\, SN15 3DD\, United Kingdom
CATEGORIES:Choir,Community,Music,Singing
ATTACH;FMTTYPE=image/png:https://onechippenham.org.uk/wp-content/uploads/2023/01/0E9BCEA2-7575-44AD-9096-9E6BCCD65E56.png
ORGANIZER;CN="The Cause Music and Arts":MAILTO:fred@thecausevenue.com
END:VEVENT
BEGIN:VEVENT
DTSTART;TZID=Europe/London:20221217T193000
DTEND;TZID=Europe/London:20221217T193000
DTSTAMP:20260425T014441
CREATED:20221127T090623Z
LAST-MODIFIED:20221127T090623Z
UID:9545-1671305400-1671305400@onechippenham.org.uk
SUMMARY:Magical Midwinter Music
DESCRIPTION:A seasonal event not to miss here in Chippenham! Two excellent local choirs performing a wonderful selection of music from across the world. \nReserve your tickets by emailing fred@thecausevenue.com or alexandrawalker@me.com \n\nLingmara\, Chippenham’s world music choir\, meet on Tuesdays at 7.30pm at The Cause Venue. New singers welcome. \nGospel Rocks\, Chippenham’s gospel choir\, meet  on Thursdays at 7.30pm at The Cause Venue. New singers welcome.
URL:https://onechippenham.org.uk/event/magical-midwinter-music/
LOCATION:The Cause Music and Arts Centre\, 42 The Causeway\, Chippenham\, Wiltshire\, SN15 3DD\, United Kingdom
CATEGORIES:Choir,Christmas,Community,Concert,Performing Arts
ATTACH;FMTTYPE=image/jpeg:https://onechippenham.org.uk/wp-content/uploads/2022/11/8F28ECBD-53C7-4D74-90A1-F9648C28D6B9.jpeg
END:VEVENT
BEGIN:VEVENT
DTSTART;TZID=Europe/London:20221215T193000
DTEND;TZID=Europe/London:20221215T193000
DTSTAMP:20260425T014441
CREATED:20221204T171243Z
LAST-MODIFIED:20221204T171356Z
UID:9652-1671132600-1671132600@onechippenham.org.uk
SUMMARY:Christmas Cracker Concert
DESCRIPTION:Our Annual Christmas Cracker Concert at St Andrew’s Church\, Chippenham will be on Thursday 15th December at 7:30 pm. Our special guests for the evening are Bratton Silver Band and renowned Mezzo Soprano\, Marie Elliott. \nThe printing of tickets\, posters and Concert Programmes are being kindly sponsored by Haine & Smith\, Opticians. Proceeds from a collection at the end of the evening will be donated to Julia’s House\, Children’s Hospice in Devizes. \nTickets are £10 and are available from Choir Members\, Dolmans Furnishers\, Haine & Smith\, Chippenham Museum and St. Andrew’s Church. \nWe look forward to seeing you all\, and performing for you!
URL:https://onechippenham.org.uk/event/christmas-cracker-concert/
LOCATION:St Andrew’s Church\, St Mary’s Street\, Chippenham\, SN15 3JN\, United Kingdom
CATEGORIES:Choir,Christmas,Concert,Music
ATTACH;FMTTYPE=image/png:https://onechippenham.org.uk/wp-content/uploads/2022/12/3E3BD97D-6E36-43F6-96C1-C6775E658C0E.png
END:VEVENT
BEGIN:VEVENT
DTSTART;TZID=Europe/London:20221211T110000
DTEND;TZID=Europe/London:20221211T160000
DTSTAMP:20260425T014441
CREATED:20221112T125432Z
LAST-MODIFIED:20221112T125432Z
UID:9131-1670756400-1670774400@onechippenham.org.uk
SUMMARY:Indoor Christmas Fayre
DESCRIPTION:Lots to do for everyone from a variety of stalls for adults and children. Some fun games where the children can win prizes and an exciting treasure hunt. \nWe have the amazing PSG Choir performing throughout the afternoon. \nWe will be serving food all day and the bar will also be open. Festive mulled wine\, mince pies\, luxury hot chocolate. \nEveryone welcome and free entry
URL:https://onechippenham.org.uk/event/indoor-christmas-fayre-3/
LOCATION:Chippenham Sports Club
CATEGORIES:Arts,Baby,Books/poetry,Charity,Children,Choir,Christmas,Community,Crafts,Fairs & Fetes,Family Friendly,Fayre,Food and Drink,Gifts,Indoor,Jewellery making,Performance,Singing
ATTACH;FMTTYPE=image/jpeg:https://onechippenham.org.uk/wp-content/uploads/2022/11/287B2D6F-91D6-4B2E-ABF6-36E8FC03B4FE.jpeg
ORGANIZER;CN="Fiona Wheadon":MAILTO:Enquiries@chippenhamsportsclub.co.uk
END:VEVENT
BEGIN:VEVENT
DTSTART;TZID=Europe/London:20221104T193000
DTEND;TZID=Europe/London:20221104T223000
DTSTAMP:20260425T014441
CREATED:20220927T095525Z
LAST-MODIFIED:20220927T095525Z
UID:7832-1667590200-1667601000@onechippenham.org.uk
SUMMARY:West End has Faith
DESCRIPTION:Songs from the Musicals performed by a variety of singers from the West End shows\, with their own stories of faith and life.
URL:https://onechippenham.org.uk/event/west-end-has-faith/
LOCATION:St Paul’s Church\, Malmesbury Road\, Chippenham\, SN15 1PW\, United Kingdom
CATEGORIES:Arts,Choir,Church,Community,Concert,Family Friendly,Live band,Music,Performance,Performing Arts,Singing,Theatre
ATTACH;FMTTYPE=image/jpeg:https://onechippenham.org.uk/wp-content/uploads/2022/09/5461535557807794973.jpg
ORGANIZER;CN="St Pauls Church":MAILTO:greenways@stpaulsweb.org.uk
END:VEVENT
BEGIN:VEVENT
DTSTART;TZID=Europe/London:20220906T193000
DTEND;TZID=Europe/London:20220906T213000
DTSTAMP:20260425T014441
CREATED:20220907T102643Z
LAST-MODIFIED:20220907T103641Z
UID:7306-1662492600-1662499800@onechippenham.org.uk
SUMMARY:Allsorts Community Choir
DESCRIPTION:Allsorts Community Choir at Sheldon Melodist Church:\nAllsorts Community Choir are opening auditions\, music reading\, experience is not necessary. Enthusiasm\, commitment\, and a good sense of fun are essential. \nThe first two sessions are FREE\, once you have signed up\, it is £3 per session. \nFor more information\, please visit: https://www.allsortschippenham.co.uk/
URL:https://onechippenham.org.uk/event/allsorts-community-choir-3/2022-09-06/
LOCATION:The Beacon Centre at Sheldon Road Methodist Church\, Audley Road\, Chippenham\, Wiltshire\, SN14 0DU\, United Kingdom
CATEGORIES:Choir,Church,Community,Music,Performance,Performing Arts,Singing
ATTACH;FMTTYPE=image/jpeg:https://onechippenham.org.uk/wp-content/uploads/2022/09/IMG_5559-scaled.jpg
ORGANIZER;CN="Allsorts Community Choir":MAILTO:allsortschippenham@hotmail.com
END:VEVENT
END:VCALENDAR