BEGIN:VCALENDAR
VERSION:2.0
PRODID:-//One Chippenham - ECPv6.15.20//NONSGML v1.0//EN
CALSCALE:GREGORIAN
METHOD:PUBLISH
X-ORIGINAL-URL:https://onechippenham.org.uk
X-WR-CALDESC:Events for One Chippenham
REFRESH-INTERVAL;VALUE=DURATION:PT1H
X-Robots-Tag:noindex
X-PUBLISHED-TTL:PT1H
BEGIN:VTIMEZONE
TZID:Europe/London
BEGIN:DAYLIGHT
TZOFFSETFROM:+0000
TZOFFSETTO:+0100
TZNAME:BST
DTSTART:20230326T010000
END:DAYLIGHT
BEGIN:STANDARD
TZOFFSETFROM:+0100
TZOFFSETTO:+0000
TZNAME:GMT
DTSTART:20231029T010000
END:STANDARD
BEGIN:DAYLIGHT
TZOFFSETFROM:+0000
TZOFFSETTO:+0100
TZNAME:BST
DTSTART:20240331T010000
END:DAYLIGHT
BEGIN:STANDARD
TZOFFSETFROM:+0100
TZOFFSETTO:+0000
TZNAME:GMT
DTSTART:20241027T010000
END:STANDARD
BEGIN:DAYLIGHT
TZOFFSETFROM:+0000
TZOFFSETTO:+0100
TZNAME:BST
DTSTART:20250330T010000
END:DAYLIGHT
BEGIN:STANDARD
TZOFFSETFROM:+0100
TZOFFSETTO:+0000
TZNAME:GMT
DTSTART:20251026T010000
END:STANDARD
END:VTIMEZONE
BEGIN:VEVENT
DTSTART;TZID=Europe/London:20241222T103000
DTEND;TZID=Europe/London:20241222T111500
DTSTAMP:20260423T112539
CREATED:20240828T132911Z
LAST-MODIFIED:20240828T132911Z
UID:32596-1734863400-1734866100@onechippenham.org.uk
SUMMARY:Santa’s Christmas Cracker
DESCRIPTION:The Santa Show 2024: Santa’s Christmas Cracker – the show where every child gets a present from Santa! \nFollowing last year’s hit performances of Santa’s Christmas Wish\, Honalee Media are delighted to present their next Santa Show this Christmas… \n“It really is the most wonderful time of the year\, so it’s no surprise that everyone at the North Pole is super-excited as Christmas draws near! \nFather Christmas is busy making toys\, Dotty the Elf is decorating the Christmas tree and Dasher the Reindeer is getting presents onto his sleigh – but then they meet a lost penguin who has never even heard of Christmas… \nImpossible! But how to teach him all about Christmas? \nDare they open the door marked For Christmas Emergencies Only? \nAnd can you help unleash the magic of Christmas by pulling one of Santa’s Christmas Crackers?” \nJoin Father Christmas and friends for a fun\, festive\, musical adventure to discover the wonder of Christmas – you may even get to pull a cracker with Dotty the Elf! \nSanta’s Christmas Cracker is a 45-minute\, interactive family show\, particularly suitable for 2-8 year olds. Afterwards the adventure continues as each child gets to meet Father Christmas and receive a specially wrapped present from him – it’s the most Christmassy Christmas show ever\, HO-HO-HO! \nSongs include festive favourites Jingle Bells\, Rudolph the Red-Nosed Reindeer\, The Twelve Days Of Christmas\, Deck The Halls\, We Wish You A Merry Christmas and many more! \nwww.santashows.co.uk \n“It was perfect\, full of fun\, singing and laughter\, what better way to start the festive season!” – ‘Mummy Monster’ blog \n“The Santa Shows have become our Christmas tradition and we love them! Perfect engagement with the children\, lots of audience participation and the children were beside themselves when Father Christmas gave them a present after the show. Wonderful value for money and top rate entertainment!” – Natalie D\, mum of Rae \n“Eyes lit up full of wonder and joy – as my children walked away from receiving their gift they whispered\, “That was the real Santa!” – Families\, North Hampshire \n“A magical way to start our Christmas celebrations and a memory I shall treasure!” – Basingstoke Gazette \nTickets: Standard £11.50\, Family of Four £42 \nDuration: 45 minutes plus meet\, greet & treat \nPlease contact the venue for any access requirements. \nTickets are also available through our Box Office on 01249 446699\, from the Neeld Box Office or at the Town Hall.
URL:https://onechippenham.org.uk/event/santas-christmas-cracker-3/
LOCATION:Neeld Community & Arts Centre\, The Neeld\, High Street\, Chippenham\, Wiltshire\, SN15 3ER\, United Kingdom
CATEGORIES:Christmas
ATTACH;FMTTYPE=image/jpeg:https://onechippenham.org.uk/wp-content/uploads/2024/08/Neeld-169-Ratio-Featured-Image-12-scaled.jpg
END:VEVENT
BEGIN:VEVENT
DTSTART;TZID=Europe/London:20241222T130000
DTEND;TZID=Europe/London:20241222T134500
DTSTAMP:20260423T112539
CREATED:20240828T132705Z
LAST-MODIFIED:20240828T132705Z
UID:32605-1734872400-1734875100@onechippenham.org.uk
SUMMARY:Santa’s Christmas Cracker
DESCRIPTION:The Santa Show 2024: Santa’s Christmas Cracker – the show where every child gets a present from Santa! \nFollowing last year’s hit performances of Santa’s Christmas Wish\, Honalee Media are delighted to present their next Santa Show this Christmas… \n“It really is the most wonderful time of the year\, so it’s no surprise that everyone at the North Pole is super-excited as Christmas draws near! \nFather Christmas is busy making toys\, Dotty the Elf is decorating the Christmas tree and Dasher the Reindeer is getting presents onto his sleigh – but then they meet a lost penguin who has never even heard of Christmas… \nImpossible! But how to teach him all about Christmas? \nDare they open the door marked For Christmas Emergencies Only? \nAnd can you help unleash the magic of Christmas by pulling one of Santa’s Christmas Crackers?” \nJoin Father Christmas and friends for a fun\, festive\, musical adventure to discover the wonder of Christmas – you may even get to pull a cracker with Dotty the Elf! \nSanta’s Christmas Cracker is a 45-minute\, interactive family show\, particularly suitable for 2-8 year olds. Afterwards the adventure continues as each child gets to meet Father Christmas and receive a specially wrapped present from him – it’s the most Christmassy Christmas show ever\, HO-HO-HO! \nSongs include festive favourites Jingle Bells\, Rudolph the Red-Nosed Reindeer\, The Twelve Days Of Christmas\, Deck The Halls\, We Wish You A Merry Christmas and many more! \nwww.santashows.co.uk \n“It was perfect\, full of fun\, singing and laughter\, what better way to start the festive season!” – ‘Mummy Monster’ blog \n“The Santa Shows have become our Christmas tradition and we love them! Perfect engagement with the children\, lots of audience participation and the children were beside themselves when Father Christmas gave them a present after the show. Wonderful value for money and top rate entertainment!” – Natalie D\, mum of Rae \n“Eyes lit up full of wonder and joy – as my children walked away from receiving their gift they whispered\, “That was the real Santa!” – Families\, North Hampshire \n“A magical way to start our Christmas celebrations and a memory I shall treasure!” – Basingstoke Gazette \nTickets: Standard £11.50\, Family of Four £42 \nDuration: 45 minutes plus meet\, greet & treat \nPlease contact the venue for any access requirements. \nTickets are also available through our Box Office on 01249 446699\, from the Neeld Box Office or at the Town Hall.
URL:https://onechippenham.org.uk/event/santas-christmas-cracker-2/
LOCATION:Neeld Community & Arts Centre\, The Neeld\, High Street\, Chippenham\, Wiltshire\, SN15 3ER\, United Kingdom
CATEGORIES:Christmas
ATTACH;FMTTYPE=image/jpeg:https://onechippenham.org.uk/wp-content/uploads/2024/08/Neeld-169-Ratio-Featured-Image-12-scaled.jpg
END:VEVENT
BEGIN:VEVENT
DTSTART;TZID=Europe/London:20241222T153000
DTEND;TZID=Europe/London:20241222T161500
DTSTAMP:20260423T112539
CREATED:20240828T132256Z
LAST-MODIFIED:20240828T132524Z
UID:32614-1734881400-1734884100@onechippenham.org.uk
SUMMARY:Santa’s Christmas Cracker
DESCRIPTION:The Santa Show 2024: Santa’s Christmas Cracker – the show where every child gets a present from Santa! \nFollowing last year’s hit performances of Santa’s Christmas Wish\, Honalee Media are delighted to present their next Santa Show this Christmas… \n“It really is the most wonderful time of the year\, so it’s no surprise that everyone at the North Pole is super-excited as Christmas draws near! \nFather Christmas is busy making toys\, Dotty the Elf is decorating the Christmas tree and Dasher the Reindeer is getting presents onto his sleigh – but then they meet a lost penguin who has never even heard of Christmas… \nImpossible! But how to teach him all about Christmas? \nDare they open the door marked For Christmas Emergencies Only? \nAnd can you help unleash the magic of Christmas by pulling one of Santa’s Christmas Crackers?” \nJoin Father Christmas and friends for a fun\, festive\, musical adventure to discover the wonder of Christmas – you may even get to pull a cracker with Dotty the Elf! \nSanta’s Christmas Cracker is a 45-minute\, interactive family show\, particularly suitable for 2-8 year olds. Afterwards the adventure continues as each child gets to meet Father Christmas and receive a specially wrapped present from him – it’s the most Christmassy Christmas show ever\, HO-HO-HO! \nSongs include festive favourites Jingle Bells\, Rudolph the Red-Nosed Reindeer\, The Twelve Days Of Christmas\, Deck The Halls\, We Wish You A Merry Christmas and many more! \nwww.santashows.co.uk \n“It was perfect\, full of fun\, singing and laughter\, what better way to start the festive season!” – ‘Mummy Monster’ blog \n“The Santa Shows have become our Christmas tradition and we love them! Perfect engagement with the children\, lots of audience participation and the children were beside themselves when Father Christmas gave them a present after the show. Wonderful value for money and top rate entertainment!” – Natalie D\, mum of Rae \n“Eyes lit up full of wonder and joy – as my children walked away from receiving their gift they whispered\, “That was the real Santa!” – Families\, North Hampshire \n“A magical way to start our Christmas celebrations and a memory I shall treasure!” – Basingstoke Gazette \nTickets: Standard £11.50\, Family of Four £42 \nDuration: 45 minutes plus meet\, greet & treat \nPlease contact the venue for any access requirements. \nTickets are also available through our Box Office on 01249 446699\, from the Neeld Box Office or at the Town Hall.
URL:https://onechippenham.org.uk/event/santas-christmas-cracker/
LOCATION:Neeld Community & Arts Centre\, The Neeld\, High Street\, Chippenham\, Wiltshire\, SN15 3ER\, United Kingdom
CATEGORIES:Christmas
ATTACH;FMTTYPE=image/jpeg:https://onechippenham.org.uk/wp-content/uploads/2024/08/Neeld-169-Ratio-Featured-Image-12-scaled.jpg
END:VEVENT
BEGIN:VEVENT
DTSTART;TZID=Europe/London:20241222T190000
DTEND;TZID=Europe/London:20241222T210000
DTSTAMP:20260423T112539
CREATED:20241119T202341Z
LAST-MODIFIED:20241119T202341Z
UID:36237-1734894000-1734901200@onechippenham.org.uk
SUMMARY:Christmas Drag Bingo
DESCRIPTION:Sheila Tackya returns for another Drag Bingo night at Rivo Lounge! \n£1 for a strip – £5 for a page – £2 charity donation for a dabber.
URL:https://onechippenham.org.uk/event/christmas-drag-bingo/
LOCATION:The Rivo Lounge\, 2-4 The Bridge\, Chippenham\, SN151EX
CATEGORIES:Bingo,Christmas
ATTACH;FMTTYPE=image/png:https://onechippenham.org.uk/wp-content/uploads/2024/11/Christmas-Drag-Bingo.png
END:VEVENT
END:VCALENDAR