BEGIN:VCALENDAR
VERSION:2.0
PRODID:-//One Chippenham - ECPv6.15.20//NONSGML v1.0//EN
CALSCALE:GREGORIAN
METHOD:PUBLISH
X-WR-CALNAME:One Chippenham
X-ORIGINAL-URL:https://onechippenham.org.uk
X-WR-CALDESC:Events for One Chippenham
REFRESH-INTERVAL;VALUE=DURATION:PT1H
X-Robots-Tag:noindex
X-PUBLISHED-TTL:PT1H
BEGIN:VTIMEZONE
TZID:Europe/London
BEGIN:DAYLIGHT
TZOFFSETFROM:+0000
TZOFFSETTO:+0100
TZNAME:BST
DTSTART:20190331T010000
END:DAYLIGHT
BEGIN:STANDARD
TZOFFSETFROM:+0100
TZOFFSETTO:+0000
TZNAME:GMT
DTSTART:20191027T010000
END:STANDARD
BEGIN:DAYLIGHT
TZOFFSETFROM:+0000
TZOFFSETTO:+0100
TZNAME:BST
DTSTART:20200329T010000
END:DAYLIGHT
BEGIN:STANDARD
TZOFFSETFROM:+0100
TZOFFSETTO:+0000
TZNAME:GMT
DTSTART:20201025T010000
END:STANDARD
BEGIN:DAYLIGHT
TZOFFSETFROM:+0000
TZOFFSETTO:+0100
TZNAME:BST
DTSTART:20210328T010000
END:DAYLIGHT
BEGIN:STANDARD
TZOFFSETFROM:+0100
TZOFFSETTO:+0000
TZNAME:GMT
DTSTART:20211031T010000
END:STANDARD
BEGIN:DAYLIGHT
TZOFFSETFROM:+0000
TZOFFSETTO:+0100
TZNAME:BST
DTSTART:20220327T010000
END:DAYLIGHT
BEGIN:STANDARD
TZOFFSETFROM:+0100
TZOFFSETTO:+0000
TZNAME:GMT
DTSTART:20221030T010000
END:STANDARD
END:VTIMEZONE
BEGIN:VEVENT
DTSTART;TZID=Europe/London:20211205T110000
DTEND;TZID=Europe/London:20211205T160000
DTSTAMP:20260423T060554
CREATED:20211106T025849Z
LAST-MODIFIED:20211106T025849Z
UID:3907-1638702000-1638720000@onechippenham.org.uk
SUMMARY:Indoor Christmas Fayre
DESCRIPTION:Come and join us for our Christmas Fayre. Lots of craft stalls as well as festive performances.
URL:https://onechippenham.org.uk/event/indoor-christmas-fayre/
LOCATION:Chippenham Sports Club
CATEGORIES:Christmas,Fairs & Fetes
ATTACH;FMTTYPE=image/jpeg:https://onechippenham.org.uk/wp-content/uploads/2021/11/7D22F524-CC89-49F7-8C85-45C254FF6E00.jpeg
END:VEVENT
BEGIN:VEVENT
DTSTART;TZID=Europe/London:20211203T163000
DTEND;TZID=Europe/London:20211203T213000
DTSTAMP:20260423T060554
CREATED:20211126T035429Z
LAST-MODIFIED:20211126T035429Z
UID:3978-1638549000-1638567000@onechippenham.org.uk
SUMMARY:Enchanted Light Trail
DESCRIPTION:Enjoy a spectacular wintery light trail around the ‘River Island’ in Chippenham\, just as you walk over Town Bridge. \nSee the trees and riverbank illuminated as never seen before\, including a Floating Iceberg Pontoon\, Enchanted Talking Trees and Northern Lights Dome. \nProduced by Melt Productions in collaboration with Chippenham Town Council\, the light trail is free and accessible for all. \nA variety of food vendors including pizza\, cakes and festive drinks will be dotted around the Trail. \nThe trail is all outdoors. Wrap up warm and please wear sturdy\, waterproof footwear. \nDuring busy times\, you may be asked to wait whilst the events staff manage the flow of people. All attendees are kindly requested to do their best to maintain social distancing. \nPlease note\, there is no parking on site\, however if you are driving from a distance\, parking in Emery Gate Car Park is recommended.
URL:https://onechippenham.org.uk/event/enchanted-light-trail/2021-12-03/
CATEGORIES:Christmas,Trail
ATTACH;FMTTYPE=image/jpeg:https://onechippenham.org.uk/wp-content/uploads/2021/11/D68662EF-5067-4D88-9551-41A1C9B8E83A.jpeg
END:VEVENT
BEGIN:VEVENT
DTSTART;TZID=Europe/London:20211128T100000
DTEND;TZID=Europe/London:20211128T190000
DTSTAMP:20260423T060554
CREATED:20211126T044814Z
LAST-MODIFIED:20211126T044815Z
UID:4003-1638093600-1638126000@onechippenham.org.uk
SUMMARY:The Festival of Christmas launch day
DESCRIPTION:“The Festival of Christmas” is a series of events in Chippenham celebrating all things festive running from Sunday 28th November until Sunday 19th December. \nThe launch day takes place on Sunday 28 November\, when Chippenham Town Centre will be full of fun and free entertainment between 10am – 7pm\, bringing the community together safely to enjoy a range of activities including: \nLantern Making Workshops and Glitter-Glo Face Paintingat the Town Hall\, 11am-4pm \nFire Performers in the Market Place\, at intervals between 4pm-6pm \nFestive Stilt-walkers on the High Street\, at intervals between 10am-4pm \nSnow Globe Photo Experience in Borough Parade\, 9am-6pm \nMeet Santa at the Yelde Hall\, 10am-6pm (SOLD OUT) \nIn addition to the events above\, the High Street will host a festive Artisan Market between 10am-7pm. There will be over 30 stalls to visit and enjoy across the day including artisan cider\, mulled wine\, and roasted chestnuts as well as\, handmade gifts\, and baked goods. \nA small community stage will also feature in Market Place where the Christmas Tree can be found. The stage will feature a variety of local acts between 11am – 6pm including Corsham and Colerne Military Wives Choir\, Chippenham’s Dancing Academy\, Ministry of Samba\, Rock Choir: Trowbridge\, Frome\, Warminster/Westbury and Chippenham\, CLOGG’s Musical Theatre. \nThe Christmas lights will be switched on at  5pm however\, to reduce the risk of mass gathering there won’t be an official countdown\, or switch on this year. \n \n 
URL:https://onechippenham.org.uk/event/the-festival-of-christmas-launch-day/
CATEGORIES:Christmas,Crafts,Family Friendly,Food and Drink,Market,Music
ATTACH;FMTTYPE=image/jpeg:https://onechippenham.org.uk/wp-content/uploads/2021/11/8E72C9B6-8960-40F4-8413-097F06B7C620.jpeg
END:VEVENT
BEGIN:VEVENT
DTSTART;TZID=Europe/London:20211128T100000
DTEND;TZID=Europe/London:20211128T160000
DTSTAMP:20260423T060554
CREATED:20211123T122537Z
LAST-MODIFIED:20211123T122700Z
UID:3964-1638093600-1638115200@onechippenham.org.uk
SUMMARY:Museum Shop Meet the Makers
DESCRIPTION:A special Sunday opening of Chippenham Museum with festive offers celebrating Christmas gifts with a local twist. Enjoy 20% off all Chippenham themed books\, cards and calendars and meet some of the local makers and authors supported through our museum shop: \nBloemen & Blue: Cyanotype Kits to try a historic photographic process in your own home \nBlue Artemis: hand finished Chippenham fine china baubles and mugs \nMeet the Author book signings with 20% off all books\n12-2pm: Ray Alder\, Unity & Loyalty: The Story of Chippenham’s Red Cross Hospital\n2-4pm: Chris Dallimore\, Chippenham Street Names \nPlus! Christmas badge making and family crafts with the Friends of Chippenham Museum. \nThis is event is part of Museum Shop Sunday\, a national event celebrating cultural shops\, and also an additional opportunity to visit exhibition Sam Heath: The Three Crowns\, open until Tuesday 30 November. \nEnjoy lots more festive fun in the town centre on this day\, with Chippenham’s Festival of Christmas brining lantern making\, fire performers and festive stilt walkers to the town plus much more!
URL:https://onechippenham.org.uk/event/museum-shop-meet-the-makers/
LOCATION:Chippenham Museum\, 9-10 Market Pl\, Chippenham\, SN15 3HF\, United Kingdom
CATEGORIES:Books/poetry,Christmas,Crafts,Gifts
ATTACH;FMTTYPE=image/jpeg:https://onechippenham.org.uk/wp-content/uploads/2021/11/museum-shop-sunday-listing-image.jpg
ORGANIZER;CN="Chippenham Museum":MAILTO:heritage@chippenham.gov.uk
END:VEVENT
BEGIN:VEVENT
DTSTART;TZID=Europe/London:20211126T190000
DTEND;TZID=Europe/London:20211126T210000
DTSTAMP:20260423T060554
CREATED:20211126T041844Z
LAST-MODIFIED:20211126T041844Z
UID:3995-1637953200-1637960400@onechippenham.org.uk
SUMMARY:Christmas Craft Sale
DESCRIPTION:Christmas is just around the corner which means it’s time for a Christmas craft sale! You will find a variety of handmade goods from local businesses including jewellery\, clothing\, confectionary\, candles and much more. \nTake part in our raffle with local restaurant vouchers\, Christmas hampers\, wine and lots more up for grabs! \nThis fundraising event in memory of David Godwin will be raising money for the Great Western Air Ambulance Service and the HELP appeal\, which raises funds for air ambulance landing pads. \nThis is the fourth fundraiser for The Bless His Heart Foundation which has so far raised over £5000 for charities close to Dave’s families hearts.
URL:https://onechippenham.org.uk/event/christmas-craft-sale/
LOCATION:Sutton Benger Village Hall\, Chestnut Road\, Sutton Benger\, Chippenham\, SN15 4RP
CATEGORIES:Christmas,Crafts,Fairs & Fetes
ATTACH;FMTTYPE=image/jpeg:https://onechippenham.org.uk/wp-content/uploads/2021/11/3CB3D1E2-885F-495C-9DE3-D8F8F41087CE.jpeg
END:VEVENT
BEGIN:VEVENT
DTSTART;VALUE=DATE:20201220
DTEND;VALUE=DATE:20201221
DTSTAMP:20260423T060554
CREATED:20201112T181938Z
LAST-MODIFIED:20201112T181938Z
UID:1980-1608422400-1608508799@onechippenham.org.uk
SUMMARY:A Nativity for Chippenham
DESCRIPTION:This year’s Nativity from Sheldon Road Methodist Church is planned to be a video presentation. ‘A Nativity for Chippenham’ is scheduled to be published on December 20th via both the Sheldon Road\, Methodist Church’s website and Facebook page.
URL:https://onechippenham.org.uk/event/a-nativity-for-chippenham/
LOCATION:Virtual event
CATEGORIES:Christmas,Virtual
ATTACH;FMTTYPE=image/jpeg:https://onechippenham.org.uk/wp-content/uploads/2020/11/nativity.jpg
END:VEVENT
BEGIN:VEVENT
DTSTART;TZID=Europe/London:20201205T100000
DTEND;TZID=Europe/London:20201205T150000
DTSTAMP:20260423T060554
CREATED:20200818T165131Z
LAST-MODIFIED:20201104T173322Z
UID:1356-1607162400-1607180400@onechippenham.org.uk
SUMMARY:Chippenham Craft Market
DESCRIPTION:Come and see a range of local artists and crafters displaying their work. A perfect time to buy your Christmas gifts whilst supporting local independent businesses.\nThis event is taking place on Saturday 5th December between 10am and 3pm at King Alfred Hall\, by St Andrews Church in Market place\, Chippenham\, SN15 3HT.\nVisit the Chippenham Crafters group on Facebook for more information and to see the work of the different stall holders attending the fair.\nYou can also purchase their craft directly from the Facebook group – or if you have any further questions you can email ChippenhamArt@gmail.com.
URL:https://onechippenham.org.uk/event/chippenham-craft-market-5th-december-2020/
LOCATION:King Alfred Hall\, Market Place\, Chippenham\, SN15 3HT
CATEGORIES:Arts,Christmas,Crafts,Market
ATTACH;FMTTYPE=image/jpeg:https://onechippenham.org.uk/wp-content/uploads/2020/10/Art-and-craft-fair.jpg
END:VEVENT
END:VCALENDAR