BEGIN:VCALENDAR
VERSION:2.0
PRODID:-//One Chippenham - ECPv6.15.20//NONSGML v1.0//EN
CALSCALE:GREGORIAN
METHOD:PUBLISH
X-WR-CALNAME:One Chippenham
X-ORIGINAL-URL:https://onechippenham.org.uk
X-WR-CALDESC:Events for One Chippenham
REFRESH-INTERVAL;VALUE=DURATION:PT1H
X-Robots-Tag:noindex
X-PUBLISHED-TTL:PT1H
BEGIN:VTIMEZONE
TZID:Europe/London
BEGIN:DAYLIGHT
TZOFFSETFROM:+0000
TZOFFSETTO:+0100
TZNAME:BST
DTSTART:20230326T010000
END:DAYLIGHT
BEGIN:STANDARD
TZOFFSETFROM:+0100
TZOFFSETTO:+0000
TZNAME:GMT
DTSTART:20231029T010000
END:STANDARD
BEGIN:DAYLIGHT
TZOFFSETFROM:+0000
TZOFFSETTO:+0100
TZNAME:BST
DTSTART:20240331T010000
END:DAYLIGHT
BEGIN:STANDARD
TZOFFSETFROM:+0100
TZOFFSETTO:+0000
TZNAME:GMT
DTSTART:20241027T010000
END:STANDARD
BEGIN:DAYLIGHT
TZOFFSETFROM:+0000
TZOFFSETTO:+0100
TZNAME:BST
DTSTART:20250330T010000
END:DAYLIGHT
BEGIN:STANDARD
TZOFFSETFROM:+0100
TZOFFSETTO:+0000
TZNAME:GMT
DTSTART:20251026T010000
END:STANDARD
END:VTIMEZONE
BEGIN:VEVENT
DTSTART;TZID=Europe/London:20241118T180000
DTEND;TZID=Europe/London:20241118T180000
DTSTAMP:20260424T004239
CREATED:20241114T130144Z
LAST-MODIFIED:20241120T072448Z
UID:35878-1731952800-1731952800@onechippenham.org.uk
SUMMARY:Lantern Making Workshops
DESCRIPTION:Enjoy a lantern making workshop at Chippenham Community Hub. We will be making beautiful lanterns to take to the Artisan Quarter Christmas Market. \n6pm on Monday 18th November – session for adults\n10am on Saturday 23rd November – session for children* \nPlease book your place in advance by sending an email to enquiries@chippenhamhub.co.uk including whether you are booking for the adult or children’s session. \nCost: £3.50pp (cash only please as we cannot take card payments) \n*Children to be accompanied by a parent or guardian to assist them with the activity.
URL:https://onechippenham.org.uk/event/lantern-making-workshops/2024-11-18/
LOCATION:Chippenham Community Hub
CATEGORIES:Christmas,Workshop
ATTACH;FMTTYPE=image/jpeg:https://onechippenham.org.uk/wp-content/uploads/2024/11/IMG_2623.jpeg
ORGANIZER;CN="Chippenham Community Hub":MAILTO:chippenhamcommunityecohub@gmail.com
END:VEVENT
BEGIN:VEVENT
DTSTART;TZID=Europe/London:20241120T180000
DTEND;TZID=Europe/London:20241120T210000
DTSTAMP:20260424T004239
CREATED:20241117T100300Z
LAST-MODIFIED:20241117T100437Z
UID:36066-1732125600-1732136400@onechippenham.org.uk
SUMMARY:Fondue Nights at Wine Monkey
DESCRIPTION:Fondue Wednesdays are back! Join us each Wednesday evening to enjoy delectable homemade cheese fondue and wine!\nAvailable to book from 6pm\, £20 per person (required a minimum of 24 hours in advance). \nWines purchased separately. \nVegetarian and gluten-free options available.
URL:https://onechippenham.org.uk/event/fondue-nights-at-wine-monkey/2024-11-20/
LOCATION:Wine Monkey\, 20 Borough Parade\, Chippenham\, SN15 3WL\, United Kingdom
CATEGORIES:Adults,Christmas,Food and Drink
ATTACH;FMTTYPE=image/jpeg:https://onechippenham.org.uk/wp-content/uploads/2024/11/IMG_6228.jpeg
ORGANIZER;CN="Wine Monkey":MAILTO:Thecellar@winemonkey.co.uk
END:VEVENT
BEGIN:VEVENT
DTSTART;VALUE=DATE:20241123
DTEND;VALUE=DATE:20241124
DTSTAMP:20260424T004239
CREATED:20241114T130504Z
LAST-MODIFIED:20241114T130504Z
UID:35872-1732320000-1732406399@onechippenham.org.uk
SUMMARY:Cousin Norman’s Indoor Christmas Market
DESCRIPTION:Our epic Christmas market is back! Mulled wine\, great food\, lots of kids activities and more…
URL:https://onechippenham.org.uk/event/cousin-normans-indoor-christmas-market/2024-11-23/
LOCATION:Cousin Norman’s\, 5 Union Road\, Chippenham\, SN15 1HW
CATEGORIES:Christmas,Family,Family Friendly,Food and Drink,Market
ATTACH;FMTTYPE=image/jpeg:https://onechippenham.org.uk/wp-content/uploads/2024/11/IMG_0399.jpeg
ORGANIZER;CN="Cousin Norman%E2%80%99s":MAILTO:cousin.normz@gmail.com
END:VEVENT
BEGIN:VEVENT
DTSTART;TZID=Europe/London:20241123T100000
DTEND;TZID=Europe/London:20241123T120000
DTSTAMP:20260424T004239
CREATED:20241104T105807Z
LAST-MODIFIED:20241104T105807Z
UID:35433-1732356000-1732363200@onechippenham.org.uk
SUMMARY:Pewsham WI Bazaar & Cafe
DESCRIPTION:
URL:https://onechippenham.org.uk/event/pewsham-wi-bazaar-cafe/
LOCATION:King Alfred Hall\, Market Place\, Chippenham\, SN15 3HT
CATEGORIES:Christmas
ATTACH;FMTTYPE=image/jpeg:https://onechippenham.org.uk/wp-content/uploads/2024/11/IMG_2467.jpeg
END:VEVENT
BEGIN:VEVENT
DTSTART;TZID=Europe/London:20241123T100000
DTEND;TZID=Europe/London:20241123T130000
DTSTAMP:20260424T004239
CREATED:20241114T130144Z
LAST-MODIFIED:20241120T072449Z
UID:36302-1732356000-1732366800@onechippenham.org.uk
SUMMARY:Lantern Making Workshops
DESCRIPTION:Enjoy a lantern making workshop at Chippenham Community Hub. We will be making beautiful lanterns to take to the Artisan Quarter Christmas Market. \n6pm on Monday 18th November – session for adults\n10am on Saturday 23rd November – session for children* \nPlease book your place in advance by sending an email to enquiries@chippenhamhub.co.uk including whether you are booking for the adult or children’s session. \nCost: £3.50pp (cash only please as we cannot take card payments) \n*Children to be accompanied by a parent or guardian to assist them with the activity.
URL:https://onechippenham.org.uk/event/lantern-making-workshops/2024-11-23/
LOCATION:Chippenham Community Hub
CATEGORIES:Christmas,Workshop
ATTACH;FMTTYPE=image/jpeg:https://onechippenham.org.uk/wp-content/uploads/2024/11/IMG_2623.jpeg
ORGANIZER;CN="Chippenham Community Hub":MAILTO:chippenhamcommunityecohub@gmail.com
END:VEVENT
BEGIN:VEVENT
DTSTART;TZID=Europe/London:20241123T103000
DTEND;TZID=Europe/London:20241123T140000
DTSTAMP:20260424T004239
CREATED:20241120T202108Z
LAST-MODIFIED:20241120T202108Z
UID:36337-1732357800-1732370400@onechippenham.org.uk
SUMMARY:Festive Craft Fair
DESCRIPTION:
URL:https://onechippenham.org.uk/event/festive-craft-fair/
LOCATION:North Wilts Bowls Club\, Westcroft\, Chippenham\,\, Wiltshire\, SN14 0LZ
CATEGORIES:Christmas,Crafts,Fairs & Fetes
ATTACH;FMTTYPE=image/jpeg:https://onechippenham.org.uk/wp-content/uploads/2024/11/IMG_3203.jpeg
ORGANIZER;CN="North Wilts Bowls Club":MAILTO:clubmanager@nwbowls.co.uk
END:VEVENT
BEGIN:VEVENT
DTSTART;TZID=Europe/London:20241123T113000
DTEND;TZID=Europe/London:20241123T130000
DTSTAMP:20260424T004239
CREATED:20241021T085808Z
LAST-MODIFIED:20241021T085808Z
UID:34840-1732361400-1732366800@onechippenham.org.uk
SUMMARY:Christmas Découpage Card Making
DESCRIPTION:Join Deise Amazonas for a festive morning on Saturday 23rd of November 🎄 \nCreate beautiful handmade Christmas cards for your loved ones with festive materials including luxury card\, stickers\, paint\, coloured pencils\, pastels and more! \nA suggested donation of £5 \nAll materials provided \nKandu Arts S.H.O.P\, Emery Gate Shopping Centre\nTo book please\, email: admin@kandu-arts.com or call: 01249 444009\nPop into the Kandu Arts shop and speak to one of our lovely volunteers
URL:https://onechippenham.org.uk/event/christmas-decoupage-card-making/
LOCATION:Emery Gate shopping centre\, Emery Gate shopping centre\, Chippenham\, Wiltshire\, SN15 3JP
CATEGORIES:Arts,Charity,Christmas,Community,Crafts,Workshop
ATTACH;FMTTYPE=image/png:https://onechippenham.org.uk/wp-content/uploads/2024/10/Decoupage-Workshop.png
ORGANIZER;CN="Kandu Arts Community Projects CIC":MAILTO:office@kandu-arts.com
END:VEVENT
END:VCALENDAR