BEGIN:VCALENDAR
VERSION:2.0
PRODID:-//One Chippenham - ECPv6.15.20//NONSGML v1.0//EN
CALSCALE:GREGORIAN
METHOD:PUBLISH
X-WR-CALNAME:One Chippenham
X-ORIGINAL-URL:https://onechippenham.org.uk
X-WR-CALDESC:Events for One Chippenham
REFRESH-INTERVAL;VALUE=DURATION:PT1H
X-Robots-Tag:noindex
X-PUBLISHED-TTL:PT1H
BEGIN:VTIMEZONE
TZID:Europe/London
BEGIN:DAYLIGHT
TZOFFSETFROM:+0000
TZOFFSETTO:+0100
TZNAME:BST
DTSTART:20230326T010000
END:DAYLIGHT
BEGIN:STANDARD
TZOFFSETFROM:+0100
TZOFFSETTO:+0000
TZNAME:GMT
DTSTART:20231029T010000
END:STANDARD
BEGIN:DAYLIGHT
TZOFFSETFROM:+0000
TZOFFSETTO:+0100
TZNAME:BST
DTSTART:20240331T010000
END:DAYLIGHT
BEGIN:STANDARD
TZOFFSETFROM:+0100
TZOFFSETTO:+0000
TZNAME:GMT
DTSTART:20241027T010000
END:STANDARD
BEGIN:DAYLIGHT
TZOFFSETFROM:+0000
TZOFFSETTO:+0100
TZNAME:BST
DTSTART:20250330T010000
END:DAYLIGHT
BEGIN:STANDARD
TZOFFSETFROM:+0100
TZOFFSETTO:+0000
TZNAME:GMT
DTSTART:20251026T010000
END:STANDARD
END:VTIMEZONE
BEGIN:VEVENT
DTSTART;TZID=Europe/London:20241209T193000
DTEND;TZID=Europe/London:20241209T220000
DTSTAMP:20260422T232102
CREATED:20241121T145149Z
LAST-MODIFIED:20241121T145212Z
UID:36359-1733772600-1733781600@onechippenham.org.uk
SUMMARY:Chippenham Film Club December feature
DESCRIPTION:Starring Alastair Sim as Ebenezer Scrooge\, and Michael Hordern as Marley’s ghost. Although there are innumerable adaptations of Dicken’s classic\, Scrooge is recognised as the most faithful. Scrooge isn’t just a Christmas classic\, it’s also a genuine classic of British cinema.
URL:https://onechippenham.org.uk/event/chippenham-film-club-december-feature/
LOCATION:The Reel Cinema\, 91 Marshfield Rd\, Chippenham\, SN15 1JR\, United Kingdom
CATEGORIES:Christmas,Cinema,Community,Film
ATTACH;FMTTYPE=image/jpeg:https://onechippenham.org.uk/wp-content/uploads/2024/11/Scroooge.jpg
END:VEVENT
BEGIN:VEVENT
DTSTART;TZID=Europe/London:20241210T133000
DTEND;TZID=Europe/London:20241210T144500
DTSTAMP:20260422T232102
CREATED:20241110T094442Z
LAST-MODIFIED:20241110T094523Z
UID:35743-1733837400-1733841900@onechippenham.org.uk
SUMMARY:Chippenham & Calne Good Afternoon Choir Christmas Concert
DESCRIPTION:There’s a warm Christmas welcome to join the Chippenham & Calne Good Afternoon Choir at their annual free admissions family Christmas Concert. \nWith a retiring collection for Cancer Research UK\, special guests are the children from St Paul’s Primary School. They will perform as part of the concert as well as joining the Chippenham & Calne GAC. \nMatt Finch leads the Chippenham & Calne GAC and says “Everyone is welcome and there will be plenty of chances to sing\, the Chippenham & Calne GAC starts back singing again from 1.30pm on Tuesday January 7th.” \nCome and sing in the afternoon!
URL:https://onechippenham.org.uk/event/chippenham-calne-good-afternoon-choir-christmas-concert/
LOCATION:St Paul’s Church\, Malmesbury Road\, Chippenham\, SN15 1PW\, United Kingdom
CATEGORIES:Adults,Children,Choir,Christmas,Community,Family Fun Day,Performance
ATTACH;FMTTYPE=image/jpeg:https://onechippenham.org.uk/wp-content/uploads/2024/11/IMG_2438.jpeg
END:VEVENT
BEGIN:VEVENT
DTSTART;TZID=Europe/London:20241210T190000
DTEND;TZID=Europe/London:20241210T210000
DTSTAMP:20260422T232102
CREATED:20241120T094840Z
LAST-MODIFIED:20241120T094840Z
UID:36306-1733857200-1733864400@onechippenham.org.uk
SUMMARY:Christmas Pottery Making Evening
DESCRIPTION:We’re thrilled to announce our collaboration with The Garden Restaurant Chippenham for a magical Christmas Pottery Painting Evening! \nJoin us on Tuesday 10th December and get in the mood for Christmas with Prosecco\, mince pies\, Christmas music and painting your own Christmas bauble or Christmas plate. \nGet your friends together for a night of fun at The Garden – the bar will also be open for all of your festive favourites 🥂 \nDon’t wait – spaces are limited! Head over to our website to book your tickets now and make this Christmas one to remember. \nhttps://www.thelittlepotterypaintingco.co.uk/product-page/festive-pottery-painting-evening-the-garden-chippenham \n#ChristmasParty #ChristmasPottery #ChristmasEvents #WiltshireEvents #FestiveFun #TheGardenChippenham #CreativeChristmas #BaublePainting #Chippenham #ChippenhamBusiness
URL:https://onechippenham.org.uk/event/christmas-pottery-making-evening/
LOCATION:The Garden Restaurant\, 15-17 The Bridge\, SN15 1HA
CATEGORIES:Christmas,Crafts
ATTACH;FMTTYPE=image/jpeg:https://onechippenham.org.uk/wp-content/uploads/2024/11/IMG_3103.jpeg
END:VEVENT
BEGIN:VEVENT
DTSTART;TZID=Europe/London:20241211T180000
DTEND;TZID=Europe/London:20241211T210000
DTSTAMP:20260422T232102
CREATED:20241117T100300Z
LAST-MODIFIED:20241117T100438Z
UID:36070-1733940000-1733950800@onechippenham.org.uk
SUMMARY:Fondue Nights at Wine Monkey
DESCRIPTION:Fondue Wednesdays are back! Join us each Wednesday evening to enjoy delectable homemade cheese fondue and wine!\nAvailable to book from 6pm\, £20 per person (required a minimum of 24 hours in advance). \nWines purchased separately. \nVegetarian and gluten-free options available.
URL:https://onechippenham.org.uk/event/fondue-nights-at-wine-monkey/2024-12-11/
LOCATION:Wine Monkey\, 20 Borough Parade\, Chippenham\, SN15 3WL\, United Kingdom
CATEGORIES:Adults,Christmas,Food and Drink
ATTACH;FMTTYPE=image/jpeg:https://onechippenham.org.uk/wp-content/uploads/2024/11/IMG_6228.jpeg
ORGANIZER;CN="Wine Monkey":MAILTO:Thecellar@winemonkey.co.uk
END:VEVENT
BEGIN:VEVENT
DTSTART;TZID=Europe/London:20241212T130000
DTEND;TZID=Europe/London:20241212T150000
DTSTAMP:20260422T232102
CREATED:20241119T105135Z
LAST-MODIFIED:20241119T105135Z
UID:36192-1734008400-1734015600@onechippenham.org.uk
SUMMARY:Exploring Celebrations Around the World
DESCRIPTION:Book in person at Doorway\, call the FaCL team on 01225 770478 or sign up here. \n  \n 
URL:https://onechippenham.org.uk/event/exploring-celebrations-around-the-world/
LOCATION:Doorway\, The Citadel\, Bath Road\, Chippenham\, Doorway\, The Citadel\, Bath Road\, Chippenham\, SN15 2AB
CATEGORIES:Christmas,Community,Course
ATTACH;FMTTYPE=image/jpeg:https://onechippenham.org.uk/wp-content/uploads/2024/11/Doorway-Exploring-Celebrations-Around-the-World-December-2024.jpg
ORGANIZER;CN="Family and Community Learning":MAILTO:familyandcommunitylearning@wiltshire.gov.uk
END:VEVENT
BEGIN:VEVENT
DTSTART;TZID=Europe/London:20241214T140000
DTEND;TZID=Europe/London:20241214T160000
DTSTAMP:20260422T232102
CREATED:20241007T105222Z
LAST-MODIFIED:20241007T105222Z
UID:34562-1734184800-1734192000@onechippenham.org.uk
SUMMARY:Christmas Crafternoon in aid of Mind
DESCRIPTION:Bring your baby or preschooler along for an afternoon of free-flow Christmas crafts while raising money for Mind. There will be tea\, coffee and cakes for sale PLUS each ticket holder will receive a free digital photo from Kate at Copper and Blossom Photography! \nThere will be a range of crafts around the room for you to do at your own pace during the 2 hour event. Some will involve paint\, so please bear this in mind (wear messy play clothes or bring a bib/apron if your child is likely to end up covered!). \nTickets are £12 per child and £8 for siblings to cover craft materials and to raise money for the charity. Parents/carers are free but limited to 2 adults per family.
URL:https://onechippenham.org.uk/event/christmas-crafternoon-in-aid-of-mind/
LOCATION:Pewsham Community Centre\, Lodge Road\, Chippenham\, SN5 3SY
CATEGORIES:Baby,Charity,Children,Christmas,Crafts,Family,Family Friendly,Indoor,Pre-school
ATTACH;FMTTYPE=image/png:https://onechippenham.org.uk/wp-content/uploads/2024/10/Christmas-Crafternoon-in-aid-of-Mind-A4.png
END:VEVENT
BEGIN:VEVENT
DTSTART;TZID=Europe/London:20241214T200000
DTEND;TZID=Europe/London:20241214T200000
DTSTAMP:20260422T232102
CREATED:20241112T202818Z
LAST-MODIFIED:20241112T202818Z
UID:35846-1734206400-1734206400@onechippenham.org.uk
SUMMARY:Chippenham Male Voice Choir’s Christmas Cracker Concert
DESCRIPTION:IT’S CHRISTMAS \nIt’s that time of year again everybody. \nChippenham Male Voice Choir’s Cracker Concert will be held on:- \nSaturday December 14th at St Andrew’s Church. \nNote a slightly later starting time at 8pm \nWe will be supported by:- \nChippenham Town Band and Mezzo Soprano Marie Elliott. \nTickets are £12 each. \nDon’t delay get your ticket before they are all sold out. \nAvailable from: \nCHOIR MEMBERS\, DOLMANS FURNISHERS\, HAINE & SMITH OPTICIANS\, CHIPPENHAM MUSEUM and ST. ANDREW’S CHURCH \n  \n 
URL:https://onechippenham.org.uk/event/chippenham-male-voice-choirs-christmas-cracker-concert/
LOCATION:St Andrew’s Church\, St Mary’s Street\, Chippenham\, SN15 3JN\, United Kingdom
CATEGORIES:Choir,Christmas,Concert,Music
ATTACH;FMTTYPE=image/jpeg:https://onechippenham.org.uk/wp-content/uploads/2024/11/IMG_2827.jpeg
END:VEVENT
BEGIN:VEVENT
DTSTART;TZID=Europe/London:20241215T110000
DTEND;TZID=Europe/London:20241215T170000
DTSTAMP:20260422T232102
CREATED:20241213T110332Z
LAST-MODIFIED:20241213T110332Z
UID:36727-1734260400-1734282000@onechippenham.org.uk
SUMMARY:Artisan Quarter Christmas Fayre
DESCRIPTION:🎄 Join us at the Artisan Quarter Christmas Fayre! 🎄 \nCome celebrate the season on December 15th at the Old Foundry\, across from Hathaway Retail Park in Chippenham. Discover unique handmade gifts\, enjoy festive treats\, and soak in the holiday cheer. \nSpecial appearances from BLUEY & OLAF ! \n📅 When: Sunday Dec 15th 11am – 5pm \n📍 Where: Old Foundry\, Chippenham (opposite Hathaway Retail Park) \nDon’t miss this chance to shop local and make your holiday magical! ✨
URL:https://onechippenham.org.uk/event/artisan-quarter-christmas-fayre-2/
LOCATION:The Old Foundry\, Foundry Lane\, Chippenham\, SN15 1JB
CATEGORIES:Christmas,Community,Family,Family Friendly,Fayre
ATTACH;FMTTYPE=image/jpeg:https://onechippenham.org.uk/wp-content/uploads/2024/12/IMG_0683.jpeg
END:VEVENT
END:VCALENDAR