BEGIN:VCALENDAR
VERSION:2.0
PRODID:-//One Chippenham - ECPv6.15.20//NONSGML v1.0//EN
CALSCALE:GREGORIAN
METHOD:PUBLISH
X-WR-CALNAME:One Chippenham
X-ORIGINAL-URL:https://onechippenham.org.uk
X-WR-CALDESC:Events for One Chippenham
REFRESH-INTERVAL;VALUE=DURATION:PT1H
X-Robots-Tag:noindex
X-PUBLISHED-TTL:PT1H
BEGIN:VTIMEZONE
TZID:Europe/London
BEGIN:DAYLIGHT
TZOFFSETFROM:+0000
TZOFFSETTO:+0100
TZNAME:BST
DTSTART:20230326T010000
END:DAYLIGHT
BEGIN:STANDARD
TZOFFSETFROM:+0100
TZOFFSETTO:+0000
TZNAME:GMT
DTSTART:20231029T010000
END:STANDARD
BEGIN:DAYLIGHT
TZOFFSETFROM:+0000
TZOFFSETTO:+0100
TZNAME:BST
DTSTART:20240331T010000
END:DAYLIGHT
BEGIN:STANDARD
TZOFFSETFROM:+0100
TZOFFSETTO:+0000
TZNAME:GMT
DTSTART:20241027T010000
END:STANDARD
BEGIN:DAYLIGHT
TZOFFSETFROM:+0000
TZOFFSETTO:+0100
TZNAME:BST
DTSTART:20250330T010000
END:DAYLIGHT
BEGIN:STANDARD
TZOFFSETFROM:+0100
TZOFFSETTO:+0000
TZNAME:GMT
DTSTART:20251026T010000
END:STANDARD
END:VTIMEZONE
BEGIN:VEVENT
DTSTART;TZID=Europe/London:20241216T200000
DTEND;TZID=Europe/London:20241216T223000
DTSTAMP:20260423T004817
CREATED:20241214T090754Z
LAST-MODIFIED:20241214T090754Z
UID:36735-1734379200-1734388200@onechippenham.org.uk
SUMMARY:Christmas Quiz
DESCRIPTION:Our annual Xmas quiz returns and Quizmaster Torquil is back! 8pm sharp start. Teams of 5 MAX. Get in early to find your spot. First place prizes.
URL:https://onechippenham.org.uk/event/christmas-quiz-2/
LOCATION:Old Road Tavern
CATEGORIES:Christmas,Quiz
ATTACH;FMTTYPE=image/jpeg:https://onechippenham.org.uk/wp-content/uploads/2024/12/IMG_4007-1.jpeg
END:VEVENT
BEGIN:VEVENT
DTSTART;TZID=Europe/London:20241218T180000
DTEND;TZID=Europe/London:20241218T210000
DTSTAMP:20260423T004817
CREATED:20241117T100300Z
LAST-MODIFIED:20241117T100439Z
UID:36071-1734544800-1734555600@onechippenham.org.uk
SUMMARY:Fondue Nights at Wine Monkey
DESCRIPTION:Fondue Wednesdays are back! Join us each Wednesday evening to enjoy delectable homemade cheese fondue and wine!\nAvailable to book from 6pm\, £20 per person (required a minimum of 24 hours in advance). \nWines purchased separately. \nVegetarian and gluten-free options available.
URL:https://onechippenham.org.uk/event/fondue-nights-at-wine-monkey/2024-12-18/
LOCATION:Wine Monkey\, 20 Borough Parade\, Chippenham\, SN15 3WL\, United Kingdom
CATEGORIES:Adults,Christmas,Food and Drink
ATTACH;FMTTYPE=image/jpeg:https://onechippenham.org.uk/wp-content/uploads/2024/11/IMG_6228.jpeg
ORGANIZER;CN="Wine Monkey":MAILTO:Thecellar@winemonkey.co.uk
END:VEVENT
BEGIN:VEVENT
DTSTART;TZID=Europe/London:20241218T193000
DTEND;TZID=Europe/London:20241218T223000
DTSTAMP:20260423T004817
CREATED:20241209T102606Z
LAST-MODIFIED:20241209T111603Z
UID:36676-1734550200-1734561000@onechippenham.org.uk
SUMMARY:Christmas Waverley Album Listening Club
DESCRIPTION:Fundraiser for Dorothy House Hospice at the Waverley in Chippenham. This month will have a cheesy Christmas theme and we will listen to Phil Spector’s 1963 Christmas Album (originally titled ‘A Christmas Gift For You’) along with all the many familiar Christmas singles we all know and love(?) – so if you are still hoping to avoid the annual terror of ‘Whamageddon’ you may be unlucky!
URL:https://onechippenham.org.uk/event/christmas-waverley-album-listening-club/
LOCATION:The Waverley\, Chippenham\, United Kingdom
CATEGORIES:Charity,Christmas
ATTACH;FMTTYPE=image/jpeg:https://onechippenham.org.uk/wp-content/uploads/2024/12/IMG_4010.jpeg
END:VEVENT
BEGIN:VEVENT
DTSTART;TZID=Europe/London:20241219T180000
DTEND;TZID=Europe/London:20241219T200000
DTSTAMP:20260423T004817
CREATED:20241117T100730Z
LAST-MODIFIED:20241117T100730Z
UID:36061-1734631200-1734638400@onechippenham.org.uk
SUMMARY:Corks & Carols at Wine Monkey
DESCRIPTION:Enjoy classic carols and Christmas favourites with a live quartet and piano\, all while sipping on Wine Monkey’s homemade mulled wine or other sustainable tipples. Free entry. First come\, first served.
URL:https://onechippenham.org.uk/event/corks-carols-at-wine-monkey/
LOCATION:Wine Monkey\, 20 Borough Parade\, Chippenham\, SN15 3WL\, United Kingdom
CATEGORIES:Christmas,Food and Drink,Music
ATTACH;FMTTYPE=image/jpeg:https://onechippenham.org.uk/wp-content/uploads/2024/11/6eee8d19-57d9-48d2-a626-492b1b8e74d4.jpeg
ORGANIZER;CN="Wine Monkey":MAILTO:Thecellar@winemonkey.co.uk
END:VEVENT
BEGIN:VEVENT
DTSTART;TZID=Europe/London:20241219T190000
DTEND;TZID=Europe/London:20241219T210000
DTSTAMP:20260423T004817
CREATED:20241119T191846Z
LAST-MODIFIED:20241119T191846Z
UID:36227-1734634800-1734642000@onechippenham.org.uk
SUMMARY:Christmas Quiz
DESCRIPTION:Rivo’s quiz night – Christmas edition! 7 – 9pm.\n£2 cash per person to enter. Half of the cash pot is donated to Cafe Spero food bank; half goes to the winners!\nMax team size of six people.
URL:https://onechippenham.org.uk/event/christmas-quiz/
LOCATION:The Rivo Lounge\, 2-4 The Bridge\, Chippenham\, SN151EX
CATEGORIES:Christmas,Quiz
ATTACH;FMTTYPE=image/png:https://onechippenham.org.uk/wp-content/uploads/2024/11/Christmas-Quiz-Night.png
END:VEVENT
BEGIN:VEVENT
DTSTART;TZID=Europe/London:20241220T143000
DTEND;TZID=Europe/London:20241220T163000
DTSTAMP:20260423T004817
CREATED:20241122T111524Z
LAST-MODIFIED:20241122T111524Z
UID:36403-1734705000-1734712200@onechippenham.org.uk
SUMMARY:The Fairways Retirement Village - Christmas Fayre
DESCRIPTION:Come and get in the Christmas Spirit at The Fairways Retirement Village – Christmas Fayre. \n\n\n\nFriday 20th December 14:30-16:30\n\n\n\nEveryone welcome!\n\n\n\nThe Fairways Retirement Village\nMalmesbury Road\nChippenham\nSN15 5LJ
URL:https://onechippenham.org.uk/event/the-fairways-retirement-village-christmas-fayre/
LOCATION:The Fairways Retirement Village\, Malmesbury Road\, Chippenham\, SN15 5LJ
CATEGORIES:Christmas,Fayre
ATTACH;FMTTYPE=image/jpeg:https://onechippenham.org.uk/wp-content/uploads/2024/11/IMG_2344-1.jpeg
END:VEVENT
BEGIN:VEVENT
DTSTART;TZID=Europe/London:20241221T140000
DTEND;TZID=Europe/London:20241221T150000
DTSTAMP:20260423T004817
CREATED:20241112T104123Z
LAST-MODIFIED:20241114T171447Z
UID:35789-1734789600-1734793200@onechippenham.org.uk
SUMMARY:Cars Galore Christmas Special
DESCRIPTION:Come along for our Christmas party! All the fun of a normal Cars Galore class but with an added festive touch!\n\nPresent for all children (6 months+)
URL:https://onechippenham.org.uk/event/cars-galore-christmas-special/
LOCATION:Pewsham Community Centre\, Lodge Road\, Chippenham\, SN5 3SY
CATEGORIES:Children,Christmas
ATTACH;FMTTYPE=image/jpeg:https://onechippenham.org.uk/wp-content/uploads/2024/11/462776253_122123119880397721_753762549351756114_n-2.jpeg
END:VEVENT
BEGIN:VEVENT
DTSTART;TZID=Europe/London:20241221T150000
DTEND;TZID=Europe/London:20241221T150000
DTSTAMP:20260423T004817
CREATED:20241122T090626Z
LAST-MODIFIED:20241209T200528Z
UID:36383-1734793200-1734793200@onechippenham.org.uk
SUMMARY:Carols\, Cake and a Cuppa
DESCRIPTION:On Saturday 21st December at 3pm The Village Singers will present a short afternoon concert\, giving the opportunity to escape the hectic build up to Christmas and to enjoy some favourite carols alongside some other lesser known music. \nThere will also be the chance of some audience participation! \nTickets are available on the door and cost £10 (Under 18s £5.00 and  Under 11’s  free) and will include a slice of cake or mince pie and a cuppa. \nWhat a fabulous way to start your Christmas celebrations!
URL:https://onechippenham.org.uk/event/carols-cake-and-a-cuppa/
LOCATION:St Andrew’s Church\, St Mary’s Street\, Chippenham\, SN15 3JN\, United Kingdom
CATEGORIES:Choir,Christmas,Performance,Singing
ATTACH;FMTTYPE=image/jpeg:https://onechippenham.org.uk/wp-content/uploads/2024/11/IMG_3224.jpeg
ORGANIZER;CN="The Village Singers":MAILTO:info@villagesingers.co.uk
END:VEVENT
BEGIN:VEVENT
DTSTART;TZID=Europe/London:20241222T103000
DTEND;TZID=Europe/London:20241222T111500
DTSTAMP:20260423T004817
CREATED:20240828T132911Z
LAST-MODIFIED:20240828T132911Z
UID:32596-1734863400-1734866100@onechippenham.org.uk
SUMMARY:Santa’s Christmas Cracker
DESCRIPTION:The Santa Show 2024: Santa’s Christmas Cracker – the show where every child gets a present from Santa! \nFollowing last year’s hit performances of Santa’s Christmas Wish\, Honalee Media are delighted to present their next Santa Show this Christmas… \n“It really is the most wonderful time of the year\, so it’s no surprise that everyone at the North Pole is super-excited as Christmas draws near! \nFather Christmas is busy making toys\, Dotty the Elf is decorating the Christmas tree and Dasher the Reindeer is getting presents onto his sleigh – but then they meet a lost penguin who has never even heard of Christmas… \nImpossible! But how to teach him all about Christmas? \nDare they open the door marked For Christmas Emergencies Only? \nAnd can you help unleash the magic of Christmas by pulling one of Santa’s Christmas Crackers?” \nJoin Father Christmas and friends for a fun\, festive\, musical adventure to discover the wonder of Christmas – you may even get to pull a cracker with Dotty the Elf! \nSanta’s Christmas Cracker is a 45-minute\, interactive family show\, particularly suitable for 2-8 year olds. Afterwards the adventure continues as each child gets to meet Father Christmas and receive a specially wrapped present from him – it’s the most Christmassy Christmas show ever\, HO-HO-HO! \nSongs include festive favourites Jingle Bells\, Rudolph the Red-Nosed Reindeer\, The Twelve Days Of Christmas\, Deck The Halls\, We Wish You A Merry Christmas and many more! \nwww.santashows.co.uk \n“It was perfect\, full of fun\, singing and laughter\, what better way to start the festive season!” – ‘Mummy Monster’ blog \n“The Santa Shows have become our Christmas tradition and we love them! Perfect engagement with the children\, lots of audience participation and the children were beside themselves when Father Christmas gave them a present after the show. Wonderful value for money and top rate entertainment!” – Natalie D\, mum of Rae \n“Eyes lit up full of wonder and joy – as my children walked away from receiving their gift they whispered\, “That was the real Santa!” – Families\, North Hampshire \n“A magical way to start our Christmas celebrations and a memory I shall treasure!” – Basingstoke Gazette \nTickets: Standard £11.50\, Family of Four £42 \nDuration: 45 minutes plus meet\, greet & treat \nPlease contact the venue for any access requirements. \nTickets are also available through our Box Office on 01249 446699\, from the Neeld Box Office or at the Town Hall.
URL:https://onechippenham.org.uk/event/santas-christmas-cracker-3/
LOCATION:Neeld Community & Arts Centre\, The Neeld\, High Street\, Chippenham\, Wiltshire\, SN15 3ER\, United Kingdom
CATEGORIES:Christmas
ATTACH;FMTTYPE=image/jpeg:https://onechippenham.org.uk/wp-content/uploads/2024/08/Neeld-169-Ratio-Featured-Image-12-scaled.jpg
END:VEVENT
BEGIN:VEVENT
DTSTART;TZID=Europe/London:20241222T130000
DTEND;TZID=Europe/London:20241222T134500
DTSTAMP:20260423T004817
CREATED:20240828T132705Z
LAST-MODIFIED:20240828T132705Z
UID:32605-1734872400-1734875100@onechippenham.org.uk
SUMMARY:Santa’s Christmas Cracker
DESCRIPTION:The Santa Show 2024: Santa’s Christmas Cracker – the show where every child gets a present from Santa! \nFollowing last year’s hit performances of Santa’s Christmas Wish\, Honalee Media are delighted to present their next Santa Show this Christmas… \n“It really is the most wonderful time of the year\, so it’s no surprise that everyone at the North Pole is super-excited as Christmas draws near! \nFather Christmas is busy making toys\, Dotty the Elf is decorating the Christmas tree and Dasher the Reindeer is getting presents onto his sleigh – but then they meet a lost penguin who has never even heard of Christmas… \nImpossible! But how to teach him all about Christmas? \nDare they open the door marked For Christmas Emergencies Only? \nAnd can you help unleash the magic of Christmas by pulling one of Santa’s Christmas Crackers?” \nJoin Father Christmas and friends for a fun\, festive\, musical adventure to discover the wonder of Christmas – you may even get to pull a cracker with Dotty the Elf! \nSanta’s Christmas Cracker is a 45-minute\, interactive family show\, particularly suitable for 2-8 year olds. Afterwards the adventure continues as each child gets to meet Father Christmas and receive a specially wrapped present from him – it’s the most Christmassy Christmas show ever\, HO-HO-HO! \nSongs include festive favourites Jingle Bells\, Rudolph the Red-Nosed Reindeer\, The Twelve Days Of Christmas\, Deck The Halls\, We Wish You A Merry Christmas and many more! \nwww.santashows.co.uk \n“It was perfect\, full of fun\, singing and laughter\, what better way to start the festive season!” – ‘Mummy Monster’ blog \n“The Santa Shows have become our Christmas tradition and we love them! Perfect engagement with the children\, lots of audience participation and the children were beside themselves when Father Christmas gave them a present after the show. Wonderful value for money and top rate entertainment!” – Natalie D\, mum of Rae \n“Eyes lit up full of wonder and joy – as my children walked away from receiving their gift they whispered\, “That was the real Santa!” – Families\, North Hampshire \n“A magical way to start our Christmas celebrations and a memory I shall treasure!” – Basingstoke Gazette \nTickets: Standard £11.50\, Family of Four £42 \nDuration: 45 minutes plus meet\, greet & treat \nPlease contact the venue for any access requirements. \nTickets are also available through our Box Office on 01249 446699\, from the Neeld Box Office or at the Town Hall.
URL:https://onechippenham.org.uk/event/santas-christmas-cracker-2/
LOCATION:Neeld Community & Arts Centre\, The Neeld\, High Street\, Chippenham\, Wiltshire\, SN15 3ER\, United Kingdom
CATEGORIES:Christmas
ATTACH;FMTTYPE=image/jpeg:https://onechippenham.org.uk/wp-content/uploads/2024/08/Neeld-169-Ratio-Featured-Image-12-scaled.jpg
END:VEVENT
BEGIN:VEVENT
DTSTART;TZID=Europe/London:20241222T153000
DTEND;TZID=Europe/London:20241222T161500
DTSTAMP:20260423T004817
CREATED:20240828T132256Z
LAST-MODIFIED:20240828T132524Z
UID:32614-1734881400-1734884100@onechippenham.org.uk
SUMMARY:Santa’s Christmas Cracker
DESCRIPTION:The Santa Show 2024: Santa’s Christmas Cracker – the show where every child gets a present from Santa! \nFollowing last year’s hit performances of Santa’s Christmas Wish\, Honalee Media are delighted to present their next Santa Show this Christmas… \n“It really is the most wonderful time of the year\, so it’s no surprise that everyone at the North Pole is super-excited as Christmas draws near! \nFather Christmas is busy making toys\, Dotty the Elf is decorating the Christmas tree and Dasher the Reindeer is getting presents onto his sleigh – but then they meet a lost penguin who has never even heard of Christmas… \nImpossible! But how to teach him all about Christmas? \nDare they open the door marked For Christmas Emergencies Only? \nAnd can you help unleash the magic of Christmas by pulling one of Santa’s Christmas Crackers?” \nJoin Father Christmas and friends for a fun\, festive\, musical adventure to discover the wonder of Christmas – you may even get to pull a cracker with Dotty the Elf! \nSanta’s Christmas Cracker is a 45-minute\, interactive family show\, particularly suitable for 2-8 year olds. Afterwards the adventure continues as each child gets to meet Father Christmas and receive a specially wrapped present from him – it’s the most Christmassy Christmas show ever\, HO-HO-HO! \nSongs include festive favourites Jingle Bells\, Rudolph the Red-Nosed Reindeer\, The Twelve Days Of Christmas\, Deck The Halls\, We Wish You A Merry Christmas and many more! \nwww.santashows.co.uk \n“It was perfect\, full of fun\, singing and laughter\, what better way to start the festive season!” – ‘Mummy Monster’ blog \n“The Santa Shows have become our Christmas tradition and we love them! Perfect engagement with the children\, lots of audience participation and the children were beside themselves when Father Christmas gave them a present after the show. Wonderful value for money and top rate entertainment!” – Natalie D\, mum of Rae \n“Eyes lit up full of wonder and joy – as my children walked away from receiving their gift they whispered\, “That was the real Santa!” – Families\, North Hampshire \n“A magical way to start our Christmas celebrations and a memory I shall treasure!” – Basingstoke Gazette \nTickets: Standard £11.50\, Family of Four £42 \nDuration: 45 minutes plus meet\, greet & treat \nPlease contact the venue for any access requirements. \nTickets are also available through our Box Office on 01249 446699\, from the Neeld Box Office or at the Town Hall.
URL:https://onechippenham.org.uk/event/santas-christmas-cracker/
LOCATION:Neeld Community & Arts Centre\, The Neeld\, High Street\, Chippenham\, Wiltshire\, SN15 3ER\, United Kingdom
CATEGORIES:Christmas
ATTACH;FMTTYPE=image/jpeg:https://onechippenham.org.uk/wp-content/uploads/2024/08/Neeld-169-Ratio-Featured-Image-12-scaled.jpg
END:VEVENT
BEGIN:VEVENT
DTSTART;TZID=Europe/London:20241222T190000
DTEND;TZID=Europe/London:20241222T210000
DTSTAMP:20260423T004817
CREATED:20241119T202341Z
LAST-MODIFIED:20241119T202341Z
UID:36237-1734894000-1734901200@onechippenham.org.uk
SUMMARY:Christmas Drag Bingo
DESCRIPTION:Sheila Tackya returns for another Drag Bingo night at Rivo Lounge! \n£1 for a strip – £5 for a page – £2 charity donation for a dabber.
URL:https://onechippenham.org.uk/event/christmas-drag-bingo/
LOCATION:The Rivo Lounge\, 2-4 The Bridge\, Chippenham\, SN151EX
CATEGORIES:Bingo,Christmas
ATTACH;FMTTYPE=image/png:https://onechippenham.org.uk/wp-content/uploads/2024/11/Christmas-Drag-Bingo.png
END:VEVENT
END:VCALENDAR