BEGIN:VCALENDAR
VERSION:2.0
PRODID:-//One Chippenham - ECPv6.15.20//NONSGML v1.0//EN
CALSCALE:GREGORIAN
METHOD:PUBLISH
X-WR-CALNAME:One Chippenham
X-ORIGINAL-URL:https://onechippenham.org.uk
X-WR-CALDESC:Events for One Chippenham
REFRESH-INTERVAL;VALUE=DURATION:PT1H
X-Robots-Tag:noindex
X-PUBLISHED-TTL:PT1H
BEGIN:VTIMEZONE
TZID:Europe/London
BEGIN:DAYLIGHT
TZOFFSETFROM:+0000
TZOFFSETTO:+0100
TZNAME:BST
DTSTART:20230326T010000
END:DAYLIGHT
BEGIN:STANDARD
TZOFFSETFROM:+0100
TZOFFSETTO:+0000
TZNAME:GMT
DTSTART:20231029T010000
END:STANDARD
BEGIN:DAYLIGHT
TZOFFSETFROM:+0000
TZOFFSETTO:+0100
TZNAME:BST
DTSTART:20240331T010000
END:DAYLIGHT
BEGIN:STANDARD
TZOFFSETFROM:+0100
TZOFFSETTO:+0000
TZNAME:GMT
DTSTART:20241027T010000
END:STANDARD
BEGIN:DAYLIGHT
TZOFFSETFROM:+0000
TZOFFSETTO:+0100
TZNAME:BST
DTSTART:20250330T010000
END:DAYLIGHT
BEGIN:STANDARD
TZOFFSETFROM:+0100
TZOFFSETTO:+0000
TZNAME:GMT
DTSTART:20251026T010000
END:STANDARD
END:VTIMEZONE
BEGIN:VEVENT
DTSTART;TZID=Europe/London:20240611T100000
DTEND;TZID=Europe/London:20240611T120000
DTSTAMP:20260421T070416
CREATED:20240521T133203Z
LAST-MODIFIED:20240521T133203Z
UID:30514-1718100000-1718107200@onechippenham.org.uk
SUMMARY:Trio of Free Confidence and Wellbeing Courses at Chippenham Community Hub
DESCRIPTION:Free Family and Community Learning courses at Chippenham Community Hub. Take little steps today for a happier tomorrow. \nExploring Positive Emotions  – Tuesday 11 June 10am – 12pm\nExplore Feelings. Manage negative emotions. Focus on the positive things in life. \nExploring Confidence in Communication – Tuesday 18 June 10am – 12pm\nFeel more confident talking about your needs and sharing feelings. \nExploring My Skills – Tuesday 25 June 10am – 12pm\nKnow your strengths and skills to choose goals and plan for the future. \nBooking closes one week before the course and eligibility criteria apply. Contact familyandcommunitylearning@wiltshire.gov.uk or call the team on 01225 770478 \n 
URL:https://onechippenham.org.uk/event/trio-of-free-confidence-and-wellbeing-courses-at-chippenham-community-hub/2024-06-11/
LOCATION:Chippenham Community Hub
CATEGORIES:Adults,Class,Community,Course,Support
ATTACH;FMTTYPE=image/png:https://onechippenham.org.uk/wp-content/uploads/2024/05/Exploring-courses.png
ORGANIZER;CN="Family and Community Learning":MAILTO:familyandcommunitylearning@wiltshire.gov.uk
END:VEVENT
END:VCALENDAR