BEGIN:VCALENDAR
VERSION:2.0
PRODID:-//One Chippenham - ECPv6.15.20//NONSGML v1.0//EN
CALSCALE:GREGORIAN
METHOD:PUBLISH
X-ORIGINAL-URL:https://onechippenham.org.uk
X-WR-CALDESC:Events for One Chippenham
REFRESH-INTERVAL;VALUE=DURATION:PT1H
X-Robots-Tag:noindex
X-PUBLISHED-TTL:PT1H
BEGIN:VTIMEZONE
TZID:Europe/London
BEGIN:DAYLIGHT
TZOFFSETFROM:+0000
TZOFFSETTO:+0100
TZNAME:BST
DTSTART:20230326T010000
END:DAYLIGHT
BEGIN:STANDARD
TZOFFSETFROM:+0100
TZOFFSETTO:+0000
TZNAME:GMT
DTSTART:20231029T010000
END:STANDARD
BEGIN:DAYLIGHT
TZOFFSETFROM:+0000
TZOFFSETTO:+0100
TZNAME:BST
DTSTART:20240331T010000
END:DAYLIGHT
BEGIN:STANDARD
TZOFFSETFROM:+0100
TZOFFSETTO:+0000
TZNAME:GMT
DTSTART:20241027T010000
END:STANDARD
BEGIN:DAYLIGHT
TZOFFSETFROM:+0000
TZOFFSETTO:+0100
TZNAME:BST
DTSTART:20250330T010000
END:DAYLIGHT
BEGIN:STANDARD
TZOFFSETFROM:+0100
TZOFFSETTO:+0000
TZNAME:GMT
DTSTART:20251026T010000
END:STANDARD
END:VTIMEZONE
BEGIN:VEVENT
DTSTART;TZID=Europe/London:20241011T200000
DTEND;TZID=Europe/London:20241011T220000
DTSTAMP:20260425T164223
CREATED:20231006T100401Z
LAST-MODIFIED:20231218T115627Z
UID:15856-1728676800-1728684000@onechippenham.org.uk
SUMMARY:Mark Watson: Search
DESCRIPTION:Mark Watson’s 12-year-old son has just got a phone. His 70-year-old dad has been through the most frightening experience of his life. Both a dad and a kid himself\, around the midpoint of his life\, the Taskmaster star and multiple award-winner – now also famous as one-third of YouTube cult sensation No More Jockeys – returns. \nHe’ll consider the search for meaning that we’re all on\, with or without Google. There’ll be a lot of jokes\, and a show that’s different every night.\n★★★★★ ‘A genius-level comic doing what he does best… it’s magical to watch and just so funny’ Time Out Melbourne \nAge: 14+
URL:https://onechippenham.org.uk/event/mark-watson-search/
LOCATION:Neeld Community & Arts Centre\, The Neeld\, High Street\, Chippenham\, Wiltshire\, SN15 3ER\, United Kingdom
CATEGORIES:Comedy
ATTACH;FMTTYPE=image/jpeg:https://onechippenham.org.uk/wp-content/uploads/2023/10/Mark-Watson-2024.jpg
END:VEVENT
END:VCALENDAR