BEGIN:VCALENDAR
VERSION:2.0
PRODID:-//One Chippenham - ECPv6.15.20//NONSGML v1.0//EN
CALSCALE:GREGORIAN
METHOD:PUBLISH
X-ORIGINAL-URL:https://onechippenham.org.uk
X-WR-CALDESC:Events for One Chippenham
REFRESH-INTERVAL;VALUE=DURATION:PT1H
X-Robots-Tag:noindex
X-PUBLISHED-TTL:PT1H
BEGIN:VTIMEZONE
TZID:Europe/London
BEGIN:DAYLIGHT
TZOFFSETFROM:+0000
TZOFFSETTO:+0100
TZNAME:BST
DTSTART:20220327T010000
END:DAYLIGHT
BEGIN:STANDARD
TZOFFSETFROM:+0100
TZOFFSETTO:+0000
TZNAME:GMT
DTSTART:20221030T010000
END:STANDARD
BEGIN:DAYLIGHT
TZOFFSETFROM:+0000
TZOFFSETTO:+0100
TZNAME:BST
DTSTART:20230326T010000
END:DAYLIGHT
BEGIN:STANDARD
TZOFFSETFROM:+0100
TZOFFSETTO:+0000
TZNAME:GMT
DTSTART:20231029T010000
END:STANDARD
BEGIN:DAYLIGHT
TZOFFSETFROM:+0000
TZOFFSETTO:+0100
TZNAME:BST
DTSTART:20240331T010000
END:DAYLIGHT
BEGIN:STANDARD
TZOFFSETFROM:+0100
TZOFFSETTO:+0000
TZNAME:GMT
DTSTART:20241027T010000
END:STANDARD
END:VTIMEZONE
BEGIN:VEVENT
DTSTART;TZID=Europe/London:20230610T180000
DTEND;TZID=Europe/London:20230610T210000
DTSTAMP:20260425T230434
CREATED:20230519T133716Z
LAST-MODIFIED:20230519T134430Z
UID:13543-1686420000-1686430800@onechippenham.org.uk
SUMMARY:Talking Climate Justice
DESCRIPTION:You are warmly invited to an evening of debate\, discussion\, information sharing and community action on the climate crisis. \nVenue: St Paul’s Church\, Malmesbury Road\, Chippenham\, SN15 1PS \nDate: 10th June 2023 \nTimes: 6pm – 9pm \nBook Free tickets before the 26th May from:  \nhttps://www.eventbrite.co.uk/e/talking-climate-justice-tickets-620550211387 \nDinner and refreshments: Will be sustainably sourced. \nPlease walk or cycle to the event if you are able. We look forward to seeing you. \n\n\nKeynote speakers:  \nFaith Ward\, attending in a personal capacity but roles advocating on action on climate change include membership of the Ethical Investment Advisory Group for the Church of England\, and Chair of the Institutional Investors Group for Climate Change. \nYvonne Penn\, Christian Aid Church Engagement Officer. \n 
URL:https://onechippenham.org.uk/event/talking-climate-justice/
LOCATION:St Paul’s Church\, Malmesbury Road\, Chippenham\, SN15 1PW\, United Kingdom
CATEGORIES:Adults,Church,Community,Talks & lectures
ATTACH;FMTTYPE=image/png:https://onechippenham.org.uk/wp-content/uploads/2023/05/Talking-climate-tour.png
END:VEVENT
BEGIN:VEVENT
DTSTART;TZID=Europe/London:20230614T190000
DTEND;TZID=Europe/London:20230614T220000
DTSTAMP:20260425T230434
CREATED:20230601T061928Z
LAST-MODIFIED:20230601T081132Z
UID:11781-1686769200-1686780000@onechippenham.org.uk
SUMMARY:Runny Snotts Open Mic
DESCRIPTION:Runny Snotts acoustic session – the 2nd Wednesday of every month. \nOPEN MIC \nCome join us\, bring a song and an instrument if you play one and lets make some music. \nIf you don’t sing or play why not have a drink and listen to some songs. \nLook forward to seeing you there. \n 
URL:https://onechippenham.org.uk/event/runny-snotts-open-mic/2023-06-14/
LOCATION:The Three Crowns\, 18 The Causeway\, Chippenham\, Wiltshire\, SN15 3DB\, United Kingdom
CATEGORIES:Arts,Community,Gig,Live band,Music,Performing Arts,Singing,Young adults
ATTACH;FMTTYPE=image/jpeg:https://onechippenham.org.uk/wp-content/uploads/2023/02/IMG-20230215-WA0015.jpg
ORGANIZER;CN="Runny Snotts":MAILTO:runnysnott@gmail.com
END:VEVENT
BEGIN:VEVENT
DTSTART;TZID=Europe/London:20230624T100000
DTEND;TZID=Europe/London:20230624T163000
DTSTAMP:20260425T230434
CREATED:20230523T183345Z
LAST-MODIFIED:20230523T183345Z
UID:13618-1687600800-1687624200@onechippenham.org.uk
SUMMARY:Armed Forces Day
DESCRIPTION:Show your support for the men and women who make up the Armed Forces community. Join us at the REME Museum to find out more about the REME Corps and learn from serving personnel themselves! \nWe’ll be joined by Soldiers and Officers from 5 Force Support Battalion and 8 Training Battalion\, as well as the Corps Engagement Team. \nTry your hand at some STEM-focussed training aids used by new recruits at MOD Lyneham.\nDiscover ‘Recovery Through Time’ as we display recovery vehicles from our Reserve Collection from World War Two to today.\nInteract with serving personnel and discover their stories and why they serve.
URL:https://onechippenham.org.uk/event/armed-forces-day/
LOCATION:REME Museum\, Calne Road\, MOD Lyneham\, Chippenham\, Wiltshire\, SN15 4XX\, United Kingdom
CATEGORIES:Community,Demonstrations,Family Friendly,Heritage,Museum
ATTACH;FMTTYPE=image/jpeg:https://onechippenham.org.uk/wp-content/uploads/2023/05/1F9651C0-1E18-45D8-A510-A942730BB321.jpeg
ORGANIZER;CN="REME Museum":MAILTO:enquiries@rememuseum.org.uk
END:VEVENT
BEGIN:VEVENT
DTSTART;TZID=Europe/London:20230624T150000
DTEND;TZID=Europe/London:20230624T170000
DTSTAMP:20260425T230434
CREATED:20230609T095941Z
LAST-MODIFIED:20230609T095941Z
UID:13708-1687618800-1687626000@onechippenham.org.uk
SUMMARY:RCCG Overcomers House New Building Opening
DESCRIPTION:The RCCG Overcomers House Chippenham church is opening its new building with the Rt Hon Michelle Donelan MP and Roy Crowne. The church was previously renting the Rotary Hall on Station Road. Everyone is welcome!
URL:https://onechippenham.org.uk/event/rccg-overcomers-house-new-building-opening/
LOCATION:161a London Road\, Chippenham SN15 3AW\, 161a London Road\, Chippenham\, Wiltshire\, SN15 3AW\, United Kingdom
CATEGORIES:Charity,Choir,Church,Community,Family,Support group
ATTACH;FMTTYPE=image/jpeg:https://onechippenham.org.uk/wp-content/uploads/2023/06/PHOTO-2023-06-02-10-29-24.jpg
ORGANIZER;CN="Pastor Rufus Araoye":MAILTO:info@rccgchippenham.org.uk
END:VEVENT
END:VCALENDAR