BEGIN:VCALENDAR
VERSION:2.0
PRODID:-//One Chippenham - ECPv6.15.20//NONSGML v1.0//EN
CALSCALE:GREGORIAN
METHOD:PUBLISH
X-ORIGINAL-URL:https://onechippenham.org.uk
X-WR-CALDESC:Events for One Chippenham
REFRESH-INTERVAL;VALUE=DURATION:PT1H
X-Robots-Tag:noindex
X-PUBLISHED-TTL:PT1H
BEGIN:VTIMEZONE
TZID:Europe/London
BEGIN:DAYLIGHT
TZOFFSETFROM:+0000
TZOFFSETTO:+0100
TZNAME:BST
DTSTART:20220327T010000
END:DAYLIGHT
BEGIN:STANDARD
TZOFFSETFROM:+0100
TZOFFSETTO:+0000
TZNAME:GMT
DTSTART:20221030T010000
END:STANDARD
BEGIN:DAYLIGHT
TZOFFSETFROM:+0000
TZOFFSETTO:+0100
TZNAME:BST
DTSTART:20230326T010000
END:DAYLIGHT
BEGIN:STANDARD
TZOFFSETFROM:+0100
TZOFFSETTO:+0000
TZNAME:GMT
DTSTART:20231029T010000
END:STANDARD
BEGIN:DAYLIGHT
TZOFFSETFROM:+0000
TZOFFSETTO:+0100
TZNAME:BST
DTSTART:20240331T010000
END:DAYLIGHT
BEGIN:STANDARD
TZOFFSETFROM:+0100
TZOFFSETTO:+0000
TZNAME:GMT
DTSTART:20241027T010000
END:STANDARD
END:VTIMEZONE
BEGIN:VEVENT
DTSTART;TZID=Europe/London:20230706T190000
DTEND;TZID=Europe/London:20230706T210000
DTSTAMP:20260425T163416
CREATED:20230630T055640Z
LAST-MODIFIED:20230630T055801Z
UID:14103-1688670000-1688677200@onechippenham.org.uk
SUMMARY:Talk Club
DESCRIPTION:Talk Club is a talking and listening club for men (18+}\, offering talking groups\, sports groups and therapy to help keep you mentally fit. \nIt’s a simple medicine that starts with asking – How are you? Out of 10? \nBy checking in regularly with yourself and other men\, Talk Club creates a community that we are all missing in today’s world. \nSo\, what happens in a Talk Club talking group? \nThere are no therapists\, no couches and no judgement – just regular men sitting in a private and safe space\,listening and talking. \nWe start with how each man feels out of 10 and share why. We then talk about what we are grateful for and what we are going\nto do for our mental fitness this week. \nIt’s a beautifully simple medicine that we rarely give ourselves\, the ability to share how we really feel. \nChippenham Session – fortnightly on Thursdays from  7 – 9pm at Grounded. \nFind out more – https://talkclub.org \nTALK CLUB is a registered charity in the United Kingdom (1194033) \n 
URL:https://onechippenham.org.uk/event/talk-club/
LOCATION:Cafe Grounded\, 1 Bath Rd\, Chippenham\, Wiltshire\, SN15 2BB\, United Kingdom
CATEGORIES:Adults,Community
ATTACH;FMTTYPE=image/png:https://onechippenham.org.uk/wp-content/uploads/2023/06/72478ED7-7523-472F-A41D-59EF315B98E2.png
END:VEVENT
BEGIN:VEVENT
DTSTART;TZID=Europe/London:20230722T100000
DTEND;TZID=Europe/London:20230722T140000
DTSTAMP:20260425T163416
CREATED:20230707T134114Z
LAST-MODIFIED:20230707T134416Z
UID:14181-1690020000-1690034400@onechippenham.org.uk
SUMMARY:Bristol Avon Rivers Trust - Yellow Fish
DESCRIPTION:Only rain down the drain! \nDid you know that surface road drains lead directly into your local watercourse? This means that anything other than rain poured down the drain\, such as litter\, car oils\, detergents\, weed killers or wastewater can harm river health and its wildlife! \nBristol Avon River Trust (BART) are running an exciting Yellow Fish Campaign in the local area to help raise awareness of the impacts of human activity on water quality in the Bristol Avon. We are hosting a series of Yellowfish events with the local community\, which involves putting up posters to spread the message and painting yellow fish next to surface drains to remind the public that what enters the drain\, flows directly into the nearby river or stream. \nVolunteers will use stencils and chalk-based yellow spray paint to mark a yellow fish shape (a great family friendly activity!) \nBristol Avon Rivers Trust: is a charity which delivers education\, land and river management advice and practical river restoration work throughout the Bristol Avon catchment. BART is working in partnership with Wessex Water through the Community Connectors project (https://www.wessexwater.co.uk/visit-and-learn/community-connectors). Together\, we aim to re-connect the community with our river and to benefit local people and wildlife. \nSign up via our Eventbrite page: https://www.eventbrite.co.uk/e/yellow-fish-event-tickets-647968520287
URL:https://onechippenham.org.uk/event/bristol-avon-rivers-trust-yellow-fish/
LOCATION:Riverside Drive\, Monkton Park\, Riverside Drive\, Chippenham\, Wiltshire\, SN15 3NU\, United Kingdom
CATEGORIES:Community,Education,Environment,Family Friendly,Family Fun Day,Nature,Outdoor,Wildlife/nature
ATTACH;FMTTYPE=image/png:https://onechippenham.org.uk/wp-content/uploads/2023/07/Yellowfish-Chippenham-social-media-post.png
ORGANIZER;CN="Wessex Water":MAILTO:community@wessexwater.co.uk
END:VEVENT
BEGIN:VEVENT
DTSTART;TZID=Europe/London:20230724T193000
DTEND;TZID=Europe/London:20230724T220000
DTSTAMP:20260425T163416
CREATED:20230717T091216Z
LAST-MODIFIED:20230717T091216Z
UID:14354-1690227000-1690236000@onechippenham.org.uk
SUMMARY:Chippenham Film Club's bonus July feature
DESCRIPTION:Set over one summer\, The Florida Project follows precocious six-year-old Moonee as she courts mischief and adventure with her ragtag playmates and bonds with her rebellious but caring mother\, all while living in the shadows of Walt Disney World. \nThe Florida Project is screening on Monday 24th\, tickets are available through the club’s website\, please arrive promptly as all performances start at 7.30pm.
URL:https://onechippenham.org.uk/event/chippenham-film-clubs-bonus-july-feature/
LOCATION:The Reel Cinema\, 91 Marshfield Rd\, Chippenham\, SN15 1JR\, United Kingdom
CATEGORIES:Cinema,Community,Film
ATTACH;FMTTYPE=image/jpeg:https://onechippenham.org.uk/wp-content/uploads/2023/07/TheFloridaProject-quadposter.jpg
END:VEVENT
BEGIN:VEVENT
DTSTART;TZID=Europe/London:20230725T160000
DTEND;TZID=Europe/London:20230725T180000
DTSTAMP:20260425T163416
CREATED:20230717T091436Z
LAST-MODIFIED:20230717T091436Z
UID:14330-1690300800-1690308000@onechippenham.org.uk
SUMMARY:Community consultation
DESCRIPTION:Doorway is consulting with the community on its plans to improve an area of land between Queen’s Square and Baydons Lane in Chippenham. Local residents and interested parties are invited to a consultation on the proposals on Tuesday 25th July from 4pm – 6pm at The Citadel\, Bath Road\, Chippenham\, SN15 2AB. \nPlans include creating an area of garden and the replanting of fruit trees. Full details and drawings will be available to view at the consultation event\, and staff and trustees of Doorway will be there to answer any questions.
URL:https://onechippenham.org.uk/event/community-consultation/
LOCATION:Doorway\, The Citadel\, Bath Road\, Chippenham\, Doorway\, The Citadel\, Bath Road\, Chippenham\, SN15 2AB
CATEGORIES:Community
ATTACH;FMTTYPE=image/png:https://onechippenham.org.uk/wp-content/uploads/2023/07/Doorway-fruit-trees-1.png
ORGANIZER;CN="Doorway":MAILTO:info@doorwayproject.org.uk
END:VEVENT
END:VCALENDAR