BEGIN:VCALENDAR
VERSION:2.0
PRODID:-//One Chippenham - ECPv6.15.20//NONSGML v1.0//EN
CALSCALE:GREGORIAN
METHOD:PUBLISH
X-ORIGINAL-URL:https://onechippenham.org.uk
X-WR-CALDESC:Events for One Chippenham
REFRESH-INTERVAL;VALUE=DURATION:PT1H
X-Robots-Tag:noindex
X-PUBLISHED-TTL:PT1H
BEGIN:VTIMEZONE
TZID:Europe/London
BEGIN:DAYLIGHT
TZOFFSETFROM:+0000
TZOFFSETTO:+0100
TZNAME:BST
DTSTART:20220327T010000
END:DAYLIGHT
BEGIN:STANDARD
TZOFFSETFROM:+0100
TZOFFSETTO:+0000
TZNAME:GMT
DTSTART:20221030T010000
END:STANDARD
BEGIN:DAYLIGHT
TZOFFSETFROM:+0000
TZOFFSETTO:+0100
TZNAME:BST
DTSTART:20230326T010000
END:DAYLIGHT
BEGIN:STANDARD
TZOFFSETFROM:+0100
TZOFFSETTO:+0000
TZNAME:GMT
DTSTART:20231029T010000
END:STANDARD
BEGIN:DAYLIGHT
TZOFFSETFROM:+0000
TZOFFSETTO:+0100
TZNAME:BST
DTSTART:20240331T010000
END:DAYLIGHT
BEGIN:STANDARD
TZOFFSETFROM:+0100
TZOFFSETTO:+0000
TZNAME:GMT
DTSTART:20241027T010000
END:STANDARD
END:VTIMEZONE
BEGIN:VEVENT
DTSTART;VALUE=DATE:20230805
DTEND;VALUE=DATE:20230814
DTSTAMP:20260424T025340
CREATED:20230708T194451Z
LAST-MODIFIED:20230728T065033Z
UID:14269-1691193600-1691971199@onechippenham.org.uk
SUMMARY:Cepen Park South Emoji Trail
DESCRIPTION:Join us from the 5th to 13th of August for this year’s Cepen Park South trail – an emoji themed one. \nAt each stop there will be an emoji clue\, solve the clue to find a book or a film. For example\, 🦁👑 = Lion King. \nThis year’s charity of choice is Dorothy House\, a fantastic local charity. We hope we can raise lot of money for them. \nOur fundraising page can be found here… https://www.justgiving.com/page/cps-emoji-trail-2023
URL:https://onechippenham.org.uk/event/cepen-park-south-emoji-trail/
LOCATION:Wiltshire
CATEGORIES:Children,Community,Family,Family Friendly,Trail
ATTACH;FMTTYPE=image/jpeg:https://onechippenham.org.uk/wp-content/uploads/2023/07/29B8C57A-B198-4C5B-A6A9-35B10023E03B.jpeg
END:VEVENT
BEGIN:VEVENT
DTSTART;TZID=Europe/London:20230806T100000
DTEND;TZID=Europe/London:20230806T170000
DTSTAMP:20260424T025340
CREATED:20230729T233118Z
LAST-MODIFIED:20230730T061807Z
UID:14531-1691316000-1691341200@onechippenham.org.uk
SUMMARY:John Cole’s Park Centenary Celebrations
DESCRIPTION:A “Roaring 20s” themed event will take place in John Coles Park with lots of fun and free activities for all the family to enjoy. You are encouraged to dress in the attire of this time period if you would like to. \nSome of the attractions will include: \n\nTraditional carousel and swing boats\nChloe’s Mobile Farm\nClare’s Circus activities\n1920’s props for dressing up selfies\nAtwell Wilson will be bringing a 1920’s car of the day\nBritish Martial Arts demonstrations and opportunity to try out\nTown Mayor’s Tombola\nParticipate in some sporting activities\nChippenham Museum will bring oral history recording equipment along to record memories of the park to connect with the photographic project.\n\nThe programme for the day includes: \n\nChippenham Hospital Radio various slots between 10am to 5pm\nIvan Andre Trumpet Player 11am to 1pm\nAllsorts Choir 1.30pm to 2pm\nTrip for Biscuits Band 2pm to 2.30pm\nDance Academy 2.30pm to 2.45pm\nTrip for Biscuits Band 2.45pm to 3.15pm\nTime Capsule Event in the Sensory Garden 3.15pm – 3.30pm\nTrip for Biscuits Band 3.30pm to 4pm\n\nThe kiosk and an additional unit will be open for refreshments\, and there will be a food court with offers from The Rolling Stoves\, The Pasty Cove and Ranch Pizzas.  Please feel free to bring your picnics\, blankets and chairs to be able to sit and enjoy the entertainment. \nPlease note: For this event\, the car park in John Coles Park will be reserved for blue badge holders.  If you are able\, please use public transport or walk to the park. If you are driving\, please park respectfully to local residents who live in the vacinity of the park. Thank you. \n 
URL:https://onechippenham.org.uk/event/john-coles-park-centenary-celebrations-2/
LOCATION:John Coles Park\, John Coles Park\, Chippenham\, SN15 1NZ\, United Kingdom
CATEGORIES:Circus,Community,Dance,Family,Family Friendly,Music
ATTACH;FMTTYPE=image/jpeg:https://onechippenham.org.uk/wp-content/uploads/2023/07/3A99920A-0725-4677-9DD7-0A90267B970A.jpeg
END:VEVENT
BEGIN:VEVENT
DTSTART;TZID=Europe/London:20230814T080000
DTEND;TZID=Europe/London:20230814T170000
DTSTAMP:20260424T025340
CREATED:20230814T104556Z
LAST-MODIFIED:20230814T104556Z
UID:14688-1692000000-1692032400@onechippenham.org.uk
SUMMARY:Community Dodgeball Tournament
DESCRIPTION:Chippenham Chargers Dodgeball Club are hosting a Community Dodgeball Tournament on the 7th September at 7pm in the Chippenham Sports Dome\, with Awards\, Pizza and Drinks after. NO EXPERIENCE REQUIRED! Just register as a team or individual below and pay the entry.\n\n\nAll money raised will be donated to Mind\, enabling them to continue to support individuals with their mental health.\n\n\n\nRegistration:\nhttps://surveyheart.com/form/64b43b3bdd0ead1182d1f15a\n\n\n\nIndividual donation:\nhttps://chippenham-chargers-dodgeball-club.sumupstore.com…\n\n\n\nTeam donation:\nhttps://chippenham-chargers-dodgeball-club.sumupstore.com\n\n\n\n#chippenhamsportsclub #chippenham #Dodgeball #wiltshire  #mind #charityevent #charity
URL:https://onechippenham.org.uk/event/community-dodgeball-tournament/
LOCATION:Wiltshire
CATEGORIES:Adults,Community,Competition,Sport
ATTACH;FMTTYPE=image/jpeg:https://onechippenham.org.uk/wp-content/uploads/2023/08/363811539_762180152581983_3459857520436240350_n.jpg
ORGANIZER;CN="Chippenham Chargers Dodgeball Club":MAILTO:chippenhamchargers@gmail.com
END:VEVENT
BEGIN:VEVENT
DTSTART;TZID=Europe/London:20230814T193000
DTEND;TZID=Europe/London:20230814T223000
DTSTAMP:20260424T025340
CREATED:20230729T224634Z
LAST-MODIFIED:20230729T224634Z
UID:14524-1692041400-1692052200@onechippenham.org.uk
SUMMARY:Chippenham Film Club's August feature Portrait of a Lady on Fire
DESCRIPTION:At the end of the 18th century\, on an isolated island in Brittany\, a female painter is obliged to paint a wedding portrait of a young woman. \nStarring Noémie Merlant and Adèle Haenel\, the film is a beautiful\, almost timeless study of power and passion in which observed becomes observer. \nSelected for the Palme d’Or at Cannes in 2019\, it won the Queer Palm\, becoming the first film directed by a woman to win the award\, Celine Sciamma also won the award for best screenplay at Cannes. \nPortrait of a Lady on Fire was voted the 30th greatest film of all time in the Sight & Sound 2022 critics’ poll. \nAll Chippenham Film Club events are open to members and non-members.
URL:https://onechippenham.org.uk/event/chippenham-film-clubs-august-feature-portrait-of-a-lady-on-fire/
LOCATION:The Reel Cinema\, 91 Marshfield Rd\, Chippenham\, SN15 1JR\, United Kingdom
CATEGORIES:Cinema,Community,Film
ATTACH;FMTTYPE=image/jpeg:https://onechippenham.org.uk/wp-content/uploads/2023/07/2019-portrait-of-a-lady-on-fire-poster.jpg
END:VEVENT
BEGIN:VEVENT
DTSTART;TZID=Europe/London:20230819T120000
DTEND;TZID=Europe/London:20230819T120000
DTSTAMP:20260424T025340
CREATED:20230720T050938Z
LAST-MODIFIED:20230810T125232Z
UID:14397-1692446400-1692446400@onechippenham.org.uk
SUMMARY:Burts Fest
DESCRIPTION:Come along to the first ever Burt’s Fest at The Arc\, Chippenham – a free skate jam hosted by Burts Boards\, including a comp with prizes\, so bring your board!  \nThere will also be graffiti demos\, music by Mac Lloyd\, skate shop stalls and a special Arc Cafe pizza and beer deal. \nEven if you’re not skating\, this will be a great event to watch. It kicks off from 12 noon.  \nThe climbing centre and cafe will be open as usual with Arc skateboards also available to buy. \nFollow Burts Boards and The Arc to see updates leading up to the event:- \nBurts Boards: Instagram\, Facebook\, TikTok \nThe Arc: Instagram \n 
URL:https://onechippenham.org.uk/event/burts-fest/
LOCATION:The Arc\, Westmead Lane\, Chippenham\, Wiltshire\, SN15 3HZ\, United Kingdom
CATEGORIES:Adults,Community,Competition,Demonstrations,Family Friendly,Festival,Games,Music,Outdoor,Teens,Young adults
ATTACH;FMTTYPE=application/pdf:https://onechippenham.org.uk/wp-content/uploads/2023/07/16-9-BurtsFest23-Square-NEW-2-copy.pdf
END:VEVENT
BEGIN:VEVENT
DTSTART;TZID=Europe/London:20230826T170000
DTEND;TZID=Europe/London:20230826T220000
DTSTAMP:20260424T025340
CREATED:20230804T111223Z
LAST-MODIFIED:20230804T111223Z
UID:14572-1693069200-1693087200@onechippenham.org.uk
SUMMARY:Unlock Reset Festival
DESCRIPTION:KANDU ARTS HOSTS ITS 3RD ANNUAL UNLOCK RESET FESTIVAL \nThis August bank holiday weekend Kandu Arts will be hosting their third annual Unlock Reset Festival in association with the Pitch and Putt Golf Course to help raise funds and awareness for kandu Arts Community Projects & Events. \nAn exciting two-day festival full of live music and poetry with performances on Satuday 26th from; Mosaic Dogs\, Oli Hounsel\, Ed Deedigan & The Kandu Collective featuring Guillem Mitchel\, Jonah Jones\, Silvia Johns & Konsuela Yovbak\, Tommy Deedigan\, Mike Morrisey’s Free Spirits\, Quiet!\, John Savage and The Kandu Community Choir featuring James Levan. And on Sunday 27th August including; Oli Hounsel\, Will Lawton\, Guillem Mitchel\, Milly Hayward\, Jonah Jones\, Donna Lee\, and Maja Boskovic & our Croatian Visitors. \n26th and 27th August 2023 from 5pm-10pm at the Pitch and Putt Golf Course in Monkton Park\, Chippenham \nTickets available to buy on Eventbrite \nDelicious food and drinks will be available to purchase at The Pitch and Putt Golf Course \nThere will be a kids play zone and bouncy castle! \nUnder 16s go free \nOAP\, NHS\, Teachers pay what you can \nTickets also available on the gate at £8 \nKandu Arts have been working with families\, young people and the community\, often the most marginalized and hardest to reach since 1998. In response to the pandemic\, Kandu Arts hosted regular digital open mic evenings and films\, which offered much support to the local community and those struggling with mental health. Kandu are still hosting festivals and open mic nights to continue to bring everyone together for a sustainable future. \nFor more information please contact admin@kandu-arts.com or visit our Facebook Page: Kandu Arts for Sustainable Development or Instagram: Kandu.arts
URL:https://onechippenham.org.uk/event/unlock-reset-festival-2/2023-08-26/
LOCATION:The Pitch and Putt Golf Course\, Sadlers Mead\, Chippenham\, SN153PE\, United Kingdom
CATEGORIES:Community,Family Friendly,Festival,Food and Drink,Games,Gig,Music,Outdoor,Picnic,School holiday
ATTACH;FMTTYPE=image/jpeg:https://onechippenham.org.uk/wp-content/uploads/2023/08/303347650_5274885515962691_2293493030362982303_n.jpg
END:VEVENT
BEGIN:VEVENT
DTSTART;TZID=Europe/London:20230830T140000
DTEND;TZID=Europe/London:20230830T140000
DTSTAMP:20260424T025340
CREATED:20230713T134730Z
LAST-MODIFIED:20230713T134730Z
UID:14323-1693404000-1693404000@onechippenham.org.uk
SUMMARY:Summer Social for over 60s
DESCRIPTION:We are delighted to welcome Strungout to this summer’s event for over 60s. \nStrungout are a ukelele band who love the music of the 50s\, 60s and 70s. Come and listen to them perform whilst enjoying cake and a coffee. \nFor the second part of the afternoon\, try your hand at creating something arty using sun print paper whilst the band continues to provide entertainment. \nPlease note this event is for the over 60s and is possible thanks to funding from Wiltshire Council’s Community Area Grant scheme. \nTickets: £8.50 \nDuration: 1 hour 45 minutes \nPlease contact the venue for any access requirements. \nTickets are also available through our Box Office on 01249 446699\, from the Neeld Box Office or at the Town Hall. \nTickets are non-refundable unless this event is cancelled or postponed. \n  \n  \n 
URL:https://onechippenham.org.uk/event/summer-social-for-over-60s/
LOCATION:The Neeld
CATEGORIES:Arts,Community,Music,Over 60's
ATTACH;FMTTYPE=image/jpeg:https://onechippenham.org.uk/wp-content/uploads/2023/07/London-Road-Inn-1-3.jpeg
END:VEVENT
END:VCALENDAR