BEGIN:VCALENDAR
VERSION:2.0
PRODID:-//One Chippenham - ECPv6.15.20//NONSGML v1.0//EN
CALSCALE:GREGORIAN
METHOD:PUBLISH
X-ORIGINAL-URL:https://onechippenham.org.uk
X-WR-CALDESC:Events for One Chippenham
REFRESH-INTERVAL;VALUE=DURATION:PT1H
X-Robots-Tag:noindex
X-PUBLISHED-TTL:PT1H
BEGIN:VTIMEZONE
TZID:Europe/London
BEGIN:DAYLIGHT
TZOFFSETFROM:+0000
TZOFFSETTO:+0100
TZNAME:BST
DTSTART:20230326T010000
END:DAYLIGHT
BEGIN:STANDARD
TZOFFSETFROM:+0100
TZOFFSETTO:+0000
TZNAME:GMT
DTSTART:20231029T010000
END:STANDARD
BEGIN:DAYLIGHT
TZOFFSETFROM:+0000
TZOFFSETTO:+0100
TZNAME:BST
DTSTART:20240331T010000
END:DAYLIGHT
BEGIN:STANDARD
TZOFFSETFROM:+0100
TZOFFSETTO:+0000
TZNAME:GMT
DTSTART:20241027T010000
END:STANDARD
BEGIN:DAYLIGHT
TZOFFSETFROM:+0000
TZOFFSETTO:+0100
TZNAME:BST
DTSTART:20250330T010000
END:DAYLIGHT
BEGIN:STANDARD
TZOFFSETFROM:+0100
TZOFFSETTO:+0000
TZNAME:GMT
DTSTART:20251026T010000
END:STANDARD
END:VTIMEZONE
BEGIN:VEVENT
DTSTART;TZID=Europe/London:20240201T100000
DTEND;TZID=Europe/London:20240201T120000
DTSTAMP:20260419T134751
CREATED:20240130T074539Z
LAST-MODIFIED:20240212T150028Z
UID:26344-1706781600-1706788800@onechippenham.org.uk
SUMMARY:Senior Friendship Group
DESCRIPTION:A weekly friendship group for Senior Members at the Chippenham Community Hub. Lots of laughter\, fun and games with Bingo\, quizzes and lots of biscuits\, tea and coffee and chatter.
URL:https://onechippenham.org.uk/event/senior-friendship-group/2024-02-01/
LOCATION:23 Borough Parade\, Chippenham\, Wiltshire\,  SN15 3WL\, Unit 23\, Chippenham\, SN15 3WL\, United Kingdom
CATEGORIES:Adults,Community,Over 60's,Wellbeing
ATTACH;FMTTYPE=image/jpeg:https://onechippenham.org.uk/wp-content/uploads/2024/01/Seniors-Group.jpg
ORGANIZER;CN="Chippenham Community Hub":MAILTO:chippenhamcommunityecohub@gmail.com
END:VEVENT
BEGIN:VEVENT
DTSTART;TZID=Europe/London:20240210T110000
DTEND;TZID=Europe/London:20240210T140000
DTSTAMP:20260419T134751
CREATED:20240210T083315Z
LAST-MODIFIED:20240210T083315Z
UID:27321-1707562800-1707573600@onechippenham.org.uk
SUMMARY:Jumble Sale
DESCRIPTION:Come grab a bargain\, we have books\, CDs\, DVDs\, clothes\, shoes\, toys\, jigsaws and much much more. \nWe will be offering tea\, coffee and hot chocolate and maybe a cake or two! \nEntry is 50p per adult\, children are free. \nAll money goes towards the running of the unit. \n 
URL:https://onechippenham.org.uk/event/jumble-sale/
LOCATION:Chippenham Sea Cadets\, Long Close\, Chippenham
CATEGORIES:Children,Community,Family,Family Friendly,Jumble Sale
ATTACH;FMTTYPE=image/jpeg:https://onechippenham.org.uk/wp-content/uploads/2024/02/IMG_0621.jpeg
ORGANIZER;CN="Chippenham Sea Cadets":MAILTO:chairchippenhamscc@yahoo.com
END:VEVENT
BEGIN:VEVENT
DTSTART;VALUE=DATE:20240212
DTEND;VALUE=DATE:20240213
DTSTAMP:20260419T134751
CREATED:20240211T082338Z
LAST-MODIFIED:20240211T082338Z
UID:27355-1707696000-1707782399@onechippenham.org.uk
SUMMARY:Dragons! Half term at Chippenham Library
DESCRIPTION:Do you love dragons? To mark the start of the Chinese Year of the Dragon\, we will be celebrating all things dragon-ish this half-term at Chippenham Library. We have story times\, Lego challenges\, an animal trail\, games\, colouring\, crafts and\, of course\, lots and lots of books for your little ones to enjoy so come and have fun in the library this half-term! \nFor bookable activities\, ask at the library counter or call 01249 650536
URL:https://onechippenham.org.uk/event/dragons-half-term-at-chippenham-library/2024-02-12/
LOCATION:Chippenham Library
CATEGORIES:Children,Community,Crafts,Family,Family Friendly,Half-Term,Indoor,Primary age children,School holiday,Storytelling,Teens,Tweens
ATTACH;FMTTYPE=image/png:https://onechippenham.org.uk/wp-content/uploads/2024/01/2024-01-29_65b78995a5772_Halftermposterfeb24.png
END:VEVENT
BEGIN:VEVENT
DTSTART;TZID=Europe/London:20240212T193000
DTEND;TZID=Europe/London:20240212T223000
DTSTAMP:20260419T134751
CREATED:20240206T133918Z
LAST-MODIFIED:20240206T133918Z
UID:26286-1707766200-1707777000@onechippenham.org.uk
SUMMARY:Chippenham Film Club February feature
DESCRIPTION:On Body and Soul is a 2017 Hungarian drama/ comedy/ romance about the central finance officer (Géza Morcsányi) of a slaughterhouse\, and the newly appointed meat quality inspector (Alexandra Borbély) who discover they can communicate with each other through their dreams\, leading to an unlikely romance. \nOn Body and Soul won the Berlin Golden Bear in the main competition section of the 67th Berlin International Film Festival\, was selected as the Hungarian entry for the Best Foreign Language Film and was nominated at the 90th Academy Awards. Alexandra Borbély won the European Actress award at the European Film Awards for her performance in the film.
URL:https://onechippenham.org.uk/event/chippenham-film-club-february-feature-2/
LOCATION:The Reel Cinema\, 91 Marshfield Rd\, Chippenham\, SN15 1JR\, United Kingdom
CATEGORIES:Adults,Cinema,Community,Drama,Film
ATTACH;FMTTYPE=image/jpeg:https://onechippenham.org.uk/wp-content/uploads/2024/01/MV5BOTcwYTk3YTAtODZjZi00MmI1LWEyNTItYTNkZWZjNGU1OGIwXkEyXkFqcGdeQXVyMTMxODk2OTU@._V1_FMjpg_UX1000_.jpg
END:VEVENT
BEGIN:VEVENT
DTSTART;TZID=Europe/London:20240214T100000
DTEND;TZID=Europe/London:20240214T160000
DTSTAMP:20260419T134751
CREATED:20240211T083324Z
LAST-MODIFIED:20240211T083324Z
UID:27363-1707904800-1707926400@onechippenham.org.uk
SUMMARY:Turn up & Play
DESCRIPTION:We will be running a few Turn Up & Play days on the 3G during February half term. \nWednesday 14th Feb – 10:00 – 16:00pm\nThursday 15th Feb – 13:00 – 16:30pm\nFriday 16th Feb – 13:00 – 16:30pm \nPlease bring: \n\nSuitable clothing\nFootball boots\nTowel if wet weather\nRefreshments/ Snacks\n\nPlease note this is not an organised match\, this is for groups of friends to turn up\, pay then play.\n \nFor Footballers over the age of 10yrs. \nFor more information\, please contact Stanley Park using the details below. \nEmail: Stanleypark@chippenham.gov.uk  \nTel: 01249 463905 \n£3 per person (Either cash/card is fine)
URL:https://onechippenham.org.uk/event/turn-up-play-3/2024-02-14/
LOCATION:Stanley Park
CATEGORIES:Community,Exercise,Half-Term,Outdoor,Sport,Teens,Tweens
ATTACH;FMTTYPE=image/jpeg:https://onechippenham.org.uk/wp-content/uploads/2024/02/IMG_0656.jpeg
END:VEVENT
BEGIN:VEVENT
DTSTART;TZID=Europe/London:20240214T120000
DTEND;TZID=Europe/London:20240214T150000
DTSTAMP:20260419T134751
CREATED:20240205T195357Z
LAST-MODIFIED:20240205T195519Z
UID:26924-1707912000-1707922800@onechippenham.org.uk
SUMMARY:Bristol Avon Rivers Trust - Yellow Fish
DESCRIPTION:Join BART to help protect your local river this Wednesday 14th February. \nWe want to raise awareness of the impact road drains can have on river health. Often these drains lead directly into rivers carrying whatever untreated pollutants are put down them along too. This can be very damaging to river ecosystems. \nTo raise awareness that “only rain should go down the drain” we need local volunteers who are passionate about protecting rivers to help BART staff to paint yellow fish symbols next to these drains using biodegradable spray paint. \nOpen to children aged 5-15 years\, accompanied by responsible adult. Spaces limited and booking essential: https://www.eventbrite.co.uk/e/yellowfish-campaign-chippenham-tickets-807905776927?aff=eivtefrnd
URL:https://onechippenham.org.uk/event/bristol-avon-rivers-trust-yellow-fish-2/
LOCATION:Riverside Drive\, Monkton Park\, Riverside Drive\, Chippenham\, Wiltshire\, SN15 3NU\, United Kingdom
CATEGORIES:Children,Community,Environment,Primary age children
ATTACH;FMTTYPE=image/png:https://onechippenham.org.uk/wp-content/uploads/2024/02/Yellowfish-Campaign.png
ORGANIZER;CN="Bristol Avon Rivers Trust":MAILTO:Molly@bristolavonriverstrust.org
END:VEVENT
BEGIN:VEVENT
DTSTART;TZID=Europe/London:20240214T193000
DTEND;TZID=Europe/London:20240214T223000
DTSTAMP:20260419T134751
CREATED:20240114T070550Z
LAST-MODIFIED:20240114T070550Z
UID:25967-1707939000-1707949800@onechippenham.org.uk
SUMMARY:Love Stories
DESCRIPTION:A Valentine’s Day you’ll never forget 🎭❤️ \nKandu Arts is bringing a show to Chippenham that promises a whirlwind romance of stories\, chat and laughs about love. Love Stories\, by Mark Rutterford\, promises a Valentine’s Day event like no other and one you’ll never forget. As the audience eats Love Heart sweets\, they will hear tales of love affairs and heartache but like any romantic encounter\, Love Stories is not a passive experience. \nAudience engagement is a big part of the show. It’s the audience that decides who wins the World Cup of Love Songs\, what happens in one story and\, having heard Mark’s best and worst romantic moments\, they’ll be invited to share their own triumphs and disasters. Laughs and empathy are guaranteed. \nThis interactive theatre piece is that latest offering from Kandu Arts\, a Chippenham based company that has been using the arts and activities to explore a wide range of issues and nurture strong relationships within the community for 25 years. \nAn alien reports that he just ‘doesn’t get it\,’ but the 4-Star Review from last year’s Bath Fringe Festival says that you will feel the connection and that you might be beguiled into leaving your cynic at the door. \n“the connection…is what makes the night – during our short time together we become friends hanging out” \nBackground \nMark Rutterford is a writer-performer that has been performing stories across the South West for a decade. Love Stories is Mark’s first solo show – it made its debut at Bath Fringe Festival in May 2023 (4-Stars) and went on to Shaftesbury Fringe in July and Camden Fringe in August last year. The mix of performance\, props\, emotions and audience engagement are key features in the inclusive\, funny and entertaining show Mark wanted to create. He is delighted to be working with Kandu Arts and to be performing in Chippenham for the first time – he hopes to do more of both in future. \nKandu Arts for sustainable development is based in Chippenham\, Wiltshire\, and has worked since 1998 with communities\, often the most marginalized and hardest to reach up and down the country. They use music\, film\, visual arts & sport as a means to explore a wide range of issues. Combined with nurturing strong relationships\, this approach is highly effective in areas of engaging the disaffected\, increasing community cohesion and development.
URL:https://onechippenham.org.uk/event/love-stories/
LOCATION:The Rotary Club\, Station Hill\, Chippenham
CATEGORIES:Arts,Charity,Comedy,Community,Indoor,Performing Arts,Storytelling,Theatre,Visual Arts
ATTACH;FMTTYPE=image/jpeg:https://onechippenham.org.uk/wp-content/uploads/2024/01/PHOTO-2024-01-09-09-36-45.jpg
END:VEVENT
BEGIN:VEVENT
DTSTART;TZID=Europe/London:20240216T100000
DTEND;TZID=Europe/London:20240216T120000
DTSTAMP:20260419T134751
CREATED:20240212T132020Z
LAST-MODIFIED:20240216T073827Z
UID:27466-1708077600-1708084800@onechippenham.org.uk
SUMMARY:Rethink Mental Health at Chippenham Community Hub
DESCRIPTION:Rethink are available for walk-in support every Friday at Chippenham Community Hub. Discuss struggles one-on-one and get help where needed. All welcome without appointment. \n 
URL:https://onechippenham.org.uk/event/rethink-mental-health-at-chippenham-community-hub/2024-02-16/
LOCATION:Chippenham Community Hub
CATEGORIES:Community,Support
ATTACH;FMTTYPE=image/jpeg:https://onechippenham.org.uk/wp-content/uploads/2024/02/Rethink-mental-illness-2-scaled.jpg
ORGANIZER;CN="Chippenham Community Hub":MAILTO:chippenhamcommunityecohub@gmail.com
END:VEVENT
BEGIN:VEVENT
DTSTART;TZID=Europe/London:20240219T100000
DTEND;TZID=Europe/London:20240219T120000
DTSTAMP:20260419T134751
CREATED:20240218T084010Z
LAST-MODIFIED:20240218T084010Z
UID:27844-1708336800-1708344000@onechippenham.org.uk
SUMMARY:Community Drop In
DESCRIPTION:The Chippenham neighbourhood team will be holding a community drop in session on Monday 19th February at the Chippenham Community Hub from 10-12. \nWe look forward to seeing you there!
URL:https://onechippenham.org.uk/event/community-drop-in/
LOCATION:Chippenham Community Hub
CATEGORIES:Community
ATTACH;FMTTYPE=image/jpeg:https://onechippenham.org.uk/wp-content/uploads/2024/02/IMG_0938.jpeg
END:VEVENT
BEGIN:VEVENT
DTSTART;TZID=Europe/London:20240222T103000
DTEND;TZID=Europe/London:20240222T113000
DTSTAMP:20260419T134751
CREATED:20240116T192736Z
LAST-MODIFIED:20240116T192736Z
UID:26105-1708597800-1708601400@onechippenham.org.uk
SUMMARY:Thursday Club
DESCRIPTION:Thursday Club is a new club at Chippenham Library for those who would like to join in lively and interesting discussions. \nThe first discussion theme (22nd Feb) will be ‘Libraries then and now’. \nEach week will have a different topic to discuss – remember how things were\, how things are going to be – who knows where the conversation will take you?! \nHead along meet new people and get chatting\, it’s good to talk!
URL:https://onechippenham.org.uk/event/thursday-club/
LOCATION:Chippenham Library
CATEGORIES:Adults,Community
ATTACH;FMTTYPE=image/jpeg:https://onechippenham.org.uk/wp-content/uploads/2024/01/IMG_9947.jpeg
END:VEVENT
BEGIN:VEVENT
DTSTART;TZID=Europe/London:20240223T090000
DTEND;TZID=Europe/London:20240225T170000
DTSTAMP:20260419T134751
CREATED:20240131T111807Z
LAST-MODIFIED:20240216T095033Z
UID:26212-1708678800-1708880400@onechippenham.org.uk
SUMMARY:Movie Trail
DESCRIPTION:Hidden in the streets of Chippenham are references to 20 classic movies\, from across the decades… some are masquerading as street signs\, others are hidden in shops and amongst the information that we walk past every day. \nThe more you can find\, the closer you’ll be to winning the top prize of a £50 voucher for Reel Cinema Chippenham! \nYou can pick up an answer sheet from Cousin Norman’s or Chippenham Museum. \nGood luck\, and happy hunting! \n£1 suggested donation \n\nThe Movie Trail will be up from 9am on Friday 23rd February until 5pm on Sunday 25th February.\nCopies of the quiz & a map to follow can be collected from Chippenham Museum (10am-4pm on Friday and Saturday) – or from Cousin Norman’s (10am-4pm on Friday and 9am-4pm on Saturday).\nYou can also download a copy of the map and the Movie quiz here.\nHand in your answers to either venue by Friday 5th March for a chance of winning.\nIn the event of a tie names will be drawn at random to choose a winner.\n\n  \n\nThis event is part of a three-day arts festival happening around Chippenham from the 23rd-25th February. Find out more about Chippenham Fringe Feb 2024 and the other creative and vibrant Fringe performances and activities taking place by visiting our website here. \nChippenham Fringe Feb is produced and delivered by Melt Productions in collaboration with Chippenham Borough Lands Charity (CBLC) and the Chippenham Chat group. Funding for the event is provided by Chippenham Borough Lands Charity. \n#FringeFeb24 #FringeFeb #ChippEvent
URL:https://onechippenham.org.uk/event/movie-trail/
LOCATION:Cousin Norman’s\, 5 Union Road\, Chippenham\, SN15 1HW
CATEGORIES:Adults,Community,Film,Over 60's,Primary age children,Teens,Trail,Tweens,Visual Arts,Young adults
ATTACH;FMTTYPE=image/png:https://onechippenham.org.uk/wp-content/uploads/2024/01/movie-trail-post-image.png
ORGANIZER;CN="Rag and Bone Arts CIC":MAILTO:ragandbonearts@gmail.com
END:VEVENT
BEGIN:VEVENT
DTSTART;TZID=Europe/London:20240224T100000
DTEND;TZID=Europe/London:20240224T163000
DTSTAMP:20260419T134751
CREATED:20240214T071915Z
LAST-MODIFIED:20240214T071915Z
UID:27679-1708768800-1708792200@onechippenham.org.uk
SUMMARY:Chippenham Community Mural
DESCRIPTION:Love to draw? Come and make your mark on our very own COMMUNITY MURAL. \nHosted by local artist Kirsty Jones\, it’s time to pick up a pen and design your very own piece of tile art to add to the collection \nThe mural is something for the local community to enjoy for years to come\, forming part of this year’s Chippenham Fringe February. \nWe’ll be situated at The Buttercross on Sat 24th between the hours of 10:00 and 16:30. \nAll welcome\, we suggest artists are over 4 years old (due to the use of permanent markers! \nCome and get involved and become a part of Chippenham’s history! \n#Chippenham #FringeFeb #GetInvolved #WhatsOn #Community #Art #Design \n  \n\nThis event is part of a three-day arts festival happening around Chippenham from the 23rd-25th February. Find out more about Chippenham Fringe Feb 2024 and the other creative and vibrant Fringe performances and activities taking place by visiting our website here. \nChippenham Fringe Feb is produced and delivered by Melt Productions in collaboration with Chippenham Borough Lands Charity (CBLC) and the Chippenham Chat group.\n \nFunding for the event is provided by Chippenham Borough Lands.
URL:https://onechippenham.org.uk/event/chippenham-community-mural-2/
LOCATION:The Buttercross\, Market Place\, Chippenham
CATEGORIES:Adults,Arts,Children,Community,Family,Family Friendly,Fringe Feb,Over 60's,Teens,Tweens,Visual Arts,Young adults
ATTACH;FMTTYPE=image/jpeg:https://onechippenham.org.uk/wp-content/uploads/2024/02/IMG_0760.jpeg
END:VEVENT
BEGIN:VEVENT
DTSTART;TZID=Europe/London:20240224T143000
DTEND;TZID=Europe/London:20240224T163000
DTSTAMP:20260419T134751
CREATED:20240210T082523Z
LAST-MODIFIED:20240218T102019Z
UID:27318-1708785000-1708792200@onechippenham.org.uk
SUMMARY:Poetry Workshop
DESCRIPTION:Come along and celebrate Fringe Feb! \nJoin us for an afternoon poetry workshop with local poet\, Nigel Linacre. Places are limited\, so book early to avoid missing out. \nFor further information or booking\, please pop into Chippenham Library or call us on 01249 650536 \n\nThis event is part of a three-day arts festival happening around Chippenham from the 23rd-25th February. Find out more about Chippenham Fringe Feb 2024 and the other creative and vibrant Fringe performances and activities taking place by visiting here. \nChippenham Fringe Feb is produced and delivered by Melt Productions in collaboration with Chippenham Borough Lands Charity (CBLC) and the Chippenham Chat group. Funding for the event is provided by Chippenham Borough Lands Charity. \n#FringeFeb24 #FringeFeb #ChippEvents
URL:https://onechippenham.org.uk/event/poetry-workshop/
LOCATION:Chippenham Library
CATEGORIES:Adults,Arts,Books/poetry,Community,Creative Writing,Teens
ATTACH;FMTTYPE=image/png:https://onechippenham.org.uk/wp-content/uploads/2024/02/25.png
END:VEVENT
BEGIN:VEVENT
DTSTART;TZID=Europe/London:20240228T170000
DTEND;TZID=Europe/London:20240228T183000
DTSTAMP:20260419T134751
CREATED:20240212T144900Z
LAST-MODIFIED:20240212T144900Z
UID:27423-1709139600-1709145000@onechippenham.org.uk
SUMMARY:Talk the BIG C - Cancer Support Group
DESCRIPTION:A welcoming meet up for those affected by cancer. Enjoy support\, conversation\, and hot drinks in a compassionate environment. With assistance from Hathaway Surgery\, we also offer crafts\, chatter\, and connections with others facing similar challenges. \n 
URL:https://onechippenham.org.uk/event/talk-the-big-c-cancer-support-group/2024-02-28/
LOCATION:Chippenham Community Hub
CATEGORIES:Community,Support,Support group
ATTACH;FMTTYPE=image/jpeg:https://onechippenham.org.uk/wp-content/uploads/2024/02/Big-C-6.jpg
ORGANIZER;CN="Chippenham Community Hub":MAILTO:chippenhamcommunityecohub@gmail.com
END:VEVENT
END:VCALENDAR