BEGIN:VCALENDAR
VERSION:2.0
PRODID:-//One Chippenham - ECPv6.15.20//NONSGML v1.0//EN
CALSCALE:GREGORIAN
METHOD:PUBLISH
X-WR-CALNAME:One Chippenham
X-ORIGINAL-URL:https://onechippenham.org.uk
X-WR-CALDESC:Events for One Chippenham
REFRESH-INTERVAL;VALUE=DURATION:PT1H
X-Robots-Tag:noindex
X-PUBLISHED-TTL:PT1H
BEGIN:VTIMEZONE
TZID:Europe/London
BEGIN:DAYLIGHT
TZOFFSETFROM:+0000
TZOFFSETTO:+0100
TZNAME:BST
DTSTART:20220327T010000
END:DAYLIGHT
BEGIN:STANDARD
TZOFFSETFROM:+0100
TZOFFSETTO:+0000
TZNAME:GMT
DTSTART:20221030T010000
END:STANDARD
BEGIN:DAYLIGHT
TZOFFSETFROM:+0000
TZOFFSETTO:+0100
TZNAME:BST
DTSTART:20230326T010000
END:DAYLIGHT
BEGIN:STANDARD
TZOFFSETFROM:+0100
TZOFFSETTO:+0000
TZNAME:GMT
DTSTART:20231029T010000
END:STANDARD
BEGIN:DAYLIGHT
TZOFFSETFROM:+0000
TZOFFSETTO:+0100
TZNAME:BST
DTSTART:20240331T010000
END:DAYLIGHT
BEGIN:STANDARD
TZOFFSETFROM:+0100
TZOFFSETTO:+0000
TZNAME:GMT
DTSTART:20241027T010000
END:STANDARD
END:VTIMEZONE
BEGIN:VEVENT
DTSTART;TZID=Europe/London:20231201T180000
DTEND;TZID=Europe/London:20231201T180000
DTSTAMP:20260421T093405
CREATED:20231120T143958Z
LAST-MODIFIED:20231120T144036Z
UID:19744-1701453600-1701453600@onechippenham.org.uk
SUMMARY:Kington Langley Xmas Lights Switch On
DESCRIPTION:Create a Christmas tree for this new event. Use any materials and the tree can be any size. It will just need some battery Christmas lights. Or you can decorate a real of artificial one. We can’t wait to see what you come up with. It’s not a competition\, just a celebration of our creative village. Anyone can take part – individuals\, families and village organisations. The trees need to be set up in the church in time for the lights switch on at 6pm. \nEntertainment by the Green Barrows Wheelbarrow Display team.
URL:https://onechippenham.org.uk/event/kington-langley-xmas-lights-switch-on/
LOCATION:St Peters Church\, Kington Langley\, SN15 5NR
CATEGORIES:Christmas,Community
ATTACH;FMTTYPE=image/jpeg:https://onechippenham.org.uk/wp-content/uploads/2023/11/IMG_8572.jpeg
END:VEVENT
END:VCALENDAR