BEGIN:VCALENDAR
VERSION:2.0
PRODID:-//One Chippenham - ECPv6.15.20//NONSGML v1.0//EN
CALSCALE:GREGORIAN
METHOD:PUBLISH
X-ORIGINAL-URL:https://onechippenham.org.uk
X-WR-CALDESC:Events for One Chippenham
REFRESH-INTERVAL;VALUE=DURATION:PT1H
X-Robots-Tag:noindex
X-PUBLISHED-TTL:PT1H
BEGIN:VTIMEZONE
TZID:Europe/London
BEGIN:DAYLIGHT
TZOFFSETFROM:+0000
TZOFFSETTO:+0100
TZNAME:BST
DTSTART:20230326T010000
END:DAYLIGHT
BEGIN:STANDARD
TZOFFSETFROM:+0100
TZOFFSETTO:+0000
TZNAME:GMT
DTSTART:20231029T010000
END:STANDARD
BEGIN:DAYLIGHT
TZOFFSETFROM:+0000
TZOFFSETTO:+0100
TZNAME:BST
DTSTART:20240331T010000
END:DAYLIGHT
BEGIN:STANDARD
TZOFFSETFROM:+0100
TZOFFSETTO:+0000
TZNAME:GMT
DTSTART:20241027T010000
END:STANDARD
BEGIN:DAYLIGHT
TZOFFSETFROM:+0000
TZOFFSETTO:+0100
TZNAME:BST
DTSTART:20250330T010000
END:DAYLIGHT
BEGIN:STANDARD
TZOFFSETFROM:+0100
TZOFFSETTO:+0000
TZNAME:GMT
DTSTART:20251026T010000
END:STANDARD
END:VTIMEZONE
BEGIN:VEVENT
DTSTART;TZID=Europe/London:20240108T173000
DTEND;TZID=Europe/London:20240108T183000
DTSTAMP:20260420T042545
CREATED:20231219T124751Z
LAST-MODIFIED:20231219T124751Z
UID:25090-1704735000-1704738600@onechippenham.org.uk
SUMMARY:Rethink Football
DESCRIPTION:A weekly friendly kick-a-bout for men 18+ to team up and be part of a safe group where they can talk openly and freely without judgement. \nWHEN: Starting on Monday 8th January\, then weekly\, 5:30 to 6:30pm\nWHERE: Stanley Park Sports Ground\, Chippenham\, SN15 3RR\nCOST: £3 per session \nContact David if you are interested or have any questions: \n\nCall: 07483 913159\nEmail: david.scourfield@rethink.org \n\nIt’s ok to talk \nVisit Wiltshire Mental Health Inclusion Service online: \nrethink.org/wiltsmhis \nFacebook: WiltshireMHIS \nInstagram: wiltshire_mhis
URL:https://onechippenham.org.uk/event/rethink-football/
LOCATION:Stanley Park
CATEGORIES:Adults,Community,Sport,Support group,Wellbeing,Young adults
ATTACH;FMTTYPE=image/jpeg:https://onechippenham.org.uk/wp-content/uploads/2023/12/407891481_744992651001114_4588378096756005959_n.jpeg
END:VEVENT
BEGIN:VEVENT
DTSTART;TZID=Europe/London:20240108T193000
DTEND;TZID=Europe/London:20240108T223000
DTSTAMP:20260420T042545
CREATED:20231220T092645Z
LAST-MODIFIED:20231220T092645Z
UID:25123-1704742200-1704753000@onechippenham.org.uk
SUMMARY:Chippenham Film Club's January feature
DESCRIPTION:Aftersun is a 2022 coming of age drama written and directed by Charlotte Wells in her feature directorial debut. Starring Paul Mescal (Normal People\, God’s Creatures)\, Frankie Corio and Celia Rowlson-Hall\, the film follows an 11-year-old girl Sophie\, on holiday with her father at a Turkish resort on the eve of his 31st birthday. \nThe film tells the story through a series of memories and personal recollections\, filtered through a haze of memory and imagination by the now-adult Sophie (Celia Rowlson-Hall) looking back on things she didn’t really understand at the time. Aftersun had its world premiere at Cannes on 21 May 2022\, where Wells was nominated for the Golden Camera\, Scottish-born\, New York-based writer-director Wells picked up a whopping 16 nominations at the British Independent Film Awards.
URL:https://onechippenham.org.uk/event/chippenham-film-clubs-january-feature/
LOCATION:The Reel Cinema\, 91 Marshfield Rd\, Chippenham\, SN15 1JR\, United Kingdom
CATEGORIES:Cinema,Community,Drama,Film
ATTACH;FMTTYPE=image/jpeg:https://onechippenham.org.uk/wp-content/uploads/2023/12/aftersun-british-movie-poster-1.jpg
END:VEVENT
END:VCALENDAR