BEGIN:VCALENDAR
VERSION:2.0
PRODID:-//One Chippenham - ECPv6.15.20//NONSGML v1.0//EN
CALSCALE:GREGORIAN
METHOD:PUBLISH
X-ORIGINAL-URL:https://onechippenham.org.uk
X-WR-CALDESC:Events for One Chippenham
REFRESH-INTERVAL;VALUE=DURATION:PT1H
X-Robots-Tag:noindex
X-PUBLISHED-TTL:PT1H
BEGIN:VTIMEZONE
TZID:Europe/London
BEGIN:DAYLIGHT
TZOFFSETFROM:+0000
TZOFFSETTO:+0100
TZNAME:BST
DTSTART:20230326T010000
END:DAYLIGHT
BEGIN:STANDARD
TZOFFSETFROM:+0100
TZOFFSETTO:+0000
TZNAME:GMT
DTSTART:20231029T010000
END:STANDARD
BEGIN:DAYLIGHT
TZOFFSETFROM:+0000
TZOFFSETTO:+0100
TZNAME:BST
DTSTART:20240331T010000
END:DAYLIGHT
BEGIN:STANDARD
TZOFFSETFROM:+0100
TZOFFSETTO:+0000
TZNAME:GMT
DTSTART:20241027T010000
END:STANDARD
BEGIN:DAYLIGHT
TZOFFSETFROM:+0000
TZOFFSETTO:+0100
TZNAME:BST
DTSTART:20250330T010000
END:DAYLIGHT
BEGIN:STANDARD
TZOFFSETFROM:+0100
TZOFFSETTO:+0000
TZNAME:GMT
DTSTART:20251026T010000
END:STANDARD
END:VTIMEZONE
BEGIN:VEVENT
DTSTART;TZID=Europe/London:20240812T173000
DTEND;TZID=Europe/London:20240812T200000
DTSTAMP:20260419T175400
CREATED:20240621T130741Z
LAST-MODIFIED:20240621T130741Z
UID:31146-1723483800-1723492800@onechippenham.org.uk
SUMMARY:Have a Go at Bowls!
DESCRIPTION:Interested in having a go at playing lawn bowls? Want to learn a new sport? Meet new people? Get some gentle exercise? \nCome along to our Open Club Nights at North Wilts Bowls Club\, just off Hungerdown Lane! Open every Monday evening from 5.30pm to 8.00pm. All you need is a pair of flat non-slip shoes. Our welcoming and friendly members will kit you out with bowls and give you enough basic instruction for you to get started!
URL:https://onechippenham.org.uk/event/have-a-go-at-bowls/2024-08-12/
LOCATION:North Wilts Bowls Club\, Westcroft\, Chippenham\,\, Wiltshire\, SN14 0LZ
CATEGORIES:Community
ATTACH;FMTTYPE=image/jpeg:https://onechippenham.org.uk/wp-content/uploads/2024/06/nwb-news-generic-10.jpg
ORGANIZER;CN="North Wilts Bowls Club":MAILTO:clubmanager@nwbowls.co.uk
END:VEVENT
BEGIN:VEVENT
DTSTART;TZID=Europe/London:20240812T183000
DTEND;TZID=Europe/London:20240812T193000
DTSTAMP:20260419T175400
CREATED:20240801T071833Z
LAST-MODIFIED:20240801T071833Z
UID:31694-1723487400-1723491000@onechippenham.org.uk
SUMMARY:Walking Netball
DESCRIPTION:Walking Netball is a slower version of the game designed so that anyone can play it\, regardless of age or fitness level. \nWhether you have dropped out of the sport due to injury\, not played since school or want to start something new\, Walking Netball is a great social activity! \nWe are a very friendly\, welcoming bunch\, it you want to find out more about Walking Netball or come along to meet the group contact Selina. \nMonday evenings 6.30-7.30pm \nVenue: Chippenham Sports Club Dome\, Bristol Road\, Chippenham \nContact: Selina Porter selina@portershouse.co.uk
URL:https://onechippenham.org.uk/event/walking-netball/2024-08-12/
LOCATION:Chippenham Sports Club
CATEGORIES:Community,Exercise,Sport
ATTACH;FMTTYPE=image/png:https://onechippenham.org.uk/wp-content/uploads/2024/08/Untitled-design.png
END:VEVENT
BEGIN:VEVENT
DTSTART;TZID=Europe/London:20240812T193000
DTEND;TZID=Europe/London:20240812T220000
DTSTAMP:20260419T175400
CREATED:20240716T092141Z
LAST-MODIFIED:20240716T092141Z
UID:31468-1723491000-1723500000@onechippenham.org.uk
SUMMARY:Chippenham Film Club August feature
DESCRIPTION:Stand by Me is a 1986 American coming-of-age drama film directed by Rob Reiner\, and based on Stephen King’s 1982 novella The Body\, the film is set in the fictional town of Castle Rock\, Oregon\, in 1959. \nStand By Me stars Wil Wheaton\, River Phoenix\, Corey Feldman\, and Jerry O’Connell (in his film debut)\, as four boys who go on a hike to find the dead body of a missing boy. \nStand by Me received positive reviews upon release and was nominated for an Academy Award for Best Adapted Screenplay and for two Golden Globe Awards: one for Best Drama Motion Picture\, and one for Best Director. It is considered by many to be one of the most influential films of the 1980s\, as well as one of the greatest films of all time.
URL:https://onechippenham.org.uk/event/chippenham-film-club-august-feature/
LOCATION:The Reel Cinema\, 91 Marshfield Rd\, Chippenham\, SN15 1JR\, United Kingdom
CATEGORIES:Cinema,Community,Film
ATTACH;FMTTYPE=image/jpeg:https://onechippenham.org.uk/wp-content/uploads/2024/07/Screenshot_20240713_181337_Facebook-e1721121659723.jpg
END:VEVENT
END:VCALENDAR