BEGIN:VCALENDAR
VERSION:2.0
PRODID:-//One Chippenham - ECPv6.15.20//NONSGML v1.0//EN
CALSCALE:GREGORIAN
METHOD:PUBLISH
X-WR-CALNAME:One Chippenham
X-ORIGINAL-URL:https://onechippenham.org.uk
X-WR-CALDESC:Events for One Chippenham
REFRESH-INTERVAL;VALUE=DURATION:PT1H
X-Robots-Tag:noindex
X-PUBLISHED-TTL:PT1H
BEGIN:VTIMEZONE
TZID:Europe/London
BEGIN:DAYLIGHT
TZOFFSETFROM:+0000
TZOFFSETTO:+0100
TZNAME:BST
DTSTART:20220327T010000
END:DAYLIGHT
BEGIN:STANDARD
TZOFFSETFROM:+0100
TZOFFSETTO:+0000
TZNAME:GMT
DTSTART:20221030T010000
END:STANDARD
BEGIN:DAYLIGHT
TZOFFSETFROM:+0000
TZOFFSETTO:+0100
TZNAME:BST
DTSTART:20230326T010000
END:DAYLIGHT
BEGIN:STANDARD
TZOFFSETFROM:+0100
TZOFFSETTO:+0000
TZNAME:GMT
DTSTART:20231029T010000
END:STANDARD
BEGIN:DAYLIGHT
TZOFFSETFROM:+0000
TZOFFSETTO:+0100
TZNAME:BST
DTSTART:20240331T010000
END:DAYLIGHT
BEGIN:STANDARD
TZOFFSETFROM:+0100
TZOFFSETTO:+0000
TZNAME:GMT
DTSTART:20241027T010000
END:STANDARD
END:VTIMEZONE
BEGIN:VEVENT
DTSTART;TZID=Europe/London:20230911T193000
DTEND;TZID=Europe/London:20230911T223000
DTSTAMP:20260425T140142
CREATED:20230818T113629Z
LAST-MODIFIED:20230818T113629Z
UID:14699-1694460600-1694471400@onechippenham.org.uk
SUMMARY:Chippenham Film Club September feature
DESCRIPTION:Proxima stars Eva Green as Sarah\, a woman trying to balance work and family life. As she prepares for a year-long stint on the International Space Station\, she also tries to prepare her eight-year-old daughter Stella (Zélie Boulant)\, for life without her. \nThe film also stars Lars Eidinger as Thomas\, her ex-husband and Stella’s father and Matt Dillon as Mike\, her colleague. Mike is initially dismissive of her abilities as an astronaut but with his help\, and Sandra Huller as Wendy\, a psychologist\, Sarah and Stella find their way through the complexities of the situation. \nChippenham Film Club provides entertaining\, interesting and thought-provoking cinema in Chippenham. Find out more about the club on our website – chippenhamfilmclub.co.uk \n 
URL:https://onechippenham.org.uk/event/chippenham-film-club-september-feature/
LOCATION:The Reel Cinema\, 91 Marshfield Rd\, Chippenham\, SN15 1JR\, United Kingdom
CATEGORIES:Cinema,Community,Film
ATTACH;FMTTYPE=image/jpeg:https://onechippenham.org.uk/wp-content/uploads/2023/08/maxresdefault-1.jpg
END:VEVENT
BEGIN:VEVENT
DTSTART;TZID=Europe/London:20230916T100000
DTEND;TZID=Europe/London:20230916T160000
DTSTAMP:20260425T140142
CREATED:20230908T065232Z
LAST-MODIFIED:20230908T065232Z
UID:15049-1694858400-1694880000@onechippenham.org.uk
SUMMARY:Heritage Open Days: Chippenham's Heritage Quarter
DESCRIPTION:Unwrap Chippenham’s creativity and explore Chippenham’s Heritage Quarter for Heritage Open Days! \nWith a range of open doors\, tours\, walks\, art exhibitions & street performances to enjoy. For a full programme of events visit our website or drop into the museum. \nAll events are free but some require pre-booking. Please visit our website or view our programme for more details.
URL:https://onechippenham.org.uk/event/heritage-open-days-chippenhams-heritage-quarter/
LOCATION:Chippenham Museum\, 9-10 Market Pl\, Chippenham\, SN15 3HF\, United Kingdom
CATEGORIES:Arts,Choir,Community,Exhibition,Heritage,Museum,Open Day,Street Theatre,Tour,Walks
ATTACH;FMTTYPE=image/jpeg:https://onechippenham.org.uk/wp-content/uploads/2023/09/HODs-Poster-23.jpg
ORGANIZER;CN="Chippenham Museum":MAILTO:heritage@chippenham.gov.uk
END:VEVENT
END:VCALENDAR