BEGIN:VCALENDAR
VERSION:2.0
PRODID:-//One Chippenham - ECPv6.15.20//NONSGML v1.0//EN
CALSCALE:GREGORIAN
METHOD:PUBLISH
X-ORIGINAL-URL:https://onechippenham.org.uk
X-WR-CALDESC:Events for One Chippenham
REFRESH-INTERVAL;VALUE=DURATION:PT1H
X-Robots-Tag:noindex
X-PUBLISHED-TTL:PT1H
BEGIN:VTIMEZONE
TZID:Europe/London
BEGIN:DAYLIGHT
TZOFFSETFROM:+0000
TZOFFSETTO:+0100
TZNAME:BST
DTSTART:20220327T010000
END:DAYLIGHT
BEGIN:STANDARD
TZOFFSETFROM:+0100
TZOFFSETTO:+0000
TZNAME:GMT
DTSTART:20221030T010000
END:STANDARD
BEGIN:DAYLIGHT
TZOFFSETFROM:+0000
TZOFFSETTO:+0100
TZNAME:BST
DTSTART:20230326T010000
END:DAYLIGHT
BEGIN:STANDARD
TZOFFSETFROM:+0100
TZOFFSETTO:+0000
TZNAME:GMT
DTSTART:20231029T010000
END:STANDARD
BEGIN:DAYLIGHT
TZOFFSETFROM:+0000
TZOFFSETTO:+0100
TZNAME:BST
DTSTART:20240331T010000
END:DAYLIGHT
BEGIN:STANDARD
TZOFFSETFROM:+0100
TZOFFSETTO:+0000
TZNAME:GMT
DTSTART:20241027T010000
END:STANDARD
END:VTIMEZONE
BEGIN:VEVENT
DTSTART;TZID=Europe/London:20231004T130000
DTEND;TZID=Europe/London:20231004T150000
DTSTAMP:20260423T121549
CREATED:20230717T091008Z
LAST-MODIFIED:20230915T155701Z
UID:14363-1696424400-1696431600@onechippenham.org.uk
SUMMARY:Wessex Water Tailored Assistance Programme training
DESCRIPTION:Training for representatives of community organisations that support local people who are struggling with bills or need extra support. \nThe training is a ‘train the trainer’ style session so that delegates can confidently share the advice to other staff and volunteers within their own organisations and support their service users. \nThe Wessex Water Tailored Assistance programme comprises a wide range of affordability support to help customers who are struggling to pay their bills including flexible payment plans\, payment breaks\, payments direct from benefits\, low income discounts and bill caps. We are doubling the number of people we can support. Find out what support is available and how to signpost service users to access it. \nThe session will also cover the scope of our Priority Services Register for customers with health or communication vulnerabilities\, who require extra support including assistance during water supply disruptions\, help with meter readings\, password system to protect against bogus callers and alternative format or language communications. \nAt the end of the session\, you will be asked to sign up as a partner on our Partner Hub website and quarterly newsletter\, so that we can continue to work together and support your organisation. \nThe Library closes to the public at 1pm\, so we will have the space to ourselves. \nPlease book via: \nhttps://www.eventbrite.co.uk/e/community-connectors-tailored-assistance-programme-training-tickets-715912813497?aff=oddtdtcreator
URL:https://onechippenham.org.uk/event/wessex-water-tailored-assistance-programme-training/
LOCATION:Chippenham Library
CATEGORIES:Community,Training
ATTACH;FMTTYPE=image/jpeg:https://onechippenham.org.uk/wp-content/uploads/2023/07/Community-Connectors.jpg
ORGANIZER;CN="Wessex Water":MAILTO:community@wessexwater.co.uk
END:VEVENT
END:VCALENDAR