BEGIN:VCALENDAR
VERSION:2.0
PRODID:-//One Chippenham - ECPv6.15.20//NONSGML v1.0//EN
CALSCALE:GREGORIAN
METHOD:PUBLISH
X-WR-CALNAME:One Chippenham
X-ORIGINAL-URL:https://onechippenham.org.uk
X-WR-CALDESC:Events for One Chippenham
REFRESH-INTERVAL;VALUE=DURATION:PT1H
X-Robots-Tag:noindex
X-PUBLISHED-TTL:PT1H
BEGIN:VTIMEZONE
TZID:Europe/London
BEGIN:DAYLIGHT
TZOFFSETFROM:+0000
TZOFFSETTO:+0100
TZNAME:BST
DTSTART:20220327T010000
END:DAYLIGHT
BEGIN:STANDARD
TZOFFSETFROM:+0100
TZOFFSETTO:+0000
TZNAME:GMT
DTSTART:20221030T010000
END:STANDARD
BEGIN:DAYLIGHT
TZOFFSETFROM:+0000
TZOFFSETTO:+0100
TZNAME:BST
DTSTART:20230326T010000
END:DAYLIGHT
BEGIN:STANDARD
TZOFFSETFROM:+0100
TZOFFSETTO:+0000
TZNAME:GMT
DTSTART:20231029T010000
END:STANDARD
BEGIN:DAYLIGHT
TZOFFSETFROM:+0000
TZOFFSETTO:+0100
TZNAME:BST
DTSTART:20240331T010000
END:DAYLIGHT
BEGIN:STANDARD
TZOFFSETFROM:+0100
TZOFFSETTO:+0000
TZNAME:GMT
DTSTART:20241027T010000
END:STANDARD
END:VTIMEZONE
BEGIN:VEVENT
DTSTART;VALUE=DATE:20231021
DTEND;VALUE=DATE:20231029
DTSTAMP:20260421T182016
CREATED:20231012T225404Z
LAST-MODIFIED:20231022T072145Z
UID:16087-1697846400-1698537599@onechippenham.org.uk
SUMMARY:FOQC Pumpkin Trail
DESCRIPTION:We are pleased to announce the return of the FOQC Pumpkin Trail. \nVisit https://linktr.ee/foqc to download the trail map\, make a donation\, find your entry form & vote on your favourite! \nKeep up with updates throughout the event on our Facebook page and the 🎃 Pumpkin Trail 2023  event page . \n \n🎃 🎃 🎃 🎃 🎃 🎃 🎃 🎃 \n  \n 
URL:https://onechippenham.org.uk/event/foqc-pumpkin-trail/
LOCATION:Wiltshire
CATEGORIES:Children,Community,Family,Family Friendly,Half-Term,Halloween,Trail
ATTACH;FMTTYPE=image/jpeg:https://onechippenham.org.uk/wp-content/uploads/2023/10/IMG_7485.jpeg
END:VEVENT
BEGIN:VEVENT
DTSTART;TZID=Europe/London:20231023T193000
DTEND;TZID=Europe/London:20231023T223000
DTSTAMP:20260421T182016
CREATED:20231012T174348Z
LAST-MODIFIED:20231012T174348Z
UID:16065-1698089400-1698100200@onechippenham.org.uk
SUMMARY:Chippenham Film Club's October feature
DESCRIPTION:Master Li\, a warrior\, asks Yu Shu Lien\, the woman he loves\, to pass on his sword\, Green Destiny\, to Sir Te however\, when the sword is stolen\, Li embarks on a mission to find it. Starring Chow Yun-fat\, Michelle Yeoh\, Zhang Ziyi and Chang Chen\,\nCrouching Tiger is an absolute classic\, and helped put director Ang Lee on the cinematic map.
URL:https://onechippenham.org.uk/event/chippenham-film-clubs-october-feature/
LOCATION:The Reel Cinema\, 91 Marshfield Rd\, Chippenham\, SN15 1JR\, United Kingdom
CATEGORIES:Arts,Cinema,Community,Film
ATTACH;FMTTYPE=image/jpeg:https://onechippenham.org.uk/wp-content/uploads/2023/10/AFIMC22_CROUCHING-TIGER-HIDDEN-DRAGON-233-4.jpg
END:VEVENT
BEGIN:VEVENT
DTSTART;TZID=Europe/London:20231028T110000
DTEND;TZID=Europe/London:20231028T110000
DTSTAMP:20260421T182016
CREATED:20231024T145914Z
LAST-MODIFIED:20231024T145914Z
UID:16251-1698490800-1698490800@onechippenham.org.uk
SUMMARY:Cakes for Commandos
DESCRIPTION:The Royal Marines Charity are on a mission to raise £1.5 million by the end of 2023 to support Royal Marines and their families through life. \nTo help them achieve this local artist\, Rae Melody\, is running a ‘Cakes for Commandos’ fundraiser. The aim of the cake sale is to highlight what the Royal Marines Charity do\, bring people from the local community together\, to enable those connected to the military to meet and share stories and to enjoy lots of cake! \nRae will also be unveiling a large scale piece of art that she is creating which will be auctioned off (at a later date) to raise money for the charity. \nPlease join Rae in raising a bit of cash\, having a cuppa and some cake and in celebrating 359 years of the Corps from 11am to 2pm on Saturday 28th October at Platinum House\, 35 Market Place\, Chippenham\, SN15 3HT (next to St Andrew’s Church).
URL:https://onechippenham.org.uk/event/cakes-for-commandos/
LOCATION:Platinum House\, Chippenham\, 35 Market Place\, Chippenham\, Wiltshire\, SN15 3HT\, United Kingdom
CATEGORIES:Charity,Community,Indoor
ATTACH;FMTTYPE=image/jpeg:https://onechippenham.org.uk/wp-content/uploads/2023/10/IMG_7773.jpg
END:VEVENT
BEGIN:VEVENT
DTSTART;TZID=Europe/London:20231028T133000
DTEND;TZID=Europe/London:20231028T163000
DTSTAMP:20260421T182016
CREATED:20230927T164954Z
LAST-MODIFIED:20230927T164954Z
UID:15726-1698499800-1698510600@onechippenham.org.uk
SUMMARY:Making Spaces: Creative Project
DESCRIPTION:Chippenham Museum is launching a new project to work with Ukrainian families\, alongside a local artist\, to produce a new artwork exploring Chippenham and the surrounding area as a place of refuge. \nThe project is inspired by the work of Belgian artist Charles Wellens and Polish artist Piotr Potworowski\, who each fled conflicts in the 20th century and made their home in the area. Work by both artists is currently on display in the museum. \nThese sessions are free and family friendly\, but booking is required. \nIf you would like to take part or want to find out more please contact the museum on 01249 705020 or by emailing heritage@chippenham.gov.uk. We are also hosting an Open Evening for Ukrainian families and their hosts on Thursday 19 October\, where you can find out more about the museum and our Making Spaces project.
URL:https://onechippenham.org.uk/event/making-spaces-creative-project/2023-10-28/
LOCATION:Chippenham Museum\, 9-10 Market Pl\, Chippenham\, SN15 3HF\, United Kingdom
CATEGORIES:Arts,Community,Family Friendly,Heritage,Museum
ATTACH;FMTTYPE=image/jpeg:https://onechippenham.org.uk/wp-content/uploads/2023/09/Wellens-Grid.jpg
ORGANIZER;CN="Chippenham Museum":MAILTO:heritage@chippenham.gov.uk
END:VEVENT
END:VCALENDAR