BEGIN:VCALENDAR
VERSION:2.0
PRODID:-//One Chippenham - ECPv6.15.20//NONSGML v1.0//EN
CALSCALE:GREGORIAN
METHOD:PUBLISH
X-ORIGINAL-URL:https://onechippenham.org.uk
X-WR-CALDESC:Events for One Chippenham
REFRESH-INTERVAL;VALUE=DURATION:PT1H
X-Robots-Tag:noindex
X-PUBLISHED-TTL:PT1H
BEGIN:VTIMEZONE
TZID:Europe/London
BEGIN:DAYLIGHT
TZOFFSETFROM:+0000
TZOFFSETTO:+0100
TZNAME:BST
DTSTART:20220327T010000
END:DAYLIGHT
BEGIN:STANDARD
TZOFFSETFROM:+0100
TZOFFSETTO:+0000
TZNAME:GMT
DTSTART:20221030T010000
END:STANDARD
BEGIN:DAYLIGHT
TZOFFSETFROM:+0000
TZOFFSETTO:+0100
TZNAME:BST
DTSTART:20230326T010000
END:DAYLIGHT
BEGIN:STANDARD
TZOFFSETFROM:+0100
TZOFFSETTO:+0000
TZNAME:GMT
DTSTART:20231029T010000
END:STANDARD
BEGIN:DAYLIGHT
TZOFFSETFROM:+0000
TZOFFSETTO:+0100
TZNAME:BST
DTSTART:20240331T010000
END:DAYLIGHT
BEGIN:STANDARD
TZOFFSETFROM:+0100
TZOFFSETTO:+0000
TZNAME:GMT
DTSTART:20241027T010000
END:STANDARD
END:VTIMEZONE
BEGIN:VEVENT
DTSTART;TZID=Europe/London:20231113T193000
DTEND;TZID=Europe/London:20231113T223000
DTSTAMP:20260421T184318
CREATED:20231101T093415Z
LAST-MODIFIED:20231101T093415Z
UID:16405-1699903800-1699914600@onechippenham.org.uk
SUMMARY:Chippenham Film Club's November feature
DESCRIPTION:On his 80th birthday\, Humberto Suárez (Jose Luis Gomez)\, an ageing multi-millionaire\, decides to finance a film so that people will look fondly upon his legacy. He selects the reclusive Palme d’Or laureate Lola Cuevas (Penelope Cruz) to be the director\, with the screenplay being adapted from a Nobel Prize winning novel titled Rivalry\, about a man (Antonio Banderas) who is unable to forgive his brother (Oscar Martinez) for killing their parents in a drunk-driving incident. \nA 2021 Spanish-Argentine black comedy film\, directed by Gaston Duprat and Mariano Cohn\, the film brings together Banderas and Martinez\, the two previously appeared together in Almoldovar’s I’m So Excited\, and Cruz\, who has appears regularly in films by the same director.
URL:https://onechippenham.org.uk/event/chippenham-film-clubs-november-feature/
LOCATION:The Reel Cinema\, 91 Marshfield Rd\, Chippenham\, SN15 1JR\, United Kingdom
CATEGORIES:Cinema,Community,Film
ATTACH;FMTTYPE=image/jpeg:https://onechippenham.org.uk/wp-content/uploads/2023/10/OC-IMAGE.jpg
END:VEVENT
BEGIN:VEVENT
DTSTART;TZID=Europe/London:20231118T100000
DTEND;TZID=Europe/London:20231118T120000
DTSTAMP:20260421T184318
CREATED:20231103T191719Z
LAST-MODIFIED:20231103T191719Z
UID:16750-1700301600-1700308800@onechippenham.org.uk
SUMMARY:Sparks Good As New Sale
DESCRIPTION:A perfect way to raise some money before Christmas. Book a table so you can sell your baby\, toddler and children’s clothes\, toys and equipment. Or why not pop along and see what you can buy! First come for the table spaces\, so don’t miss out and book soon! \nEmail greenways@stpaulsweb.org.uk 
URL:https://onechippenham.org.uk/event/sparks-good-as-new-sale/
LOCATION:St Paul’s Church\, Malmesbury Road\, Chippenham\, SN15 1PW\, United Kingdom
CATEGORIES:Baby,Children,Community,Family Friendly,Indoor,Table top sale
ATTACH;FMTTYPE=image/jpeg:https://onechippenham.org.uk/wp-content/uploads/2023/11/IMG_8069.jpeg
ORGANIZER;CN="St Pauls Church":MAILTO:greenways@stpaulsweb.org.uk
END:VEVENT
END:VCALENDAR