BEGIN:VCALENDAR
VERSION:2.0
PRODID:-//One Chippenham - ECPv6.15.20//NONSGML v1.0//EN
CALSCALE:GREGORIAN
METHOD:PUBLISH
X-ORIGINAL-URL:https://onechippenham.org.uk
X-WR-CALDESC:Events for One Chippenham
REFRESH-INTERVAL;VALUE=DURATION:PT1H
X-Robots-Tag:noindex
X-PUBLISHED-TTL:PT1H
BEGIN:VTIMEZONE
TZID:Europe/London
BEGIN:DAYLIGHT
TZOFFSETFROM:+0000
TZOFFSETTO:+0100
TZNAME:BST
DTSTART:20230326T010000
END:DAYLIGHT
BEGIN:STANDARD
TZOFFSETFROM:+0100
TZOFFSETTO:+0000
TZNAME:GMT
DTSTART:20231029T010000
END:STANDARD
BEGIN:DAYLIGHT
TZOFFSETFROM:+0000
TZOFFSETTO:+0100
TZNAME:BST
DTSTART:20240331T010000
END:DAYLIGHT
BEGIN:STANDARD
TZOFFSETFROM:+0100
TZOFFSETTO:+0000
TZNAME:GMT
DTSTART:20241027T010000
END:STANDARD
BEGIN:DAYLIGHT
TZOFFSETFROM:+0000
TZOFFSETTO:+0100
TZNAME:BST
DTSTART:20250330T010000
END:DAYLIGHT
BEGIN:STANDARD
TZOFFSETFROM:+0100
TZOFFSETTO:+0000
TZNAME:GMT
DTSTART:20251026T010000
END:STANDARD
END:VTIMEZONE
BEGIN:VEVENT
DTSTART;TZID=Europe/London:20240102T140000
DTEND;TZID=Europe/London:20240102T153000
DTSTAMP:20260420T055121
CREATED:20231219T125402Z
LAST-MODIFIED:20231219T125402Z
UID:25105-1704204000-1704209400@onechippenham.org.uk
SUMMARY:Happy Café
DESCRIPTION:A Happy Café is one which has agreed to be part of the Happy Café Network\, which is being set up by members of the Action for Happiness movement. \nHappy Cafés provide a warm welcome for anyone interested in happiness and wellbeing\, encouraging people to meet together for a drink and friendly chat. \nYour local Happy Café brought to you by the Wiltshire Mental Health Inclusion Service is at Weatherspoons (The Bridge House) every Tuesday 2-3.30pm \nContact David if you are interested or have any questions: 07483 913159
URL:https://onechippenham.org.uk/event/happy-cafe/
LOCATION:Weatherspoons\, The Bridge House\, Borough Parade\, SN15 3WL
CATEGORIES:Adults,Community,Health,Wellbeing
ATTACH;FMTTYPE=image/jpeg:https://onechippenham.org.uk/wp-content/uploads/2023/12/WMHIS-Happy-Cafe-FLYER-Ver11-Dec2023-PDF-file-STARTS6.jpg
END:VEVENT
BEGIN:VEVENT
DTSTART;TZID=Europe/London:20240105T100000
DTEND;TZID=Europe/London:20240105T110000
DTSTAMP:20260420T055121
CREATED:20240102T112916Z
LAST-MODIFIED:20240102T113141Z
UID:25296-1704448800-1704452400@onechippenham.org.uk
SUMMARY:StayFit with Emma
DESCRIPTION:Starting a new fitness journey for 2024 or simply wanting to age well and stay active? Sessions suitable for all fitness levels and mobilities starting again in Chippenham on January 5th! Come and join our fun groups where plenty of laughs are also had! Places are limited so contact me\, Emma\, asap to book your space. TRY FIRST WEEK FREE! \n 
URL:https://onechippenham.org.uk/event/stayfit-with-emma-2/
LOCATION:St Peter’s Church Hall\, Lords Mead\, Chippenham\, SN14 0LL
CATEGORIES:Community,Exercise,Fitness,Health,Over 60's,Wellbeing
ATTACH;FMTTYPE=image/png:https://onechippenham.org.uk/wp-content/uploads/2023/12/Chippenham-2024.png
ORGANIZER;CN="StayFit with Emma":MAILTO:sitfitwiltshire@outlook.com
END:VEVENT
END:VCALENDAR