BEGIN:VCALENDAR
VERSION:2.0
PRODID:-//One Chippenham - ECPv6.15.20//NONSGML v1.0//EN
CALSCALE:GREGORIAN
METHOD:PUBLISH
X-WR-CALNAME:One Chippenham
X-ORIGINAL-URL:https://onechippenham.org.uk
X-WR-CALDESC:Events for One Chippenham
REFRESH-INTERVAL;VALUE=DURATION:PT1H
X-Robots-Tag:noindex
X-PUBLISHED-TTL:PT1H
BEGIN:VTIMEZONE
TZID:Europe/London
BEGIN:DAYLIGHT
TZOFFSETFROM:+0000
TZOFFSETTO:+0100
TZNAME:BST
DTSTART:20230326T010000
END:DAYLIGHT
BEGIN:STANDARD
TZOFFSETFROM:+0100
TZOFFSETTO:+0000
TZNAME:GMT
DTSTART:20231029T010000
END:STANDARD
BEGIN:DAYLIGHT
TZOFFSETFROM:+0000
TZOFFSETTO:+0100
TZNAME:BST
DTSTART:20240331T010000
END:DAYLIGHT
BEGIN:STANDARD
TZOFFSETFROM:+0100
TZOFFSETTO:+0000
TZNAME:GMT
DTSTART:20241027T010000
END:STANDARD
BEGIN:DAYLIGHT
TZOFFSETFROM:+0000
TZOFFSETTO:+0100
TZNAME:BST
DTSTART:20250330T010000
END:DAYLIGHT
BEGIN:STANDARD
TZOFFSETFROM:+0100
TZOFFSETTO:+0000
TZNAME:GMT
DTSTART:20251026T010000
END:STANDARD
END:VTIMEZONE
BEGIN:VEVENT
DTSTART;TZID=Europe/London:20240115T183000
DTEND;TZID=Europe/London:20240115T193000
DTSTAMP:20260420T215917
CREATED:20240110T021906Z
LAST-MODIFIED:20240110T022022Z
UID:25788-1705343400-1705347000@onechippenham.org.uk
SUMMARY:Women’s Recreational Football Sessions
DESCRIPTION:No matter your skill level\, whether you’re a football enthusiast or just want to get more active\, these sessions are open to ALL women. £3 per player. \n\n18:30 – 19:30pm\nEvery Monday up until Monday 29th April\n\n 
URL:https://onechippenham.org.uk/event/womens-recreational-football-sessions/
LOCATION:Stanley Park
CATEGORIES:Adults,Community,Exercise,Fitness,Sport
ATTACH;FMTTYPE=image/jpeg:https://onechippenham.org.uk/wp-content/uploads/2024/01/IMG_9721-1.jpeg
ORGANIZER;CN="She Can Be Active":MAILTO:she.can.be.active.chippenham@gmail.com
END:VEVENT
BEGIN:VEVENT
DTSTART;TZID=Europe/London:20240117T100000
DTEND;TZID=Europe/London:20240117T120000
DTSTAMP:20260420T215917
CREATED:20240114T073128Z
LAST-MODIFIED:20240114T073128Z
UID:25915-1705485600-1705492800@onechippenham.org.uk
SUMMARY:Chippenham Warm Spaces
DESCRIPTION:#WarmSpaces in Chippenham offer a friendly welcome to support anyone who needs help during the chilly weather and the cost of living crisis. \nBaptist Church\, Station Hill\nMonday\, 1000 – 1200 \nCafé Spero\, Wood Lane\nThursday\, 0900 – 1100\, refreshments £1.50 \nCentral Methodist Church\, Monkton Hill\nFriday\, 1000 – 1130\, warm place with tea and coffee\, FREE \nChippenham Community Hub\, Borough Parade\nWednesday\, 1000 – 1200\, tea/coffee and biscuits plus board games\, FREE\nThursday\, 1300 – 1500\, tea/coffee and biscuits plus board games\, FREE \nKandu Arts SHOP\, Emery Gate\nMonday / Tuesday / Wednesday / Thursday / Friday\, 1100 – 1500\nHot drinks\, FREE \nLibrary\, Timber Street\nMonday / Tuesday / Thursday / Friday\, 1400 – 1500\nActivities and hot drinks\, FREE \nMethodist Church\, Sheldon Road\nMonday\, 1000 – 1200\, bit of cake\, bit of fun\nSaturday\, 1100 – 1400\, community lunch\, FREE \nSt Andrew’s Church\, Market Place\nWednesday 0930 – 1230\, tea and coffee\, £1 \n 
URL:https://onechippenham.org.uk/event/chippenham-warm-spaces/
LOCATION:Chippenham Community Hub
CATEGORIES:Community,Indoor
ATTACH;FMTTYPE=image/jpeg:https://onechippenham.org.uk/wp-content/uploads/2024/01/7903712118094504116.jpg
ORGANIZER;CN="Chippenham Community Hub":MAILTO:chippenhamcommunityecohub@gmail.com
END:VEVENT
BEGIN:VEVENT
DTSTART;TZID=Europe/London:20240120T200000
DTEND;TZID=Europe/London:20240120T200000
DTSTAMP:20260420T215917
CREATED:20240116T202512Z
LAST-MODIFIED:20240116T202512Z
UID:26124-1705780800-1705780800@onechippenham.org.uk
SUMMARY:Ceilidh at the Consti with the Lucky 7 Band
DESCRIPTION:Looking for something a bit different to brighten up your January? Look no further! \nA fantastic evening of music\, dancing and plenty of laughter all for a good cause! \nRegister your space by emailing jilly.tinson@gmail.com \n 
URL:https://onechippenham.org.uk/event/ceilidh-at-the-consti-with-the-lucky-7-band/
LOCATION:Constitutional Club\, 36 Foghamshire\, Chippenham\, SN15 1HB\, United Kingdom
CATEGORIES:Ceilidh,Charity,Community,Dance,Music
ATTACH;FMTTYPE=image/jpeg:https://onechippenham.org.uk/wp-content/uploads/2024/01/IMG_9952.jpeg
END:VEVENT
END:VCALENDAR