BEGIN:VCALENDAR
VERSION:2.0
PRODID:-//One Chippenham - ECPv6.15.20//NONSGML v1.0//EN
CALSCALE:GREGORIAN
METHOD:PUBLISH
X-ORIGINAL-URL:https://onechippenham.org.uk
X-WR-CALDESC:Events for One Chippenham
REFRESH-INTERVAL;VALUE=DURATION:PT1H
X-Robots-Tag:noindex
X-PUBLISHED-TTL:PT1H
BEGIN:VTIMEZONE
TZID:Europe/London
BEGIN:DAYLIGHT
TZOFFSETFROM:+0000
TZOFFSETTO:+0100
TZNAME:BST
DTSTART:20230326T010000
END:DAYLIGHT
BEGIN:STANDARD
TZOFFSETFROM:+0100
TZOFFSETTO:+0000
TZNAME:GMT
DTSTART:20231029T010000
END:STANDARD
BEGIN:DAYLIGHT
TZOFFSETFROM:+0000
TZOFFSETTO:+0100
TZNAME:BST
DTSTART:20240331T010000
END:DAYLIGHT
BEGIN:STANDARD
TZOFFSETFROM:+0100
TZOFFSETTO:+0000
TZNAME:GMT
DTSTART:20241027T010000
END:STANDARD
BEGIN:DAYLIGHT
TZOFFSETFROM:+0000
TZOFFSETTO:+0100
TZNAME:BST
DTSTART:20250330T010000
END:DAYLIGHT
BEGIN:STANDARD
TZOFFSETFROM:+0100
TZOFFSETTO:+0000
TZNAME:GMT
DTSTART:20251026T010000
END:STANDARD
END:VTIMEZONE
BEGIN:VEVENT
DTSTART;TZID=Europe/London:20240409T020000
DTEND;TZID=Europe/London:20240409T153000
DTSTAMP:20260419T174059
CREATED:20240329T094256Z
LAST-MODIFIED:20240329T094256Z
UID:28876-1712628000-1712676600@onechippenham.org.uk
SUMMARY:Happy Cafe
DESCRIPTION:A Happy Café is one which has agreed to be part of the Happy Café Network\, which is being set up by members of the Action for Happiness movement. \nHappy Cafés provide a warm welcome for anyone interested in happiness and wellbeing\, encouraging people to meet together for a drink and friendly chat. \nYour local Happy Café is brought to you by the Wiltshire Mental Health Inclusion Service…. \nChippenham – Rivo Lounge every Tuesday 2-3.30pm \nContact David if you are interested or have any questions: 07483 913159 \n\nVisit Wiltshire Mental Health Inclusion Service online: \nrethink.org/wiltsmhis \nFacebook: WiltshireMHIS \nInstagram: wiltshire_mhis \n 
URL:https://onechippenham.org.uk/event/happy-cafe-2/2024-04-09/
LOCATION:The Rivo Lounge\, 2-4 The Bridge\, Chippenham\, SN151EX
CATEGORIES:Adults,Community,Support,Support group,Wellbeing
ATTACH;FMTTYPE=image/jpeg:https://onechippenham.org.uk/wp-content/uploads/2023/12/IMG_2634.jpeg
END:VEVENT
BEGIN:VEVENT
DTSTART;TZID=Europe/London:20240409T110000
DTEND;TZID=Europe/London:20240409T120000
DTSTAMP:20260419T174059
CREATED:20240102T113614Z
LAST-MODIFIED:20240102T113614Z
UID:25279-1712660400-1712664000@onechippenham.org.uk
SUMMARY:Café Concert at St Andrew’s Chippenham
DESCRIPTION:PLEASE NOTE CHANGE OF DATE TO 2nd TUESDAY of the month. \nTrio Paradis play a Café Concert in the beautiful surroundings and fine acoustic of St Andrew’s Church\, Chippenham (usually!) on the first Tuesday of each month at 11am: an informal concert with refreshments available in the pop-up café from 10.30am\, where you can meet friends and make new ones over tea/coffee and cakes\, and then enjoy live music. \nApril’s theme is Birdsong\, with music from a wide variety of eras and styles: Daquin: Cuckoo\, McVie’s Songbird\, Casals’ haunting arrangement of the Catalan folk song\, Song of the Birds\, and more… \nThe concert lasts c45m and entrance is by donation\, with a retiring collection. All ages welcome\, including children. No need to book. \nMore information at www.trioparadis.com.
URL:https://onechippenham.org.uk/event/cafe-concert-at-st-andrews-chippenham/
LOCATION:St Andrew’s Church\, St Mary’s Street\, Chippenham\, SN15 3JN\, United Kingdom
CATEGORIES:Community,Concert,Music
ATTACH;FMTTYPE=image/jpeg:https://onechippenham.org.uk/wp-content/uploads/2023/12/4440BEE8-A0BB-4954-A18A-C65DF92A73E3.jpeg
ORGANIZER;CN="Trio Paradis":MAILTO:trioparadis@gmail.com
END:VEVENT
BEGIN:VEVENT
DTSTART;TZID=Europe/London:20240409T110000
DTEND;TZID=Europe/London:20240409T120000
DTSTAMP:20260419T174059
CREATED:20240320T152453Z
LAST-MODIFIED:20240921T122257Z
UID:28325-1712660400-1712664000@onechippenham.org.uk
SUMMARY:Flower Arranging Class
DESCRIPTION:Cepen Lodge Care Home are inviting the local community to join us for a morning flower arranging with our residents\, refreshments will be provided. Come and join us for a lovely morning socialising and networking with others.
URL:https://onechippenham.org.uk/event/flower-arranging-class/2024-04-09/
LOCATION:Cepen Lodge Care Home
CATEGORIES:Adults,Community,Flower Arranging,Networking,Over 60's
ATTACH;FMTTYPE=image/png:https://onechippenham.org.uk/wp-content/uploads/2024/03/Flower-arranging-at-Depend-Lodge.png
END:VEVENT
BEGIN:VEVENT
DTSTART;TZID=Europe/London:20240411T100000
DTEND;TZID=Europe/London:20240411T120000
DTSTAMP:20260419T174059
CREATED:20240130T074539Z
LAST-MODIFIED:20240212T150031Z
UID:26362-1712829600-1712836800@onechippenham.org.uk
SUMMARY:Senior Friendship Group
DESCRIPTION:A weekly friendship group for Senior Members at the Chippenham Community Hub. Lots of laughter\, fun and games with Bingo\, quizzes and lots of biscuits\, tea and coffee and chatter.
URL:https://onechippenham.org.uk/event/senior-friendship-group/2024-04-11/
LOCATION:23 Borough Parade\, Chippenham\, Wiltshire\,  SN15 3WL\, Unit 23\, Chippenham\, SN15 3WL\, United Kingdom
CATEGORIES:Adults,Community,Over 60's,Wellbeing
ATTACH;FMTTYPE=image/jpeg:https://onechippenham.org.uk/wp-content/uploads/2024/01/Seniors-Group.jpg
ORGANIZER;CN="Chippenham Community Hub":MAILTO:chippenhamcommunityecohub@gmail.com
END:VEVENT
BEGIN:VEVENT
DTSTART;TZID=Europe/London:20240411T100000
DTEND;TZID=Europe/London:20240411T120000
DTSTAMP:20260419T174059
CREATED:20240406T075007Z
LAST-MODIFIED:20240406T075007Z
UID:29048-1712829600-1712836800@onechippenham.org.uk
SUMMARY:Easter Stay and Play
DESCRIPTION:Get ready for an egg-citing Easter event! Join us for a hopping good time from 10am to 12pm and 1pm to 3pm. \nMeet Chase & Rubble\, bounce on our castles\, enjoy the ball pool\, get crafty with biscuit decorating\, and don’t miss the afternoon Forest Session with Bulldog Bouncer Ali! \n 
URL:https://onechippenham.org.uk/event/easter-stay-and-play/2024-04-11/
LOCATION:Kingsley Road Community Hall\, Kingsley Road\, Chippenham\, SN14 0AS
CATEGORIES:Children,Community,Crafts,Easter,Family,Family Friendly
ATTACH;FMTTYPE=image/jpeg:https://onechippenham.org.uk/wp-content/uploads/2024/04/IMG_1489.jpeg
ORGANIZER;CN="Bulldog Bouncers Ltd":MAILTO:Bulldogbouncers@gmail.com
END:VEVENT
BEGIN:VEVENT
DTSTART;TZID=Europe/London:20240411T103000
DTEND;TZID=Europe/London:20240411T113000
DTSTAMP:20260419T174059
CREATED:20240116T192736Z
LAST-MODIFIED:20240116T192736Z
UID:26113-1712831400-1712835000@onechippenham.org.uk
SUMMARY:Thursday Club
DESCRIPTION:Thursday Club is a new club at Chippenham Library for those who would like to join in lively and interesting discussions. \nThe first discussion theme (22nd Feb) will be ‘Libraries then and now’. \nEach week will have a different topic to discuss – remember how things were\, how things are going to be – who knows where the conversation will take you?! \nHead along meet new people and get chatting\, it’s good to talk!
URL:https://onechippenham.org.uk/event/thursday-club/2024-04-11/
LOCATION:Chippenham Library
CATEGORIES:Adults,Community
ATTACH;FMTTYPE=image/jpeg:https://onechippenham.org.uk/wp-content/uploads/2024/01/IMG_9947.jpeg
END:VEVENT
BEGIN:VEVENT
DTSTART;TZID=Europe/London:20240412T100000
DTEND;TZID=Europe/London:20240412T120000
DTSTAMP:20260419T174059
CREATED:20240212T132020Z
LAST-MODIFIED:20240216T073828Z
UID:27474-1712916000-1712923200@onechippenham.org.uk
SUMMARY:Rethink Mental Health at Chippenham Community Hub
DESCRIPTION:Rethink are available for walk-in support every Friday at Chippenham Community Hub. Discuss struggles one-on-one and get help where needed. All welcome without appointment. \n 
URL:https://onechippenham.org.uk/event/rethink-mental-health-at-chippenham-community-hub/2024-04-12/
LOCATION:Chippenham Community Hub
CATEGORIES:Community,Support
ATTACH;FMTTYPE=image/jpeg:https://onechippenham.org.uk/wp-content/uploads/2024/02/Rethink-mental-illness-2-scaled.jpg
ORGANIZER;CN="Chippenham Community Hub":MAILTO:chippenhamcommunityecohub@gmail.com
END:VEVENT
BEGIN:VEVENT
DTSTART;TZID=Europe/London:20240413T120000
DTEND;TZID=Europe/London:20240413T150000
DTSTAMP:20260419T174059
CREATED:20240415T100726Z
LAST-MODIFIED:20240415T100726Z
UID:29196-1713009600-1713020400@onechippenham.org.uk
SUMMARY:International Lunch
DESCRIPTION:Unity in Diversity! \nMany diverse nationalities live here in Chippenham and the surrounding area. \nCome and share a lunch together!\nMake new friends! Activities for children! \nBook by emailing diversityinchippenham@gmail.com\nand let us know what you can bring to share. \nAny donations on the day will help cover costs and excess will be given to Doorway\, a local charity.
URL:https://onechippenham.org.uk/event/international-lunch/
LOCATION:The Cause Music and Arts Centre\, 42 The Causeway\, Chippenham\, Wiltshire\, SN15 3DD\, United Kingdom
CATEGORIES:Children,Community,Family Friendly
ATTACH;FMTTYPE=image/jpeg:https://onechippenham.org.uk/wp-content/uploads/2024/04/IMG_6767.jpeg
ORGANIZER;CN="Diversity in Chippenham":MAILTO:Diversityinchippenham@gmail.com
END:VEVENT
END:VCALENDAR