BEGIN:VCALENDAR
VERSION:2.0
PRODID:-//One Chippenham - ECPv6.15.20//NONSGML v1.0//EN
CALSCALE:GREGORIAN
METHOD:PUBLISH
X-WR-CALNAME:One Chippenham
X-ORIGINAL-URL:https://onechippenham.org.uk
X-WR-CALDESC:Events for One Chippenham
REFRESH-INTERVAL;VALUE=DURATION:PT1H
X-Robots-Tag:noindex
X-PUBLISHED-TTL:PT1H
BEGIN:VTIMEZONE
TZID:Europe/London
BEGIN:DAYLIGHT
TZOFFSETFROM:+0000
TZOFFSETTO:+0100
TZNAME:BST
DTSTART:20230326T010000
END:DAYLIGHT
BEGIN:STANDARD
TZOFFSETFROM:+0100
TZOFFSETTO:+0000
TZNAME:GMT
DTSTART:20231029T010000
END:STANDARD
BEGIN:DAYLIGHT
TZOFFSETFROM:+0000
TZOFFSETTO:+0100
TZNAME:BST
DTSTART:20240331T010000
END:DAYLIGHT
BEGIN:STANDARD
TZOFFSETFROM:+0100
TZOFFSETTO:+0000
TZNAME:GMT
DTSTART:20241027T010000
END:STANDARD
BEGIN:DAYLIGHT
TZOFFSETFROM:+0000
TZOFFSETTO:+0100
TZNAME:BST
DTSTART:20250330T010000
END:DAYLIGHT
BEGIN:STANDARD
TZOFFSETFROM:+0100
TZOFFSETTO:+0000
TZNAME:GMT
DTSTART:20251026T010000
END:STANDARD
END:VTIMEZONE
BEGIN:VEVENT
DTSTART;TZID=Europe/London:20240416T020000
DTEND;TZID=Europe/London:20240416T153000
DTSTAMP:20260419T130845
CREATED:20240329T094256Z
LAST-MODIFIED:20240329T094256Z
UID:28877-1713232800-1713281400@onechippenham.org.uk
SUMMARY:Happy Cafe
DESCRIPTION:A Happy Café is one which has agreed to be part of the Happy Café Network\, which is being set up by members of the Action for Happiness movement. \nHappy Cafés provide a warm welcome for anyone interested in happiness and wellbeing\, encouraging people to meet together for a drink and friendly chat. \nYour local Happy Café is brought to you by the Wiltshire Mental Health Inclusion Service…. \nChippenham – Rivo Lounge every Tuesday 2-3.30pm \nContact David if you are interested or have any questions: 07483 913159 \n\nVisit Wiltshire Mental Health Inclusion Service online: \nrethink.org/wiltsmhis \nFacebook: WiltshireMHIS \nInstagram: wiltshire_mhis \n 
URL:https://onechippenham.org.uk/event/happy-cafe-2/2024-04-16/
LOCATION:The Rivo Lounge\, 2-4 The Bridge\, Chippenham\, SN151EX
CATEGORIES:Adults,Community,Support,Support group,Wellbeing
ATTACH;FMTTYPE=image/jpeg:https://onechippenham.org.uk/wp-content/uploads/2023/12/IMG_2634.jpeg
END:VEVENT
BEGIN:VEVENT
DTSTART;TZID=Europe/London:20240416T193000
DTEND;TZID=Europe/London:20240416T210000
DTSTAMP:20260419T130845
CREATED:20230904T122558Z
LAST-MODIFIED:20230904T122558Z
UID:14890-1713295800-1713301200@onechippenham.org.uk
SUMMARY:Allsorts Community Choir
DESCRIPTION:Allsorts Community Choir in Chippenham meet on Tuesday evenings from 7.30pm at Sheldon Road Methodist Church. \nAll sorts of age and gender welcome. No singing experience necessary. No need to read music\, No auditions\, basically if you’re enthusiastic and committed\, you’re in! All sorts of music styles from swing to gospel to folk and pop with a generous helping of everything in between. \nTwo weeks free trial\, then £3 per session (paid termly).
URL:https://onechippenham.org.uk/event/allsorts-community-choir-4/2024-04-16/
LOCATION:Sheldon Methodist Church\, Audley Road\, SN14 0DU
CATEGORIES:Choir,Community,Music,Singing
ATTACH;FMTTYPE=image/jpeg:https://onechippenham.org.uk/wp-content/uploads/2023/08/Photo-06-08-2023-13-24-24-scaled.jpg
ORGANIZER;CN="Allsorts Community Choir":MAILTO:allsortschippenham@hotmail.com
END:VEVENT
BEGIN:VEVENT
DTSTART;TZID=Europe/London:20240417T173000
DTEND;TZID=Europe/London:20240417T190000
DTSTAMP:20260419T130845
CREATED:20240303T203858Z
LAST-MODIFIED:20240303T203858Z
UID:28097-1713375000-1713380400@onechippenham.org.uk
SUMMARY:Teen Art and Design
DESCRIPTION:Join our artist Charlie to learn to help design new pieces and work collaboratively\, while listening to music and eating biscuits! \nWe work in 10 week blocks\, but you can enrol for 5 at a time. Our team of designers have created work for stage and events and learn to create work to adorn the streets of Chippenham and buildings. \nCharlie has been working in education and visual arts for nearly 30 years and is a working artist and set designer. \nThere’s a new focus each term and we’ll be asking for your input so that the ideas are yours. \nKindly supported by Kington Langley artists and Wiltshire Council’s Area Board\, paying for our materials and helping us keep our sessions affordable and high quality. \n10 week block – £120 \n5 weeks – £65 \nVisit www.ragandbonearts.com to book in.
URL:https://onechippenham.org.uk/event/teen-art-and-design/2024-04-17/
LOCATION:St Pauls church hall\, Malmesbury rd\, Malmesbury Rd\, Chippenham\, SN15 1PW\, United Kingdom
CATEGORIES:Arts,Community,Teens,Visual Arts
ATTACH;FMTTYPE=image/jpeg:https://onechippenham.org.uk/wp-content/uploads/2024/02/Dodecahedron.jpeg
ORGANIZER;CN="Rag and Bone Arts CIC":MAILTO:ragandbonearts@gmail.com
END:VEVENT
BEGIN:VEVENT
DTSTART;TZID=Europe/London:20240418T100000
DTEND;TZID=Europe/London:20240418T120000
DTSTAMP:20260419T130845
CREATED:20240130T074539Z
LAST-MODIFIED:20240212T150034Z
UID:26364-1713434400-1713441600@onechippenham.org.uk
SUMMARY:Senior Friendship Group
DESCRIPTION:A weekly friendship group for Senior Members at the Chippenham Community Hub. Lots of laughter\, fun and games with Bingo\, quizzes and lots of biscuits\, tea and coffee and chatter.
URL:https://onechippenham.org.uk/event/senior-friendship-group/2024-04-18/
LOCATION:23 Borough Parade\, Chippenham\, Wiltshire\,  SN15 3WL\, Unit 23\, Chippenham\, SN15 3WL\, United Kingdom
CATEGORIES:Adults,Community,Over 60's,Wellbeing
ATTACH;FMTTYPE=image/jpeg:https://onechippenham.org.uk/wp-content/uploads/2024/01/Seniors-Group.jpg
ORGANIZER;CN="Chippenham Community Hub":MAILTO:chippenhamcommunityecohub@gmail.com
END:VEVENT
BEGIN:VEVENT
DTSTART;TZID=Europe/London:20240418T103000
DTEND;TZID=Europe/London:20240418T113000
DTSTAMP:20260419T130845
CREATED:20240116T192736Z
LAST-MODIFIED:20240116T192736Z
UID:26114-1713436200-1713439800@onechippenham.org.uk
SUMMARY:Thursday Club
DESCRIPTION:Thursday Club is a new club at Chippenham Library for those who would like to join in lively and interesting discussions. \nThe first discussion theme (22nd Feb) will be ‘Libraries then and now’. \nEach week will have a different topic to discuss – remember how things were\, how things are going to be – who knows where the conversation will take you?! \nHead along meet new people and get chatting\, it’s good to talk!
URL:https://onechippenham.org.uk/event/thursday-club/2024-04-18/
LOCATION:Chippenham Library
CATEGORIES:Adults,Community
ATTACH;FMTTYPE=image/jpeg:https://onechippenham.org.uk/wp-content/uploads/2024/01/IMG_9947.jpeg
END:VEVENT
BEGIN:VEVENT
DTSTART;TZID=Europe/London:20240418T143000
DTEND;TZID=Europe/London:20240418T163000
DTSTAMP:20260419T130845
CREATED:20240320T153534Z
LAST-MODIFIED:20240320T153534Z
UID:28309-1713450600-1713457800@onechippenham.org.uk
SUMMARY:Baking Club
DESCRIPTION:Cepen Lodge are opening their doors to the local community to invite older people to join us for our fortnightly baking club! Starting Thursday 21st March\, and running every other Thursday – come and join our residents to bake some delicious treats and enjoy refreshments with us. A great opportunity to socialise and network.
URL:https://onechippenham.org.uk/event/baking-club/2024-04-18/
LOCATION:Cepen Lodge Care Home
CATEGORIES:Adults,Community,Food and Drink,Networking,Over 60's
ATTACH;FMTTYPE=image/jpeg:https://onechippenham.org.uk/wp-content/uploads/2024/03/122022_107581__15_03_2024.jpeg
END:VEVENT
BEGIN:VEVENT
DTSTART;TZID=Europe/London:20240419T100000
DTEND;TZID=Europe/London:20240419T120000
DTSTAMP:20260419T130845
CREATED:20240212T132020Z
LAST-MODIFIED:20240216T073829Z
UID:27475-1713520800-1713528000@onechippenham.org.uk
SUMMARY:Rethink Mental Health at Chippenham Community Hub
DESCRIPTION:Rethink are available for walk-in support every Friday at Chippenham Community Hub. Discuss struggles one-on-one and get help where needed. All welcome without appointment. \n 
URL:https://onechippenham.org.uk/event/rethink-mental-health-at-chippenham-community-hub/2024-04-19/
LOCATION:Chippenham Community Hub
CATEGORIES:Community,Support
ATTACH;FMTTYPE=image/jpeg:https://onechippenham.org.uk/wp-content/uploads/2024/02/Rethink-mental-illness-2-scaled.jpg
ORGANIZER;CN="Chippenham Community Hub":MAILTO:chippenhamcommunityecohub@gmail.com
END:VEVENT
BEGIN:VEVENT
DTSTART;TZID=Europe/London:20240419T123000
DTEND;TZID=Europe/London:20240419T143000
DTSTAMP:20260419T130845
CREATED:20240316T045206Z
LAST-MODIFIED:20240419T073759Z
UID:28342-1713529800-1713537000@onechippenham.org.uk
SUMMARY:Fish & Chip Club
DESCRIPTION:Don’t dine alone\, come and join us on the third Friday of every month for Fish & Chip Club at 12:30pm. No charge. Join us for an afternoon of great food and socialising. \nTo book and for more information please contact  CepenLodge@barchester.com or call 01249 707280.
URL:https://onechippenham.org.uk/event/fish-chip-club/2024-04-19/
LOCATION:Cepen Lodge Care Home
CATEGORIES:Adults,Community,Food and Drink,Networking,Over 60's
ATTACH;FMTTYPE=image/jpeg:https://onechippenham.org.uk/wp-content/uploads/2024/03/122678_108837__15_03_2024.jpeg
END:VEVENT
BEGIN:VEVENT
DTSTART;TZID=Europe/London:20240420T110000
DTEND;TZID=Europe/London:20240420T130000
DTSTAMP:20260419T130845
CREATED:20240415T093949Z
LAST-MODIFIED:20240415T093949Z
UID:29233-1713610800-1713618000@onechippenham.org.uk
SUMMARY:Salvation Army’s Messy Church
DESCRIPTION:Join us 11am – 1pm at Salvation Army\, Foghamshire: \nLet the kids release their inner madness\, have fun\, get messy and enjoy a lunch on us. \nIt’s all free and it’s all a little bit crazy 🎉
URL:https://onechippenham.org.uk/event/salvation-armys-messy-church/2024-04-20/
LOCATION:Salvation Army\, Foghamshire\, Foghamshire\, Chippenham\, Wiltshire\, Sn15 1hb\, United Kingdom
CATEGORIES:Charity,Children,Church,Community,Crafts,Family Friendly,Food and Drink,Primary age children
ATTACH;FMTTYPE=image/jpeg:https://onechippenham.org.uk/wp-content/uploads/2024/04/IMG_9449.jpeg
ORGANIZER;CN="salvation army":MAILTO:chippenham@salvationarmy.org.uk
END:VEVENT
END:VCALENDAR