BEGIN:VCALENDAR
VERSION:2.0
PRODID:-//One Chippenham - ECPv6.15.20//NONSGML v1.0//EN
CALSCALE:GREGORIAN
METHOD:PUBLISH
X-ORIGINAL-URL:https://onechippenham.org.uk
X-WR-CALDESC:Events for One Chippenham
REFRESH-INTERVAL;VALUE=DURATION:PT1H
X-Robots-Tag:noindex
X-PUBLISHED-TTL:PT1H
BEGIN:VTIMEZONE
TZID:Europe/London
BEGIN:DAYLIGHT
TZOFFSETFROM:+0000
TZOFFSETTO:+0100
TZNAME:BST
DTSTART:20220327T010000
END:DAYLIGHT
BEGIN:STANDARD
TZOFFSETFROM:+0100
TZOFFSETTO:+0000
TZNAME:GMT
DTSTART:20221030T010000
END:STANDARD
BEGIN:DAYLIGHT
TZOFFSETFROM:+0000
TZOFFSETTO:+0100
TZNAME:BST
DTSTART:20230326T010000
END:DAYLIGHT
BEGIN:STANDARD
TZOFFSETFROM:+0100
TZOFFSETTO:+0000
TZNAME:GMT
DTSTART:20231029T010000
END:STANDARD
BEGIN:DAYLIGHT
TZOFFSETFROM:+0000
TZOFFSETTO:+0100
TZNAME:BST
DTSTART:20240331T010000
END:DAYLIGHT
BEGIN:STANDARD
TZOFFSETFROM:+0100
TZOFFSETTO:+0000
TZNAME:GMT
DTSTART:20241027T010000
END:STANDARD
END:VTIMEZONE
BEGIN:VEVENT
DTSTART;TZID=Europe/London:20230717T190000
DTEND;TZID=Europe/London:20230717T210000
DTSTAMP:20260425T125236
CREATED:20230502T114943Z
LAST-MODIFIED:20230502T114943Z
UID:13073-1689620400-1689627600@onechippenham.org.uk
SUMMARY:Crochet for Beginners - Amigurumi Octopus
DESCRIPTION:Head under the sea and learn a new skill: Amigurumi. \nAmi-goo-what? Ami-goo-roo-me! It roughly translates as ‘cute toy’\, and that is exactly what it is. A cute toy. \nMade up of double crochets worked in spirals\, and some legs created with some long chains and double crochets\, this cute project is super straight forwards. Promise.
URL:https://onechippenham.org.uk/event/crochet-for-beginners-amigurumi-octopus/
LOCATION:The Springfield Community Campus Corsham\, Beechfield Road\, Corsham\, Wiltshire\, SN13 9DN\, United Kingdom
CATEGORIES:Crafts
ATTACH;FMTTYPE=image/jpeg:https://onechippenham.org.uk/wp-content/uploads/2023/05/Octopus-SCC-1707.jpg
ORGANIZER;CN="Crochet Bouquet":MAILTO:Crochetbouquetbyjen@gmail.com
END:VEVENT
BEGIN:VEVENT
DTSTART;TZID=Europe/London:20230728T100000
DTEND;TZID=Europe/London:20230728T120000
DTSTAMP:20260425T125236
CREATED:20230715T114537Z
LAST-MODIFIED:20230715T114537Z
UID:14350-1690538400-1690545600@onechippenham.org.uk
SUMMARY:Chippenham Children’s Centre Open Day
DESCRIPTION:Are you from Chippenham or surrounding villages with children aged 0-5 years? Why don’t you come along to our RISE Children’s Centre open day on Friday 28th July between 10am and 12.00pm? \nMeet the animals from Chloe’s Farm\, join in with activities and why not bring a picnic to enjoy in our garden? (weather permitting) 🐑 🐴 🐔🐐🐮 \n#northwiltshirefamilies #Chippenham #openday
URL:https://onechippenham.org.uk/event/chippenham-childrens-centre-open-day/
LOCATION:Wiltshire
CATEGORIES:Children,Crafts,Family,Family Friendly,Games,Open Day
ATTACH;FMTTYPE=image/jpeg:https://onechippenham.org.uk/wp-content/uploads/2023/07/92F89845-8B5D-4015-9A89-456F46579170.jpeg
ORGANIZER;CN="The Rise Trust":MAILTO:vickyw@therisetrust.org
END:VEVENT
END:VCALENDAR