BEGIN:VCALENDAR
VERSION:2.0
PRODID:-//One Chippenham - ECPv6.15.20//NONSGML v1.0//EN
CALSCALE:GREGORIAN
METHOD:PUBLISH
X-WR-CALNAME:One Chippenham
X-ORIGINAL-URL:https://onechippenham.org.uk
X-WR-CALDESC:Events for One Chippenham
REFRESH-INTERVAL;VALUE=DURATION:PT1H
X-Robots-Tag:noindex
X-PUBLISHED-TTL:PT1H
BEGIN:VTIMEZONE
TZID:Europe/London
BEGIN:DAYLIGHT
TZOFFSETFROM:+0000
TZOFFSETTO:+0100
TZNAME:BST
DTSTART:20220327T010000
END:DAYLIGHT
BEGIN:STANDARD
TZOFFSETFROM:+0100
TZOFFSETTO:+0000
TZNAME:GMT
DTSTART:20221030T010000
END:STANDARD
BEGIN:DAYLIGHT
TZOFFSETFROM:+0000
TZOFFSETTO:+0100
TZNAME:BST
DTSTART:20230326T010000
END:DAYLIGHT
BEGIN:STANDARD
TZOFFSETFROM:+0100
TZOFFSETTO:+0000
TZNAME:GMT
DTSTART:20231029T010000
END:STANDARD
BEGIN:DAYLIGHT
TZOFFSETFROM:+0000
TZOFFSETTO:+0100
TZNAME:BST
DTSTART:20240331T010000
END:DAYLIGHT
BEGIN:STANDARD
TZOFFSETFROM:+0100
TZOFFSETTO:+0000
TZNAME:GMT
DTSTART:20241027T010000
END:STANDARD
END:VTIMEZONE
BEGIN:VEVENT
DTSTART;TZID=Europe/London:20230801T090000
DTEND;TZID=Europe/London:20230801T100000
DTSTAMP:20260424T203145
CREATED:20230630T041606Z
LAST-MODIFIED:20230630T041606Z
UID:14034-1690880400-1690884000@onechippenham.org.uk
SUMMARY:Autism Friendly Quiet Time Activities
DESCRIPTION:Experience the museum’s free summer drop-in activities in a quieter way before the museum is open to the public. \nLimited to four accompanied children our Autism friendly Quiet Time sessions offer children\, who find our busy drop-in sessions uncomfortable\, an opportunity to enjoy our summer craft activities in a relaxed way. \nEach week in August there will be a new activity to enjoy inspired by the 1920s & 30s\, including design your own chocolate bar wrapper\, create Chippenham Monopoly & more! \nThese sessions are free\, with booking essential. \nTuesday’s & Thursday’s in August\n9:00-10:00 \nWorkshop details and booking: https://www.eventbrite.co.uk/e/autism-friendly-quiet-time-summer-activities-tickets-662230738967
URL:https://onechippenham.org.uk/event/autism-friendly-quiet-time-activities-2/2023-08-01/
LOCATION:Chippenham Museum\, 9-10 Market Pl\, Chippenham\, SN15 3HF\, United Kingdom
CATEGORIES:Autism,Autism friendly,Children,Crafts,Family,Family Friendly,Museum
ATTACH;FMTTYPE=image/jpeg:https://onechippenham.org.uk/wp-content/uploads/2023/06/Quiet-Time-Grid.jpg
END:VEVENT
BEGIN:VEVENT
DTSTART;TZID=Europe/London:20230801T103000
DTEND;TZID=Europe/London:20230801T153000
DTSTAMP:20260424T203145
CREATED:20230630T040256Z
LAST-MODIFIED:20230630T041114Z
UID:14010-1690885800-1690903800@onechippenham.org.uk
SUMMARY:Summer Family Creative Activities
DESCRIPTION:Get creative this summer at our free family drop ins inspired by the 1920s & 30s\, with new activities each week. Design your own chocolate bar wrapper\, create Chippenham Monopoly & more! \nTuesday’s & Thursday’s in August.\nDrop In 10.30-3.30.
URL:https://onechippenham.org.uk/event/summer-family-creative-activities/2023-08-01/
LOCATION:Chippenham Museum\, 9-10 Market Pl\, Chippenham\, SN15 3HF\, United Kingdom
CATEGORIES:Crafts,Family Friendly,Museum
ATTACH;FMTTYPE=image/png:https://onechippenham.org.uk/wp-content/uploads/2023/06/50D29ACF-B107-499E-BFA9-F34E4EFE4568.png
END:VEVENT
BEGIN:VEVENT
DTSTART;TZID=Europe/London:20230816T103000
DTEND;TZID=Europe/London:20230816T123000
DTSTAMP:20260424T203145
CREATED:20230811T092227Z
LAST-MODIFIED:20230811T095741Z
UID:14586-1692181800-1692189000@onechippenham.org.uk
SUMMARY:Pressed Flower Workshop
DESCRIPTION:Come and join Tracey of Mrs Mosley’s Posies for a creative\, relaxing couple of hours\, learning the ancient skill of Flower Pressing. \nIn a small group\, participants will be provided with their own flower press to use and hand picked flowers. Tracey will demonstrate techniques and provide plenty of advice on how to create beautiful results. \nAfter some delicious home made refreshments\, you will also have the opportunity to create greeting cards with some of Tracey’s pre-pressed blooms to take home with you. \nAll materials and refreshments are included in the price.
URL:https://onechippenham.org.uk/event/pressed-flower-workshop/
LOCATION:Hilltop\, Yatton Keynell\, Wiltshire\, Hilltop\, Yatton Keynell\, Wiltshire\, SN14 7BA\, United Kingdom
CATEGORIES:Crafts
ATTACH;FMTTYPE=image/jpeg:https://onechippenham.org.uk/wp-content/uploads/2023/08/Flowers.jpeg
END:VEVENT
END:VCALENDAR