BEGIN:VCALENDAR
VERSION:2.0
PRODID:-//One Chippenham - ECPv6.15.20//NONSGML v1.0//EN
CALSCALE:GREGORIAN
METHOD:PUBLISH
X-ORIGINAL-URL:https://onechippenham.org.uk
X-WR-CALDESC:Events for One Chippenham
REFRESH-INTERVAL;VALUE=DURATION:PT1H
X-Robots-Tag:noindex
X-PUBLISHED-TTL:PT1H
BEGIN:VTIMEZONE
TZID:Europe/London
BEGIN:DAYLIGHT
TZOFFSETFROM:+0000
TZOFFSETTO:+0100
TZNAME:BST
DTSTART:20220327T010000
END:DAYLIGHT
BEGIN:STANDARD
TZOFFSETFROM:+0100
TZOFFSETTO:+0000
TZNAME:GMT
DTSTART:20221030T010000
END:STANDARD
BEGIN:DAYLIGHT
TZOFFSETFROM:+0000
TZOFFSETTO:+0100
TZNAME:BST
DTSTART:20230326T010000
END:DAYLIGHT
BEGIN:STANDARD
TZOFFSETFROM:+0100
TZOFFSETTO:+0000
TZNAME:GMT
DTSTART:20231029T010000
END:STANDARD
BEGIN:DAYLIGHT
TZOFFSETFROM:+0000
TZOFFSETTO:+0100
TZNAME:BST
DTSTART:20240331T010000
END:DAYLIGHT
BEGIN:STANDARD
TZOFFSETFROM:+0100
TZOFFSETTO:+0000
TZNAME:GMT
DTSTART:20241027T010000
END:STANDARD
END:VTIMEZONE
BEGIN:VEVENT
DTSTART;TZID=Europe/London:20231120T190000
DTEND;TZID=Europe/London:20231120T210000
DTSTAMP:20260422T025952
CREATED:20231016T163240Z
LAST-MODIFIED:20231016T163240Z
UID:16124-1700506800-1700514000@onechippenham.org.uk
SUMMARY:Luxury Yarn Wreath Making
DESCRIPTION:Christmas is coming. \nCreate your own wreath that will stand the test of time. No more of this dying pine needles dropping on your porch. \nMade using Wool Couture Epic Extreme 100% Unspun Merino Wool and decorated with a range of Christmassy treats\, pom poms and felt balls\, you can truly make your wreath your own. Pick your base colour\, and on the day you will have the option of many different colours and materials to decoration you individual wreath. \nChristmas Pudding Wreaths will come with pre-made holly leaves\, but if you would like to make them yourselves\, the pattern will be available to do so. \nProfits made from this workshop will be donated to Alzheimer’s Support Wiltshire. \nNote: Handmade decorations are available at a surplus charge of £4 per decoration\, or 3 for £10.
URL:https://onechippenham.org.uk/event/luxury-yarn-wreath-making/
LOCATION:The Springfield Community Campus Corsham\, Beechfield Road\, Corsham\, Wiltshire\, SN13 9DN\, United Kingdom
CATEGORIES:Arts,Christmas,Crafts
ATTACH;FMTTYPE=image/jpeg:https://onechippenham.org.uk/wp-content/uploads/2023/10/CrochetBouquet-ChristmasWreath3.jpg
ORGANIZER;CN="Crochet Bouquet":MAILTO:Crochetbouquetbyjen@gmail.com
END:VEVENT
BEGIN:VEVENT
DTSTART;TZID=Europe/London:20231122T180000
DTEND;TZID=Europe/London:20231122T200000
DTSTAMP:20260422T025952
CREATED:20231016T163745Z
LAST-MODIFIED:20231016T163745Z
UID:16129-1700676000-1700683200@onechippenham.org.uk
SUMMARY:Luxury Yarn Wreath Making
DESCRIPTION:Christmas is coming. \nCreate your own wreath that will stand the test of time. No more of this dying pine needles dropping on your porch. \nMade using Wool Couture Epic Extreme 100% Unspun Merino Wool and decorated with a range of Christmassy treats\, pom poms and felt balls\, you can truly make your wreath your own. Pick your base colour\, and on the day you will have the option of many different colours and materials to decoration you individual wreath. \nChristmas Pudding Wreaths will come with pre-made holly leaves\, but if you would like to make them yourselves\, the pattern will be available to do so. \nNote: Handmade decorations are available at a surplus charge of £4 per decoration\, or 3 for £10.
URL:https://onechippenham.org.uk/event/luxury-yarn-wreath-making-2/2023-11-22/
LOCATION:The Court Street Gallery\, Unit 14\, Meadow Works\, Court Street\, Trowbridge\, Wiltshire\, BA14 8BR\, United Kingdom
CATEGORIES:Arts,Christmas,Crafts
ATTACH;FMTTYPE=image/jpeg:https://onechippenham.org.uk/wp-content/uploads/2023/10/CrochetBouquet-ChristmasWreath3-1.jpg
ORGANIZER;CN="Crochet Bouquet":MAILTO:Crochetbouquetbyjen@gmail.com
END:VEVENT
BEGIN:VEVENT
DTSTART;TZID=Europe/London:20231125T110000
DTEND;TZID=Europe/London:20231125T150000
DTSTAMP:20260422T025952
CREATED:20231106T203910Z
LAST-MODIFIED:20231106T203910Z
UID:17043-1700910000-1700924400@onechippenham.org.uk
SUMMARY:Chippenham Christmas Market
DESCRIPTION:Already 20 stalls booked for our Christmas markets on the 25th Nov and 9th December. \nAll stalls will be undercover and FREE to makers\, crafters\, charities and community groups.\nLet’s make this something special again this year! \nTo book email cousin.normz@gmail.com
URL:https://onechippenham.org.uk/event/chippenham-christmas-market/2023-11-25/
LOCATION:Cousin Norman’s\, 5 Union Road\, Chippenham\, SN15 1HW
CATEGORIES:Christmas,Community,Crafts,Family Friendly,Food and Drink,Market
ATTACH;FMTTYPE=image/jpeg:https://onechippenham.org.uk/wp-content/uploads/2023/11/IMG_8176.jpeg
ORGANIZER;CN="Cousin Norman%E2%80%99s":MAILTO:cousin.normz@gmail.com
END:VEVENT
BEGIN:VEVENT
DTSTART;TZID=Europe/London:20231125T110000
DTEND;TZID=Europe/London:20231125T160000
DTSTAMP:20260422T025952
CREATED:20231120T142148Z
LAST-MODIFIED:20231120T142148Z
UID:19731-1700910000-1700928000@onechippenham.org.uk
SUMMARY:
DESCRIPTION:All sorts of ‘crafty’ things will be taking place in the form of arts and craft stalls\, gifts\, workshops and activities. Refreshments available – we hope to see you there!
URL:https://onechippenham.org.uk/event/19731/
LOCATION:Sheldon Methodist Church\, Audley Road\, SN14 0DU
CATEGORIES:Arts,Christmas,Community,Crafts,Family Friendly,Fayre
ATTACH;FMTTYPE=image/jpeg:https://onechippenham.org.uk/wp-content/uploads/2023/11/IMG_8576.jpeg
END:VEVENT
END:VCALENDAR