BEGIN:VCALENDAR
VERSION:2.0
PRODID:-//One Chippenham - ECPv6.15.20//NONSGML v1.0//EN
CALSCALE:GREGORIAN
METHOD:PUBLISH
X-WR-CALNAME:One Chippenham
X-ORIGINAL-URL:https://onechippenham.org.uk
X-WR-CALDESC:Events for One Chippenham
REFRESH-INTERVAL;VALUE=DURATION:PT1H
X-Robots-Tag:noindex
X-PUBLISHED-TTL:PT1H
BEGIN:VTIMEZONE
TZID:Europe/London
BEGIN:DAYLIGHT
TZOFFSETFROM:+0000
TZOFFSETTO:+0100
TZNAME:BST
DTSTART:20220327T010000
END:DAYLIGHT
BEGIN:STANDARD
TZOFFSETFROM:+0100
TZOFFSETTO:+0000
TZNAME:GMT
DTSTART:20221030T010000
END:STANDARD
BEGIN:DAYLIGHT
TZOFFSETFROM:+0000
TZOFFSETTO:+0100
TZNAME:BST
DTSTART:20230326T010000
END:DAYLIGHT
BEGIN:STANDARD
TZOFFSETFROM:+0100
TZOFFSETTO:+0000
TZNAME:GMT
DTSTART:20231029T010000
END:STANDARD
BEGIN:DAYLIGHT
TZOFFSETFROM:+0000
TZOFFSETTO:+0100
TZNAME:BST
DTSTART:20240331T010000
END:DAYLIGHT
BEGIN:STANDARD
TZOFFSETFROM:+0100
TZOFFSETTO:+0000
TZNAME:GMT
DTSTART:20241027T010000
END:STANDARD
END:VTIMEZONE
BEGIN:VEVENT
DTSTART;TZID=Europe/London:20230816T103000
DTEND;TZID=Europe/London:20230816T123000
DTSTAMP:20260425T163612
CREATED:20230811T092227Z
LAST-MODIFIED:20230811T095741Z
UID:14586-1692181800-1692189000@onechippenham.org.uk
SUMMARY:Pressed Flower Workshop
DESCRIPTION:Come and join Tracey of Mrs Mosley’s Posies for a creative\, relaxing couple of hours\, learning the ancient skill of Flower Pressing. \nIn a small group\, participants will be provided with their own flower press to use and hand picked flowers. Tracey will demonstrate techniques and provide plenty of advice on how to create beautiful results. \nAfter some delicious home made refreshments\, you will also have the opportunity to create greeting cards with some of Tracey’s pre-pressed blooms to take home with you. \nAll materials and refreshments are included in the price.
URL:https://onechippenham.org.uk/event/pressed-flower-workshop/
LOCATION:Hilltop\, Yatton Keynell\, Wiltshire\, Hilltop\, Yatton Keynell\, Wiltshire\, SN14 7BA\, United Kingdom
CATEGORIES:Crafts
ATTACH;FMTTYPE=image/jpeg:https://onechippenham.org.uk/wp-content/uploads/2023/08/Flowers.jpeg
END:VEVENT
END:VCALENDAR