BEGIN:VCALENDAR
VERSION:2.0
PRODID:-//One Chippenham - ECPv6.15.20//NONSGML v1.0//EN
CALSCALE:GREGORIAN
METHOD:PUBLISH
X-WR-CALNAME:One Chippenham
X-ORIGINAL-URL:https://onechippenham.org.uk
X-WR-CALDESC:Events for One Chippenham
REFRESH-INTERVAL;VALUE=DURATION:PT1H
X-Robots-Tag:noindex
X-PUBLISHED-TTL:PT1H
BEGIN:VTIMEZONE
TZID:Europe/London
BEGIN:DAYLIGHT
TZOFFSETFROM:+0000
TZOFFSETTO:+0100
TZNAME:BST
DTSTART:20230326T010000
END:DAYLIGHT
BEGIN:STANDARD
TZOFFSETFROM:+0100
TZOFFSETTO:+0000
TZNAME:GMT
DTSTART:20231029T010000
END:STANDARD
BEGIN:DAYLIGHT
TZOFFSETFROM:+0000
TZOFFSETTO:+0100
TZNAME:BST
DTSTART:20240331T010000
END:DAYLIGHT
BEGIN:STANDARD
TZOFFSETFROM:+0100
TZOFFSETTO:+0000
TZNAME:GMT
DTSTART:20241027T010000
END:STANDARD
BEGIN:DAYLIGHT
TZOFFSETFROM:+0000
TZOFFSETTO:+0100
TZNAME:BST
DTSTART:20250330T010000
END:DAYLIGHT
BEGIN:STANDARD
TZOFFSETFROM:+0100
TZOFFSETTO:+0000
TZNAME:GMT
DTSTART:20251026T010000
END:STANDARD
END:VTIMEZONE
BEGIN:VEVENT
DTSTART;VALUE=DATE:20240212
DTEND;VALUE=DATE:20240213
DTSTAMP:20260420T141926
CREATED:20240211T082338Z
LAST-MODIFIED:20240211T082338Z
UID:27355-1707696000-1707782399@onechippenham.org.uk
SUMMARY:Dragons! Half term at Chippenham Library
DESCRIPTION:Do you love dragons? To mark the start of the Chinese Year of the Dragon\, we will be celebrating all things dragon-ish this half-term at Chippenham Library. We have story times\, Lego challenges\, an animal trail\, games\, colouring\, crafts and\, of course\, lots and lots of books for your little ones to enjoy so come and have fun in the library this half-term! \nFor bookable activities\, ask at the library counter or call 01249 650536
URL:https://onechippenham.org.uk/event/dragons-half-term-at-chippenham-library/2024-02-12/
LOCATION:Chippenham Library
CATEGORIES:Children,Community,Crafts,Family,Family Friendly,Half-Term,Indoor,Primary age children,School holiday,Storytelling,Teens,Tweens
ATTACH;FMTTYPE=image/png:https://onechippenham.org.uk/wp-content/uploads/2024/01/2024-01-29_65b78995a5772_Halftermposterfeb24.png
END:VEVENT
BEGIN:VEVENT
DTSTART;TZID=Europe/London:20240213T093000
DTEND;TZID=Europe/London:20240213T103000
DTSTAMP:20260420T141926
CREATED:20240130T132013Z
LAST-MODIFIED:20240130T132013Z
UID:26563-1707816600-1707820200@onechippenham.org.uk
SUMMARY:Quiet Time: Half Term Activity
DESCRIPTION:Tuesday 13 February\n9.30am – 10.30am\nFree\, booking essential via Eventbrite \nBook one of four places for accompanied children to enjoy our free drop-in activities in a quieter way. \nThese free sessions are for children who would find the busy nature of our drop-in sessions uncomfortable. Instead\, book to join a smaller group of children in a quieter session before the museum is open to the public. \nThese sessions are free\, with booking essential. Please book a space for all accompanied children attending. \nWorkshop details: \nExplore work by artist Ellie Thompson on display before the museum opens to the public and get creative with our related craft activity.
URL:https://onechippenham.org.uk/event/quiet-time-half-term-activity/
LOCATION:Chippenham Museum\, 9-10 Market Pl\, Chippenham\, SN15 3HF\, United Kingdom
CATEGORIES:Arts,Autism,Autism friendly,Crafts,Family,Family Friendly,Half-Term,Museum
ATTACH;FMTTYPE=image/jpeg:https://onechippenham.org.uk/wp-content/uploads/2024/01/Quiet-Time-Grid.jpg
ORGANIZER;CN="Chippenham Museum":MAILTO:heritage@chippenham.gov.uk
END:VEVENT
BEGIN:VEVENT
DTSTART;TZID=Europe/London:20240213T103000
DTEND;TZID=Europe/London:20240213T153000
DTSTAMP:20260420T141926
CREATED:20240130T132055Z
LAST-MODIFIED:20240210T081012Z
UID:26556-1707820200-1707838200@onechippenham.org.uk
SUMMARY:Half Term Craft Activity at Chippenham Museum
DESCRIPTION:Tuesday 13 February\n10.30am – 3.30pm\nFree\, drop-in \nExplore work by artist Ellie Thompson\, on display in the museum and get creative with our related craft activity.
URL:https://onechippenham.org.uk/event/half-term-activity/
LOCATION:Chippenham Museum\, 9-10 Market Pl\, Chippenham\, SN15 3HF\, United Kingdom
CATEGORIES:Arts,Children,Crafts,Family,Family Friendly,Museum
ATTACH;FMTTYPE=image/jpeg:https://onechippenham.org.uk/wp-content/uploads/2024/01/Activity-Grid.jpg
ORGANIZER;CN="Chippenham Museum":MAILTO:heritage@chippenham.gov.uk
END:VEVENT
END:VCALENDAR