BEGIN:VCALENDAR
VERSION:2.0
PRODID:-//One Chippenham - ECPv6.15.20//NONSGML v1.0//EN
CALSCALE:GREGORIAN
METHOD:PUBLISH
X-ORIGINAL-URL:https://onechippenham.org.uk
X-WR-CALDESC:Events for One Chippenham
REFRESH-INTERVAL;VALUE=DURATION:PT1H
X-Robots-Tag:noindex
X-PUBLISHED-TTL:PT1H
BEGIN:VTIMEZONE
TZID:Europe/London
BEGIN:DAYLIGHT
TZOFFSETFROM:+0000
TZOFFSETTO:+0100
TZNAME:BST
DTSTART:20240331T010000
END:DAYLIGHT
BEGIN:STANDARD
TZOFFSETFROM:+0100
TZOFFSETTO:+0000
TZNAME:GMT
DTSTART:20241027T010000
END:STANDARD
BEGIN:DAYLIGHT
TZOFFSETFROM:+0000
TZOFFSETTO:+0100
TZNAME:BST
DTSTART:20250330T010000
END:DAYLIGHT
BEGIN:STANDARD
TZOFFSETFROM:+0100
TZOFFSETTO:+0000
TZNAME:GMT
DTSTART:20251026T010000
END:STANDARD
BEGIN:DAYLIGHT
TZOFFSETFROM:+0000
TZOFFSETTO:+0100
TZNAME:BST
DTSTART:20260329T010000
END:DAYLIGHT
BEGIN:STANDARD
TZOFFSETFROM:+0100
TZOFFSETTO:+0000
TZNAME:GMT
DTSTART:20261025T010000
END:STANDARD
END:VTIMEZONE
BEGIN:VEVENT
DTSTART;TZID=Europe/London:20250415T113000
DTEND;TZID=Europe/London:20250415T153000
DTSTAMP:20260423T191535
CREATED:20250329T074004Z
LAST-MODIFIED:20250329T074004Z
UID:40209-1744716600-1744731000@onechippenham.org.uk
SUMMARY:Rag & Bone Arts CIC Writing for Performance Workshop with Florence Espeutt-Nickless
DESCRIPTION:Come along and work with: Actor and writer Florence Espeutt-Nickless \nLearn how to write for stage: based on Florence’s award winning one-woman show\, Destiny\, this workshop will focus on how you create an engaging character who can tell the stories you want people to hear. \nGroup 2 (14-18 or improvers)11.30 – 1pm\nPizza 1 – 1.30pm\nGroup 2 : (11-13’s or beginners) 1.30 pm – 3pm\nYouth Cafe 3 – 4.30pm (Feel free to perform if you wish) \nFlorence Espeut-Nickless is an award-winning writer and actor from Chippenham. She attended Hardenhuish School and Wiltshire College before training as an actor at Uni and Drama School. Her play DESTINY is inspired by her experiences growing up on Hill Rise in the noughties. It has won awards and toured extensively across the UK and in Denmark. She was 2024 Writer in Residence at Bristol Old Vic and has recently written plays for the National Theatre\, Bristol Old Vic\, Trowbridge Town Hall and Restoke.
URL:https://onechippenham.org.uk/event/rag-bone-arts-cic-writing-for-performance-workshop-with-florence-espeutt-nickless/
LOCATION:Neeld Community & Arts Centre\, The Neeld\, High Street\, Chippenham\, Wiltshire\, SN15 3ER\, United Kingdom
CATEGORIES:Creative Writing,Theatre,Workshop
ATTACH;FMTTYPE=image/png:https://onechippenham.org.uk/wp-content/uploads/2025/03/Rag-and-Bone-FB-Headers-6-Flo.png
ORGANIZER;CN="Rag and Bone Arts CIC":MAILTO:ragandbonearts@gmail.com
END:VEVENT
END:VCALENDAR