BEGIN:VCALENDAR
VERSION:2.0
PRODID:-//One Chippenham - ECPv6.15.20//NONSGML v1.0//EN
CALSCALE:GREGORIAN
METHOD:PUBLISH
X-ORIGINAL-URL:https://onechippenham.org.uk
X-WR-CALDESC:Events for One Chippenham
REFRESH-INTERVAL;VALUE=DURATION:PT1H
X-Robots-Tag:noindex
X-PUBLISHED-TTL:PT1H
BEGIN:VTIMEZONE
TZID:Europe/London
BEGIN:DAYLIGHT
TZOFFSETFROM:+0000
TZOFFSETTO:+0100
TZNAME:BST
DTSTART:20230326T010000
END:DAYLIGHT
BEGIN:STANDARD
TZOFFSETFROM:+0100
TZOFFSETTO:+0000
TZNAME:GMT
DTSTART:20231029T010000
END:STANDARD
BEGIN:DAYLIGHT
TZOFFSETFROM:+0000
TZOFFSETTO:+0100
TZNAME:BST
DTSTART:20240331T010000
END:DAYLIGHT
BEGIN:STANDARD
TZOFFSETFROM:+0100
TZOFFSETTO:+0000
TZNAME:GMT
DTSTART:20241027T010000
END:STANDARD
BEGIN:DAYLIGHT
TZOFFSETFROM:+0000
TZOFFSETTO:+0100
TZNAME:BST
DTSTART:20250330T010000
END:DAYLIGHT
BEGIN:STANDARD
TZOFFSETFROM:+0100
TZOFFSETTO:+0000
TZNAME:GMT
DTSTART:20251026T010000
END:STANDARD
END:VTIMEZONE
BEGIN:VEVENT
DTSTART;TZID=Europe/London:20240218T200000
DTEND;TZID=Europe/London:20240218T200000
DTSTAMP:20260425T002713
CREATED:20240203T081147Z
LAST-MODIFIED:20240203T081208Z
UID:26911-1708286400-1708286400@onechippenham.org.uk
SUMMARY:Valentines Ball - Terry Franks and 41 degrees big band
DESCRIPTION:Dress to impress for an evening of big band music\, singing\, and dancing. Terry Franks and the 41 degrees big band have been performing for many years and will transport you back to that golden era of jazz\, swing\, and crooning. \nOver 18s only – £22 per ticket \nProsecco and nibbles will be included. \n10% discount for complete table bookings. \nEvery single penny of profit will be given to Sarcoma UK \nDoors open 1930\nEvent starts 2000 \nTickets available from: https://fixr.co/event/valentines-big-band-ball-tickets-385397693
URL:https://onechippenham.org.uk/event/valentines-ball-terry-franks-and-41-degrees-big-band/
LOCATION:Neeld Community & Arts Centre\, The Neeld\, High Street\, Chippenham\, Wiltshire\, SN15 3ER\, United Kingdom
CATEGORIES:Adults,Ball,Dance,Music
ATTACH;FMTTYPE=image/jpeg:https://onechippenham.org.uk/wp-content/uploads/2024/02/IMG_0432.jpeg
END:VEVENT
BEGIN:VEVENT
DTSTART;TZID=Europe/London:20240224T150000
DTEND;TZID=Europe/London:20240224T160000
DTSTAMP:20260425T002713
CREATED:20240130T215628Z
LAST-MODIFIED:20240130T221526Z
UID:26665-1708786800-1708790400@onechippenham.org.uk
SUMMARY:'Steppin' Thru Time'\, Fringe Feb
DESCRIPTION:Mary Lou Revue\, a vintage song and dance duo presents ‘Steppin’ Thru Time’; a celebration of music and stars from the 1930s through to the 1970s. \n\nThe show\, featuring classic songs made famous by Frank Sinatra\, Louis Armstrong\, Tom Jones\, Ella Fitzgerald\, Peggy Lee and the Mammas and Papas\, will have you tapping your toes and singing along. \nWith timeless melodies and nifty dance moves\, there’s something for all ages. Guaranteed to put a spring in your step and a song in your heart. \n\nDoors Open 2.30pm\, with the performance running from 3-4pm\nTickets £5 (+ booking fee)\nBook tickets here: https://www.ticketsource.co.uk/chippenhamchat/t-earxvzy\n\n\nThis event is part of a three-day arts festival happening around Chippenham from the 23rd-25th February. Find out more about Chippenham Fringe Feb 2024 and the other creative and vibrant Fringe performances and activities taking place by visiting our website here. \nChippenham Fringe Feb is produced and delivered by Melt Productions in collaboration with Chippenham Borough Lands Charity (CBLC) and the Chippenham Chat group. Funding for the event is provided by Chippenham Borough Lands Charity. \n#FringeFeb24 #FringeFeb #ChippEvents \n 
URL:https://onechippenham.org.uk/event/steppin-thru-time-fringe-feb/
LOCATION:The Yelde Hall
CATEGORIES:Adults,Arts,Dance,Family Friendly,Fringe Feb,Music,Over 60's,Performance,Performing Arts
ATTACH;FMTTYPE=image/png:https://onechippenham.org.uk/wp-content/uploads/2024/01/Mary-Lou-Revue.png
END:VEVENT
BEGIN:VEVENT
DTSTART;TZID=Europe/London:20240225T160000
DTEND;TZID=Europe/London:20240225T170000
DTSTAMP:20260425T002713
CREATED:20240131T100347Z
LAST-MODIFIED:20240215T114735Z
UID:26696-1708876800-1708880400@onechippenham.org.uk
SUMMARY:aKa Dance Theatre present Shed-ache\, Fringe Feb
DESCRIPTION:Be prepared to be blown away by aKa’s brand new family friendly show which is bright and sunny! \nToday’s forecast includes brisk boogying\, severe silliness and spells of confetti showers.With extreme movement travelling in all directions\, we predict joy spreading across large areas. \nYou’ll need to hold on to your hats\, as we foresee a high chance of slapstick\, with all predictions pointing towards it raining snacks and socks. \nUnpredictable and unusual conditions prompt us to travel hand in hand as we join together to soak up the silly.   \nWith 100% chance of laughter you’ll be reminded of the importance of embracing experiences whatever the weather. \n\nAimed at 3-8yrs but older and younger children very welcome \nTickets – on the door £5-7\, but pre-book in advance for £5 here\n\n  \n\nThis event is part of a three-day arts festival happening around Chippenham from the 23rd-25th February. Find out more about Chippenham Fringe Feb 2024 and the other creative and vibrant Fringe performances and activities taking place by visiting here. \nChippenham Fringe Feb is produced and delivered by Melt Productions in collaboration with Chippenham Borough Lands Charity (CBLC) and the Chippenham Chat group. Funding for the event is provided by Chippenham Borough Lands Charity. \n#FringeFeb24 #FringeFeb #ChippEvents
URL:https://onechippenham.org.uk/event/aka-dance-theatre-present-shed-ache-fringe-feb/
LOCATION:Constitutional Club\, 36 Foghamshire\, Chippenham\, SN15 1HB\, United Kingdom
CATEGORIES:Arts,Children,Dance,Family Friendly,Fringe Feb,Performance,Performing Arts,Pre-school,Primary age children,Theatre
ATTACH;FMTTYPE=image/webp:https://onechippenham.org.uk/wp-content/uploads/2024/01/IMG_0374.webp
END:VEVENT
END:VCALENDAR