BEGIN:VCALENDAR
VERSION:2.0
PRODID:-//One Chippenham - ECPv6.15.20//NONSGML v1.0//EN
CALSCALE:GREGORIAN
METHOD:PUBLISH
X-WR-CALNAME:One Chippenham
X-ORIGINAL-URL:https://onechippenham.org.uk
X-WR-CALDESC:Events for One Chippenham
REFRESH-INTERVAL;VALUE=DURATION:PT1H
X-Robots-Tag:noindex
X-PUBLISHED-TTL:PT1H
BEGIN:VTIMEZONE
TZID:Europe/London
BEGIN:DAYLIGHT
TZOFFSETFROM:+0000
TZOFFSETTO:+0100
TZNAME:BST
DTSTART:20220327T010000
END:DAYLIGHT
BEGIN:STANDARD
TZOFFSETFROM:+0100
TZOFFSETTO:+0000
TZNAME:GMT
DTSTART:20221030T010000
END:STANDARD
BEGIN:DAYLIGHT
TZOFFSETFROM:+0000
TZOFFSETTO:+0100
TZNAME:BST
DTSTART:20230326T010000
END:DAYLIGHT
BEGIN:STANDARD
TZOFFSETFROM:+0100
TZOFFSETTO:+0000
TZNAME:GMT
DTSTART:20231029T010000
END:STANDARD
BEGIN:DAYLIGHT
TZOFFSETFROM:+0000
TZOFFSETTO:+0100
TZNAME:BST
DTSTART:20240331T010000
END:DAYLIGHT
BEGIN:STANDARD
TZOFFSETFROM:+0100
TZOFFSETTO:+0000
TZNAME:GMT
DTSTART:20241027T010000
END:STANDARD
END:VTIMEZONE
BEGIN:VEVENT
DTSTART;TZID=Europe/London:20231125T100000
DTEND;TZID=Europe/London:20231125T120000
DTSTAMP:20260423T005118
CREATED:20231027T191639Z
LAST-MODIFIED:20231027T191807Z
UID:16349-1700906400-1700913600@onechippenham.org.uk
SUMMARY:Wiltshire College & University Centre Chippenham Campus Open Day
DESCRIPTION:Join us at our Chippenham Open Day on Saturday 25 November from 10am to 12noon. \nThis is a great chance for you to come and vis­it Wiltshire College & University Centre to dis­cov­er our range of cours­es from full time post-16 courses to our Higher Education courses and Adult Learning part time courses\, view our amaz­ing facil­i­ties\, meet our tutors\, and speak to our stu­dent ser­vices about fund­ing\, trans­port\, careers advice and learn­ing sup­port. You will also be able to fill out your appli­ca­tion form with our Admis­sions Team! \nTo attend\, sim­ply book your place through Eventbrite here.
URL:https://onechippenham.org.uk/event/wiltshire-college-university-centre-chippenham-campus-open-day/
LOCATION:Wiltshire College & University Centre Chippenham\, Cocklebury Road\, Chippenham\, SN15 3QD\, United Kingdom
CATEGORIES:Education
ATTACH;FMTTYPE=image/jpeg:https://onechippenham.org.uk/wp-content/uploads/2023/10/IMG_7811.jpeg
END:VEVENT
END:VCALENDAR