BEGIN:VCALENDAR
VERSION:2.0
PRODID:-//One Chippenham - ECPv6.15.20//NONSGML v1.0//EN
CALSCALE:GREGORIAN
METHOD:PUBLISH
X-ORIGINAL-URL:https://onechippenham.org.uk
X-WR-CALDESC:Events for One Chippenham
REFRESH-INTERVAL;VALUE=DURATION:PT1H
X-Robots-Tag:noindex
X-PUBLISHED-TTL:PT1H
BEGIN:VTIMEZONE
TZID:Europe/London
BEGIN:DAYLIGHT
TZOFFSETFROM:+0000
TZOFFSETTO:+0100
TZNAME:BST
DTSTART:20220327T010000
END:DAYLIGHT
BEGIN:STANDARD
TZOFFSETFROM:+0100
TZOFFSETTO:+0000
TZNAME:GMT
DTSTART:20221030T010000
END:STANDARD
BEGIN:DAYLIGHT
TZOFFSETFROM:+0000
TZOFFSETTO:+0100
TZNAME:BST
DTSTART:20230326T010000
END:DAYLIGHT
BEGIN:STANDARD
TZOFFSETFROM:+0100
TZOFFSETTO:+0000
TZNAME:GMT
DTSTART:20231029T010000
END:STANDARD
BEGIN:DAYLIGHT
TZOFFSETFROM:+0000
TZOFFSETTO:+0100
TZNAME:BST
DTSTART:20240331T010000
END:DAYLIGHT
BEGIN:STANDARD
TZOFFSETFROM:+0100
TZOFFSETTO:+0000
TZNAME:GMT
DTSTART:20241027T010000
END:STANDARD
END:VTIMEZONE
BEGIN:VEVENT
DTSTART;VALUE=DATE:20231015
DTEND;VALUE=DATE:20231016
DTSTAMP:20260423T231752
CREATED:20230302T064807Z
LAST-MODIFIED:20230302T064807Z
UID:12246-1697328000-1697414399@onechippenham.org.uk
SUMMARY:Bath Half for RUHX
DESCRIPTION:Always wanted to run the iconic Bath Half Marathon? Why not do it whilst raising money for your local hospital\, the RUH. \nWe still have a number of RUHX charity places available\, so sign up today for your free RUHX running vest\, dedicated support throughout the whole journey and the loudest cheers on the day. \nHelp your local hospital\, and sign up today: https://ruhx.org.uk/events/bath-half/
URL:https://onechippenham.org.uk/event/bath-half-for-ruhx/
LOCATION:Queens Square\, Queens Square\, Bath\, BA1 2HX
CATEGORIES:Charity,Exercise,Sport
ATTACH;FMTTYPE=image/png:https://onechippenham.org.uk/wp-content/uploads/2023/03/Bath-Half-Athletics-Post.png
ORGANIZER;CN="RUHX":MAILTO:fundraising@ruhx.org.uk
END:VEVENT
BEGIN:VEVENT
DTSTART;TZID=Europe/London:20231031T193000
DTEND;TZID=Europe/London:20231031T213000
DTSTAMP:20260423T231752
CREATED:20231025T180739Z
LAST-MODIFIED:20231025T180739Z
UID:16327-1698780600-1698787800@onechippenham.org.uk
SUMMARY:Sahara Sisters Belly Dancing class
DESCRIPTION:Wiltshire ladies: Looking for a new hobby? Something to get you out of the house/doing some gentle exercise/meeting lovely people? \nThen join us on Tuesday evenings (your first class is free) to see all these benefits! Get in touch for details. \n  \n 
URL:https://onechippenham.org.uk/event/sahara-sisters-belly-dancing-class/2023-10-31/
LOCATION:King Alfred Hall\, Market Place\, Chippenham\, SN15 3HT
CATEGORIES:Adults,Dance,Exercise
ATTACH;FMTTYPE=image/jpeg:https://onechippenham.org.uk/wp-content/uploads/2023/10/IMG_7787.jpeg
END:VEVENT
END:VCALENDAR