BEGIN:VCALENDAR
VERSION:2.0
PRODID:-//One Chippenham - ECPv6.15.20//NONSGML v1.0//EN
CALSCALE:GREGORIAN
METHOD:PUBLISH
X-ORIGINAL-URL:https://onechippenham.org.uk
X-WR-CALDESC:Events for One Chippenham
REFRESH-INTERVAL;VALUE=DURATION:PT1H
X-Robots-Tag:noindex
X-PUBLISHED-TTL:PT1H
BEGIN:VTIMEZONE
TZID:Europe/London
BEGIN:DAYLIGHT
TZOFFSETFROM:+0000
TZOFFSETTO:+0100
TZNAME:BST
DTSTART:20230326T010000
END:DAYLIGHT
BEGIN:STANDARD
TZOFFSETFROM:+0100
TZOFFSETTO:+0000
TZNAME:GMT
DTSTART:20231029T010000
END:STANDARD
BEGIN:DAYLIGHT
TZOFFSETFROM:+0000
TZOFFSETTO:+0100
TZNAME:BST
DTSTART:20240331T010000
END:DAYLIGHT
BEGIN:STANDARD
TZOFFSETFROM:+0100
TZOFFSETTO:+0000
TZNAME:GMT
DTSTART:20241027T010000
END:STANDARD
BEGIN:DAYLIGHT
TZOFFSETFROM:+0000
TZOFFSETTO:+0100
TZNAME:BST
DTSTART:20250330T010000
END:DAYLIGHT
BEGIN:STANDARD
TZOFFSETFROM:+0100
TZOFFSETTO:+0000
TZNAME:GMT
DTSTART:20251026T010000
END:STANDARD
END:VTIMEZONE
BEGIN:VEVENT
DTSTART;TZID=Europe/London:20240907T100000
DTEND;TZID=Europe/London:20241026T160000
DTSTAMP:20260421T195147
CREATED:20240821T094101Z
LAST-MODIFIED:20240821T094101Z
UID:32336-1725703200-1729958400@onechippenham.org.uk
SUMMARY:John Hitchens: Migrating Thoughts
DESCRIPTION:Presents a selection of the artist’s abstract landscape paintings that explore interactions between nature\, space and form. The exhibition traces these elements back to his early explorations as a student at the Bath Academy of Art Corsham.
URL:https://onechippenham.org.uk/event/john-hitchens-migrating-thoughts/
LOCATION:Chippenham Museum\, 9-10 Market Pl\, Chippenham\, SN15 3HF\, United Kingdom
CATEGORIES:Exhibition
ATTACH;FMTTYPE=image/jpeg:https://onechippenham.org.uk/wp-content/uploads/2024/08/Facebook-Opening.jpg
ORGANIZER;CN="Chippenham Museum":MAILTO:heritage@chippenham.gov.uk
END:VEVENT
BEGIN:VEVENT
DTSTART;TZID=Europe/London:20241005T100000
DTEND;TZID=Europe/London:20241005T160000
DTSTAMP:20260421T195147
CREATED:20240917T100629Z
LAST-MODIFIED:20240919T131336Z
UID:33801-1728122400-1728144000@onechippenham.org.uk
SUMMARY:Chippenham and District Artists: Autumn Selling Exhibition
DESCRIPTION:We are pleased to share that the Chippenham and District Artists annual selling exhibition is back for Autumn! \nThe exhibition will showcase the work of an established local group of artists\, formed over 20 years ago. Browse works in a range of mediums with opportunity to purchase locally produced pieces. \nThe group aims are to support local artists\, to help them to develop and improve their skills and to meet people who have similar interests. Open to new members\, beginners or experts.
URL:https://onechippenham.org.uk/event/chippenham-and-district-artists-autumn-selling-exhibition/2024-10-05/
LOCATION:The Yelde Hall
CATEGORIES:Exhibition
ATTACH;FMTTYPE=image/jpeg:https://onechippenham.org.uk/wp-content/uploads/2024/09/CDA-Exhibition-FB.jpg
END:VEVENT
END:VCALENDAR