BEGIN:VCALENDAR
VERSION:2.0
PRODID:-//One Chippenham - ECPv6.15.20//NONSGML v1.0//EN
CALSCALE:GREGORIAN
METHOD:PUBLISH
X-WR-CALNAME:One Chippenham
X-ORIGINAL-URL:https://onechippenham.org.uk
X-WR-CALDESC:Events for One Chippenham
REFRESH-INTERVAL;VALUE=DURATION:PT1H
X-Robots-Tag:noindex
X-PUBLISHED-TTL:PT1H
BEGIN:VTIMEZONE
TZID:Europe/London
BEGIN:DAYLIGHT
TZOFFSETFROM:+0000
TZOFFSETTO:+0100
TZNAME:BST
DTSTART:20230326T010000
END:DAYLIGHT
BEGIN:STANDARD
TZOFFSETFROM:+0100
TZOFFSETTO:+0000
TZNAME:GMT
DTSTART:20231029T010000
END:STANDARD
BEGIN:DAYLIGHT
TZOFFSETFROM:+0000
TZOFFSETTO:+0100
TZNAME:BST
DTSTART:20240331T010000
END:DAYLIGHT
BEGIN:STANDARD
TZOFFSETFROM:+0100
TZOFFSETTO:+0000
TZNAME:GMT
DTSTART:20241027T010000
END:STANDARD
BEGIN:DAYLIGHT
TZOFFSETFROM:+0000
TZOFFSETTO:+0100
TZNAME:BST
DTSTART:20250330T010000
END:DAYLIGHT
BEGIN:STANDARD
TZOFFSETFROM:+0100
TZOFFSETTO:+0000
TZNAME:GMT
DTSTART:20251026T010000
END:STANDARD
END:VTIMEZONE
BEGIN:VEVENT
DTSTART;TZID=Europe/London:20240505T083000
DTEND;TZID=Europe/London:20240505T123000
DTSTAMP:20260420T115644
CREATED:20240424T215154Z
LAST-MODIFIED:20250706T070121Z
UID:43636-1714897800-1714912200@onechippenham.org.uk
SUMMARY:Rugbytots Chippenham
DESCRIPTION:🏉🌟 Rugbytots: Where Little Champions Score Big! 🌟🏉 \nCalling all mini ruckers! Our action-packed classes blend rugby\, fun\, and skill-building for kids aged 18 months to 6 years. \nFrom scrums to giggles\, we’re all about developing motor skills\, fostering teamwork\, and creating a love for an active\, healthy life. Join the scrum-tastic adventure today! \nSessions last between 30-45 minutes with FREE taster sessions available! Plus\, we’re so confident your little one will have a blast that we offer a full money-back guarantee if you don’t enjoy the first two classes. No try\, no cry! 😄👍
URL:https://onechippenham.org.uk/event/%f0%9f%8f%89%f0%9f%8c%9frugbytots-chippenham%f0%9f%8c%9f%f0%9f%8f%89/2024-05-05/
LOCATION:Sheldon School Dance Studio\, Sheldon School\, Hardenhuish Lane\, Chippenham\, Wiltshire\, SN14 6HJ\, United Kingdom
CATEGORIES:Autism friendly,Baby,Children,Class,Education,Exercise,Family,Family Friendly,Games,Half-Term,Indoor,Outdoor,Pre-school,Primary age children,School holiday,Sport
ATTACH;FMTTYPE=image/jpeg:https://onechippenham.org.uk/wp-content/uploads/2024/04/rt_fb_group.jpg
ORGANIZER;CN="Rugbytots North West Wiltshire":MAILTO:northwestwilts@rugbytots.co.uk
END:VEVENT
BEGIN:VEVENT
DTSTART;TZID=Europe/London:20240512T083000
DTEND;TZID=Europe/London:20240512T123000
DTSTAMP:20260420T115644
CREATED:20240424T215154Z
LAST-MODIFIED:20250706T070122Z
UID:43637-1715502600-1715517000@onechippenham.org.uk
SUMMARY:Rugbytots Chippenham
DESCRIPTION:🏉🌟 Rugbytots: Where Little Champions Score Big! 🌟🏉 \nCalling all mini ruckers! Our action-packed classes blend rugby\, fun\, and skill-building for kids aged 18 months to 6 years. \nFrom scrums to giggles\, we’re all about developing motor skills\, fostering teamwork\, and creating a love for an active\, healthy life. Join the scrum-tastic adventure today! \nSessions last between 30-45 minutes with FREE taster sessions available! Plus\, we’re so confident your little one will have a blast that we offer a full money-back guarantee if you don’t enjoy the first two classes. No try\, no cry! 😄👍
URL:https://onechippenham.org.uk/event/%f0%9f%8f%89%f0%9f%8c%9frugbytots-chippenham%f0%9f%8c%9f%f0%9f%8f%89/2024-05-12/
LOCATION:Sheldon School Dance Studio\, Sheldon School\, Hardenhuish Lane\, Chippenham\, Wiltshire\, SN14 6HJ\, United Kingdom
CATEGORIES:Autism friendly,Baby,Children,Class,Education,Exercise,Family,Family Friendly,Games,Half-Term,Indoor,Outdoor,Pre-school,Primary age children,School holiday,Sport
ATTACH;FMTTYPE=image/jpeg:https://onechippenham.org.uk/wp-content/uploads/2024/04/rt_fb_group.jpg
ORGANIZER;CN="Rugbytots North West Wiltshire":MAILTO:northwestwilts@rugbytots.co.uk
END:VEVENT
BEGIN:VEVENT
DTSTART;VALUE=DATE:20240518
DTEND;VALUE=DATE:20240520
DTSTAMP:20260420T115644
CREATED:20240304T070522Z
LAST-MODIFIED:20240304T070522Z
UID:28114-1715990400-1716163199@onechippenham.org.uk
SUMMARY:Monkton Park's Mega Playlist
DESCRIPTION:Annual Scarecrow Trail in Monkton Park. Start and finish at Monkton Park Primary school \nThe 2024 trail is called Monkton Park’s Mega Playlist – find out which musicians/bands have made it onto our Mega Playlist. \nFAMILY FUN DAY with BBQ\, BAR & ACTIVITIES on SAT 18th \n+ REFRESHMENTS ON SUN 19 \n 
URL:https://onechippenham.org.uk/event/monkton-parks-mega-playlist/
LOCATION:Monkton Park Estate
CATEGORIES:Community,Family Friendly,Outdoor,Trail
ATTACH;FMTTYPE=image/jpeg:https://onechippenham.org.uk/wp-content/uploads/2024/03/IMG_1485.jpeg
END:VEVENT
BEGIN:VEVENT
DTSTART;TZID=Europe/London:20240518T110000
DTEND;TZID=Europe/London:20240518T130000
DTSTAMP:20260420T115644
CREATED:20240415T094011Z
LAST-MODIFIED:20240415T094011Z
UID:29235-1716030000-1716037200@onechippenham.org.uk
SUMMARY:Salvation Army’s Messy Church
DESCRIPTION:Join us 11am – 1pm at Salvation Army\, Foghamshire: \nLet the kids release their inner madness\, have fun\, get messy and enjoy a lunch on us. \nIt’s all free and it’s all a little bit crazy 🎉
URL:https://onechippenham.org.uk/event/salvation-armys-messy-church/2024-05-18/
LOCATION:Salvation Army\, Foghamshire\, Foghamshire\, Chippenham\, Wiltshire\, Sn15 1hb\, United Kingdom
CATEGORIES:Charity,Children,Church,Community,Crafts,Family Friendly,Food and Drink,Primary age children
ATTACH;FMTTYPE=image/jpeg:https://onechippenham.org.uk/wp-content/uploads/2024/04/IMG_9449.jpeg
ORGANIZER;CN="salvation army":MAILTO:chippenham@salvationarmy.org.uk
END:VEVENT
BEGIN:VEVENT
DTSTART;TZID=Europe/London:20240519T083000
DTEND;TZID=Europe/London:20240519T123000
DTSTAMP:20260420T115644
CREATED:20240424T215154Z
LAST-MODIFIED:20250706T070122Z
UID:43638-1716107400-1716121800@onechippenham.org.uk
SUMMARY:Rugbytots Chippenham
DESCRIPTION:🏉🌟 Rugbytots: Where Little Champions Score Big! 🌟🏉 \nCalling all mini ruckers! Our action-packed classes blend rugby\, fun\, and skill-building for kids aged 18 months to 6 years. \nFrom scrums to giggles\, we’re all about developing motor skills\, fostering teamwork\, and creating a love for an active\, healthy life. Join the scrum-tastic adventure today! \nSessions last between 30-45 minutes with FREE taster sessions available! Plus\, we’re so confident your little one will have a blast that we offer a full money-back guarantee if you don’t enjoy the first two classes. No try\, no cry! 😄👍
URL:https://onechippenham.org.uk/event/%f0%9f%8f%89%f0%9f%8c%9frugbytots-chippenham%f0%9f%8c%9f%f0%9f%8f%89/2024-05-19/
LOCATION:Sheldon School Dance Studio\, Sheldon School\, Hardenhuish Lane\, Chippenham\, Wiltshire\, SN14 6HJ\, United Kingdom
CATEGORIES:Autism friendly,Baby,Children,Class,Education,Exercise,Family,Family Friendly,Games,Half-Term,Indoor,Outdoor,Pre-school,Primary age children,School holiday,Sport
ATTACH;FMTTYPE=image/jpeg:https://onechippenham.org.uk/wp-content/uploads/2024/04/rt_fb_group.jpg
ORGANIZER;CN="Rugbytots North West Wiltshire":MAILTO:northwestwilts@rugbytots.co.uk
END:VEVENT
BEGIN:VEVENT
DTSTART;TZID=Europe/London:20240526T083000
DTEND;TZID=Europe/London:20240526T123000
DTSTAMP:20260420T115644
CREATED:20240424T215154Z
LAST-MODIFIED:20250706T070123Z
UID:43639-1716712200-1716726600@onechippenham.org.uk
SUMMARY:Rugbytots Chippenham
DESCRIPTION:🏉🌟 Rugbytots: Where Little Champions Score Big! 🌟🏉 \nCalling all mini ruckers! Our action-packed classes blend rugby\, fun\, and skill-building for kids aged 18 months to 6 years. \nFrom scrums to giggles\, we’re all about developing motor skills\, fostering teamwork\, and creating a love for an active\, healthy life. Join the scrum-tastic adventure today! \nSessions last between 30-45 minutes with FREE taster sessions available! Plus\, we’re so confident your little one will have a blast that we offer a full money-back guarantee if you don’t enjoy the first two classes. No try\, no cry! 😄👍
URL:https://onechippenham.org.uk/event/%f0%9f%8f%89%f0%9f%8c%9frugbytots-chippenham%f0%9f%8c%9f%f0%9f%8f%89/2024-05-26/
LOCATION:Sheldon School Dance Studio\, Sheldon School\, Hardenhuish Lane\, Chippenham\, Wiltshire\, SN14 6HJ\, United Kingdom
CATEGORIES:Autism friendly,Baby,Children,Class,Education,Exercise,Family,Family Friendly,Games,Half-Term,Indoor,Outdoor,Pre-school,Primary age children,School holiday,Sport
ATTACH;FMTTYPE=image/jpeg:https://onechippenham.org.uk/wp-content/uploads/2024/04/rt_fb_group.jpg
ORGANIZER;CN="Rugbytots North West Wiltshire":MAILTO:northwestwilts@rugbytots.co.uk
END:VEVENT
BEGIN:VEVENT
DTSTART;TZID=Europe/London:20240528T100000
DTEND;TZID=Europe/London:20240531T163000
DTSTAMP:20260420T115644
CREATED:20240405T075530Z
LAST-MODIFIED:20240405T075722Z
UID:28963-1716890400-1717173000@onechippenham.org.uk
SUMMARY:May Half Term Activities at REME Museum
DESCRIPTION:A range of family-friendly activities suitable for all ages and abilities! \nJunk Tank Model Making\nDrop-in sessions \nCome and create your own special REME-inspired vehicle to take away with you! Get creative and see what you can make from recycled materials. No booking necessary\, a drop-in session led by our Education Officer\, suitable for all ages and artistic abilities. \nAssault Course\nDrop-in \nPlease note: This activity is weather dependent. Challenge yourself to our miniature army-style assault course based on our grounds. Supervised by serving REME soldiers\, you’ll be sure to have fun and surprise yourself!
URL:https://onechippenham.org.uk/event/may-half-term-activities/
LOCATION:REME Museum\, Calne Road\, MOD Lyneham\, Chippenham\, Wiltshire\, SN15 4XX\, United Kingdom
CATEGORIES:Children,Family,Family Friendly
ATTACH;FMTTYPE=image/jpeg:https://onechippenham.org.uk/wp-content/uploads/2024/04/Tank.jpeg
ORGANIZER;CN="REME Museum":MAILTO:enquiries@rememuseum.org.uk
END:VEVENT
END:VCALENDAR