BEGIN:VCALENDAR
VERSION:2.0
PRODID:-//One Chippenham - ECPv6.15.20//NONSGML v1.0//EN
CALSCALE:GREGORIAN
METHOD:PUBLISH
X-ORIGINAL-URL:https://onechippenham.org.uk
X-WR-CALDESC:Events for One Chippenham
REFRESH-INTERVAL;VALUE=DURATION:PT1H
X-Robots-Tag:noindex
X-PUBLISHED-TTL:PT1H
BEGIN:VTIMEZONE
TZID:Europe/London
BEGIN:DAYLIGHT
TZOFFSETFROM:+0000
TZOFFSETTO:+0100
TZNAME:BST
DTSTART:20230326T010000
END:DAYLIGHT
BEGIN:STANDARD
TZOFFSETFROM:+0100
TZOFFSETTO:+0000
TZNAME:GMT
DTSTART:20231029T010000
END:STANDARD
BEGIN:DAYLIGHT
TZOFFSETFROM:+0000
TZOFFSETTO:+0100
TZNAME:BST
DTSTART:20240331T010000
END:DAYLIGHT
BEGIN:STANDARD
TZOFFSETFROM:+0100
TZOFFSETTO:+0000
TZNAME:GMT
DTSTART:20241027T010000
END:STANDARD
BEGIN:DAYLIGHT
TZOFFSETFROM:+0000
TZOFFSETTO:+0100
TZNAME:BST
DTSTART:20250330T010000
END:DAYLIGHT
BEGIN:STANDARD
TZOFFSETFROM:+0100
TZOFFSETTO:+0000
TZNAME:GMT
DTSTART:20251026T010000
END:STANDARD
END:VTIMEZONE
BEGIN:VEVENT
DTSTART;VALUE=DATE:20240401
DTEND;VALUE=DATE:20240415
DTSTAMP:20260422T055727
CREATED:20240326T113531Z
LAST-MODIFIED:20240326T113531Z
UID:28793-1711929600-1713139199@onechippenham.org.uk
SUMMARY:The Arc Easter Holiday Sessions
DESCRIPTION:Join us for some holiday fun! \nFrom 1-14 April\, we are running fun Easter holiday climbing sessions for 6-15 years at The Arc in Chippenham. No experience is required. \nA variety of sessions are available at both centres for the Easter Holiday Kids’ climbing sessions with additional kids & family taster sessions also running throughout the Easter week. All sessions last between 1 and 1.5hrs depending on which course you choose. Sessions are run by experienced coaches and will be loads of fun!
URL:https://onechippenham.org.uk/event/the-arc-easter-holiday-sessions/
LOCATION:The Arc\, Westmead Lane\, Chippenham\, Wiltshire\, SN15 3HZ\, United Kingdom
CATEGORIES:Family,Family Friendly,Family Fun Day,Primary age children,Sport,Teens
ATTACH;FMTTYPE=image/png:https://onechippenham.org.uk/wp-content/uploads/2024/03/11.png
END:VEVENT
BEGIN:VEVENT
DTSTART;TZID=Europe/London:20240413T120000
DTEND;TZID=Europe/London:20240413T150000
DTSTAMP:20260422T055727
CREATED:20240415T100726Z
LAST-MODIFIED:20240415T100726Z
UID:29196-1713009600-1713020400@onechippenham.org.uk
SUMMARY:International Lunch
DESCRIPTION:Unity in Diversity! \nMany diverse nationalities live here in Chippenham and the surrounding area. \nCome and share a lunch together!\nMake new friends! Activities for children! \nBook by emailing diversityinchippenham@gmail.com\nand let us know what you can bring to share. \nAny donations on the day will help cover costs and excess will be given to Doorway\, a local charity.
URL:https://onechippenham.org.uk/event/international-lunch/
LOCATION:The Cause Music and Arts Centre\, 42 The Causeway\, Chippenham\, Wiltshire\, SN15 3DD\, United Kingdom
CATEGORIES:Children,Community,Family Friendly
ATTACH;FMTTYPE=image/jpeg:https://onechippenham.org.uk/wp-content/uploads/2024/04/IMG_6767.jpeg
ORGANIZER;CN="Diversity in Chippenham":MAILTO:Diversityinchippenham@gmail.com
END:VEVENT
END:VCALENDAR