BEGIN:VCALENDAR
VERSION:2.0
PRODID:-//One Chippenham - ECPv6.15.20//NONSGML v1.0//EN
CALSCALE:GREGORIAN
METHOD:PUBLISH
X-WR-CALNAME:One Chippenham
X-ORIGINAL-URL:https://onechippenham.org.uk
X-WR-CALDESC:Events for One Chippenham
REFRESH-INTERVAL;VALUE=DURATION:PT1H
X-Robots-Tag:noindex
X-PUBLISHED-TTL:PT1H
BEGIN:VTIMEZONE
TZID:Europe/London
BEGIN:DAYLIGHT
TZOFFSETFROM:+0000
TZOFFSETTO:+0100
TZNAME:BST
DTSTART:20230326T010000
END:DAYLIGHT
BEGIN:STANDARD
TZOFFSETFROM:+0100
TZOFFSETTO:+0000
TZNAME:GMT
DTSTART:20231029T010000
END:STANDARD
BEGIN:DAYLIGHT
TZOFFSETFROM:+0000
TZOFFSETTO:+0100
TZNAME:BST
DTSTART:20240331T010000
END:DAYLIGHT
BEGIN:STANDARD
TZOFFSETFROM:+0100
TZOFFSETTO:+0000
TZNAME:GMT
DTSTART:20241027T010000
END:STANDARD
BEGIN:DAYLIGHT
TZOFFSETFROM:+0000
TZOFFSETTO:+0100
TZNAME:BST
DTSTART:20250330T010000
END:DAYLIGHT
BEGIN:STANDARD
TZOFFSETFROM:+0100
TZOFFSETTO:+0000
TZNAME:GMT
DTSTART:20251026T010000
END:STANDARD
END:VTIMEZONE
BEGIN:VEVENT
DTSTART;TZID=Europe/London:20240215T103000
DTEND;TZID=Europe/London:20240215T153000
DTSTAMP:20260420T073727
CREATED:20240130T131915Z
LAST-MODIFIED:20240130T131915Z
UID:26570-1707993000-1708011000@onechippenham.org.uk
SUMMARY:Canal Day
DESCRIPTION:Thursday 15 February\n10.30am – 3.30pm\nFree\, drop-in \nJoin the Wilts & Berks Canal Trust and Chippenham Museum for our annual celebration of the Chippenham Arm of the Wilts & Berks Canal. \nFind out about the history of the canal and join in with free family friendly activities. \nCanal Day is a great opportunity to meet the volunteers of the Wilts & Berks Canal Trust and learn about the ongoing restoration of Pewsham Locks\, a remarkable industrial site and natural haven on the footpath between the Pewsham estate and Lacock. \nDetails of how to reach the site and volunteer opportunities to support its restoration will be available at the event.
URL:https://onechippenham.org.uk/event/canal-day/
LOCATION:Chippenham Museum\, 9-10 Market Pl\, Chippenham\, SN15 3HF\, United Kingdom
CATEGORIES:Family Friendly,Family Fun Day,Half-Term,Museum
ATTACH;FMTTYPE=image/jpeg:https://onechippenham.org.uk/wp-content/uploads/2024/01/Canal-Day-Grid.jpg
ORGANIZER;CN="Chippenham Museum":MAILTO:heritage@chippenham.gov.uk
END:VEVENT
END:VCALENDAR