BEGIN:VCALENDAR
VERSION:2.0
PRODID:-//One Chippenham - ECPv6.15.20//NONSGML v1.0//EN
CALSCALE:GREGORIAN
METHOD:PUBLISH
X-WR-CALNAME:One Chippenham
X-ORIGINAL-URL:https://onechippenham.org.uk
X-WR-CALDESC:Events for One Chippenham
REFRESH-INTERVAL;VALUE=DURATION:PT1H
X-Robots-Tag:noindex
X-PUBLISHED-TTL:PT1H
BEGIN:VTIMEZONE
TZID:Europe/London
BEGIN:DAYLIGHT
TZOFFSETFROM:+0000
TZOFFSETTO:+0100
TZNAME:BST
DTSTART:20240331T010000
END:DAYLIGHT
BEGIN:STANDARD
TZOFFSETFROM:+0100
TZOFFSETTO:+0000
TZNAME:GMT
DTSTART:20241027T010000
END:STANDARD
BEGIN:DAYLIGHT
TZOFFSETFROM:+0000
TZOFFSETTO:+0100
TZNAME:BST
DTSTART:20250330T010000
END:DAYLIGHT
BEGIN:STANDARD
TZOFFSETFROM:+0100
TZOFFSETTO:+0000
TZNAME:GMT
DTSTART:20251026T010000
END:STANDARD
BEGIN:DAYLIGHT
TZOFFSETFROM:+0000
TZOFFSETTO:+0100
TZNAME:BST
DTSTART:20260329T010000
END:DAYLIGHT
BEGIN:STANDARD
TZOFFSETFROM:+0100
TZOFFSETTO:+0000
TZNAME:GMT
DTSTART:20261025T010000
END:STANDARD
END:VTIMEZONE
BEGIN:VEVENT
DTSTART;TZID=Europe/London:20250621T110000
DTEND;TZID=Europe/London:20250621T140000
DTSTAMP:20260424T160709
CREATED:20250616T112834Z
LAST-MODIFIED:20250616T112834Z
UID:43033-1750503600-1750514400@onechippenham.org.uk
SUMMARY:Frogwell School Summer Fayre
DESCRIPTION:Saturday 21 June (11am-2pm) – Frogwell Primary School \nBring the whole family along – activities for all ages! \nYou can enjoy all the following\, and more! \n⭐Inflatable slide\n⭐Bouncy Castle\n⭐BBQ and Bar\n⭐Penalty shoot out\n⭐Ice-cream\n⭐Tombola\n⭐Face painting\n⭐Coconut Shy\n⭐Donkey rides \nEvent location: Frogwell Primary School\, Derriads Ln\, Chippenham SN14 0DG
URL:https://onechippenham.org.uk/event/frogwell-school-summer-fayre/
LOCATION:Frogwell School\, Derriads Ln\, Chippenham\, SN14 0DG
CATEGORIES:Family Friendly,Fayre
ATTACH;FMTTYPE=image/jpeg:https://onechippenham.org.uk/wp-content/uploads/2025/06/IMG_6216.jpeg
END:VEVENT
BEGIN:VEVENT
DTSTART;TZID=Europe/London:20251122T140000
DTEND;TZID=Europe/London:20251122T163000
DTSTAMP:20260424T160709
CREATED:20251121T150312Z
LAST-MODIFIED:20251121T150312Z
UID:53102-1763820000-1763829000@onechippenham.org.uk
SUMMARY:Christmas Fayre at The Fairways
DESCRIPTION:🎄Don’t miss The Fairways Christmas Fayre on Sat 22 Nov!❄️ \nWe have the best line-up for you: \n🎅🏼 A special visitor from the North Pole! \n🎶 The fabulously talented musician Susan Coates \n🦌 Happy Hooves are bringing their ‘reindeers’ \n🍰 Refreshments will be available \n🎁 Stalls for your Christmas shopping and lots more! \nEveryone welcome\, we look forward to seeing you there!
URL:https://onechippenham.org.uk/event/christmas-fayre-at-the-fairways/
CATEGORIES:Christmas,Fayre
ATTACH;FMTTYPE=image/jpeg:https://onechippenham.org.uk/wp-content/uploads/2025/11/Christmas-Fayre-golf.jpeg
END:VEVENT
END:VCALENDAR