BEGIN:VCALENDAR
VERSION:2.0
PRODID:-//One Chippenham - ECPv6.15.20//NONSGML v1.0//EN
CALSCALE:GREGORIAN
METHOD:PUBLISH
X-ORIGINAL-URL:https://onechippenham.org.uk
X-WR-CALDESC:Events for One Chippenham
REFRESH-INTERVAL;VALUE=DURATION:PT1H
X-Robots-Tag:noindex
X-PUBLISHED-TTL:PT1H
BEGIN:VTIMEZONE
TZID:Europe/London
BEGIN:DAYLIGHT
TZOFFSETFROM:+0000
TZOFFSETTO:+0100
TZNAME:BST
DTSTART:20220327T010000
END:DAYLIGHT
BEGIN:STANDARD
TZOFFSETFROM:+0100
TZOFFSETTO:+0000
TZNAME:GMT
DTSTART:20221030T010000
END:STANDARD
BEGIN:DAYLIGHT
TZOFFSETFROM:+0000
TZOFFSETTO:+0100
TZNAME:BST
DTSTART:20230326T010000
END:DAYLIGHT
BEGIN:STANDARD
TZOFFSETFROM:+0100
TZOFFSETTO:+0000
TZNAME:GMT
DTSTART:20231029T010000
END:STANDARD
BEGIN:DAYLIGHT
TZOFFSETFROM:+0000
TZOFFSETTO:+0100
TZNAME:BST
DTSTART:20240331T010000
END:DAYLIGHT
BEGIN:STANDARD
TZOFFSETFROM:+0100
TZOFFSETTO:+0000
TZNAME:GMT
DTSTART:20241027T010000
END:STANDARD
END:VTIMEZONE
BEGIN:VEVENT
DTSTART;TZID=Europe/London:20230313T193000
DTEND;TZID=Europe/London:20230313T193000
DTSTAMP:20260424T135534
CREATED:20230225T073342Z
LAST-MODIFIED:20230225T073425Z
UID:11749-1678735800-1678735800@onechippenham.org.uk
SUMMARY:Chippenham Film Club - Brian and Charles
DESCRIPTION:After a particularly harsh winter Brian goes into a deep depression; completely isolated and with no one to talk to\, Brian does what any sane person would do when faced with such a melancholic situation. \nHe builds a robot. \nBrian and Charles is a 2022 comedy drama directed by Jim Archer\, in his feature debut\, from a screenplay by David Earl and Chris Hayward\, who also star in the film. \nTickets are available through the film club’s website https://chippenhamfilmclub.co.uk/product/brian/ \nPlease arrive on time as the curtain goes up promptly at 7.30pm. \nThanks. \n 
URL:https://onechippenham.org.uk/event/chippenham-film-club-brian-and-charles-13th-march-730pm/
LOCATION:Reel Cinema Chippenham\, 91 Marshfield Road\, Chippenham\, SN15 1JR
CATEGORIES:Arts,Film
ATTACH;FMTTYPE=image/jpeg:https://onechippenham.org.uk/wp-content/uploads/2023/02/331474103_613977403901644_6037649684944836794_n.jpg
END:VEVENT
END:VCALENDAR