BEGIN:VCALENDAR
VERSION:2.0
PRODID:-//One Chippenham - ECPv6.15.20//NONSGML v1.0//EN
CALSCALE:GREGORIAN
METHOD:PUBLISH
X-ORIGINAL-URL:https://onechippenham.org.uk
X-WR-CALDESC:Events for One Chippenham
REFRESH-INTERVAL;VALUE=DURATION:PT1H
X-Robots-Tag:noindex
X-PUBLISHED-TTL:PT1H
BEGIN:VTIMEZONE
TZID:Europe/London
BEGIN:DAYLIGHT
TZOFFSETFROM:+0000
TZOFFSETTO:+0100
TZNAME:BST
DTSTART:20230326T010000
END:DAYLIGHT
BEGIN:STANDARD
TZOFFSETFROM:+0100
TZOFFSETTO:+0000
TZNAME:GMT
DTSTART:20231029T010000
END:STANDARD
BEGIN:DAYLIGHT
TZOFFSETFROM:+0000
TZOFFSETTO:+0100
TZNAME:BST
DTSTART:20240331T010000
END:DAYLIGHT
BEGIN:STANDARD
TZOFFSETFROM:+0100
TZOFFSETTO:+0000
TZNAME:GMT
DTSTART:20241027T010000
END:STANDARD
BEGIN:DAYLIGHT
TZOFFSETFROM:+0000
TZOFFSETTO:+0100
TZNAME:BST
DTSTART:20250330T010000
END:DAYLIGHT
BEGIN:STANDARD
TZOFFSETFROM:+0100
TZOFFSETTO:+0000
TZNAME:GMT
DTSTART:20251026T010000
END:STANDARD
END:VTIMEZONE
BEGIN:VEVENT
DTSTART;TZID=Europe/London:20240311T193000
DTEND;TZID=Europe/London:20240311T220000
DTSTAMP:20260419T190957
CREATED:20240226T100753Z
LAST-MODIFIED:20240226T100753Z
UID:27941-1710185400-1710194400@onechippenham.org.uk
SUMMARY:Chippenham Film Club March feature
DESCRIPTION:Wild Tales is a 2014 Spanish-language black comedy anthology film\, written and directed by the Argentine filmmaker Damián Szifron. The film\, a Spanish-Argentinian co-production\, is composed of six stand-alone shorts with a common theme of catharsis\, violence and vengeance. The film has an ensemble cast which includes Ricardo Darín (The Secret in Their Eyes\, Carancho)\, Oscar Martínez (Official Competition)\, Leonardo Sbaraglia (Dolor y gloria)\, Érica Rivas. \nThe film received critical acclaim\, particularly for being a good example of an engaging anthology film\, for its cast (mainly Rivas)\, humour\, cinematography\, and music. It won a number of awards including eight Platino Awards\, the BAFTA Award for Best Film Not in the English Language\, and the Goya Award for Best Spanish Language Foreign Film. It was nominated for the Academy Award for Best Foreign Language Film at the 87th Academy Awards\, and for the Palme d’Or at the 2014 Cannes Film Festival. Wild Tales is the most-seen Argentine film of all time.
URL:https://onechippenham.org.uk/event/chippenham-film-club-march-feature/
LOCATION:The Reel Cinema\, 91 Marshfield Rd\, Chippenham\, SN15 1JR\, United Kingdom
CATEGORIES:Cinema,Drama,Film
ATTACH;FMTTYPE=image/jpeg:https://onechippenham.org.uk/wp-content/uploads/2024/02/Wild-Tales-scaled.jpg
END:VEVENT
BEGIN:VEVENT
DTSTART;TZID=Europe/London:20240314T190000
DTEND;TZID=Europe/London:20240314T190000
DTSTAMP:20260419T190957
CREATED:20240212T132612Z
LAST-MODIFIED:20240212T132732Z
UID:27453-1710442800-1710442800@onechippenham.org.uk
SUMMARY:Doorway Film Night : Cathy Come Home
DESCRIPTION:As part of its 20th anniversary celebrations Doorway invites you to watch the ground-breaking drama Cathy Come Home\, directed by Ken Loach. We are extremely pleased to announce that Ken Loach himself will be joining us to introduce the film\, which will be followed by a Q&A session and a raffle with some amazing prizes. \nCathy Come Home was first broadcast in 1966 and tells the story of Cathy and Reg\, a couple with three young children\, who find their life spiralling into poverty when Reg loses his job. It’s gripping and emotional\, and it remains a truly ground-breaking piece of dramatic fiction that helped make change back then\, and raises questions for us now about current levels of poverty and homelessness. \nTickets: Standard £10.00 | Concessions (U16s & Over 65’s) £8.00 \nPlease contact the venue for any access requirements. \nTickets are also available through our Box Office on 01249 446699\, from the Neeld Box Office or at the Town Hall. \nTickets are non-refundable unless this event is cancelled or postponed
URL:https://onechippenham.org.uk/event/doorway-film-night-cathy-come-home/
LOCATION:The Neeld
CATEGORIES:Film
ATTACH;FMTTYPE=image/jpeg:https://onechippenham.org.uk/wp-content/uploads/2024/02/Doorway-crop-jpg.jpg
ORGANIZER;CN="Doorway":MAILTO:info@doorwayproject.org.uk
END:VEVENT
END:VCALENDAR