BEGIN:VCALENDAR
VERSION:2.0
PRODID:-//One Chippenham - ECPv6.15.20//NONSGML v1.0//EN
CALSCALE:GREGORIAN
METHOD:PUBLISH
X-ORIGINAL-URL:https://onechippenham.org.uk
X-WR-CALDESC:Events for One Chippenham
REFRESH-INTERVAL;VALUE=DURATION:PT1H
X-Robots-Tag:noindex
X-PUBLISHED-TTL:PT1H
BEGIN:VTIMEZONE
TZID:Europe/London
BEGIN:DAYLIGHT
TZOFFSETFROM:+0000
TZOFFSETTO:+0100
TZNAME:BST
DTSTART:20220327T010000
END:DAYLIGHT
BEGIN:STANDARD
TZOFFSETFROM:+0100
TZOFFSETTO:+0000
TZNAME:GMT
DTSTART:20221030T010000
END:STANDARD
BEGIN:DAYLIGHT
TZOFFSETFROM:+0000
TZOFFSETTO:+0100
TZNAME:BST
DTSTART:20230326T010000
END:DAYLIGHT
BEGIN:STANDARD
TZOFFSETFROM:+0100
TZOFFSETTO:+0000
TZNAME:GMT
DTSTART:20231029T010000
END:STANDARD
BEGIN:DAYLIGHT
TZOFFSETFROM:+0000
TZOFFSETTO:+0100
TZNAME:BST
DTSTART:20240331T010000
END:DAYLIGHT
BEGIN:STANDARD
TZOFFSETFROM:+0100
TZOFFSETTO:+0000
TZNAME:GMT
DTSTART:20241027T010000
END:STANDARD
END:VTIMEZONE
BEGIN:VEVENT
DTSTART;TZID=Europe/London:20230207T193000
DTEND;TZID=Europe/London:20230207T223000
DTSTAMP:20260425T153049
CREATED:20230207T205140Z
LAST-MODIFIED:20230207T205140Z
UID:11031-1675798200-1675809000@onechippenham.org.uk
SUMMARY:Chippenham Film Club February Feature
DESCRIPTION:Inspired by the true story of a promising teenage dancer who enrols at a prestigious ballet school while grappling with her gender dysphoria. \nGirl stars Victor Polster\, in his acting debut\, as a trans girl who pursues a career as a ballerina. Polster won the Cannes Un Certain Regard Jury Award for Best Performance. Girl was selected as the Belgian entry for the Best Foreign Language Film at the Oscars.
URL:https://onechippenham.org.uk/event/chippenham-film-club-february-feature/
LOCATION:The Reel Cinema\, 91 Marshfield Rd\, Chippenham\, SN15 1JR\, United Kingdom
CATEGORIES:Cinema,Community,Film
ATTACH;FMTTYPE=image/jpeg:https://onechippenham.org.uk/wp-content/uploads/2023/02/GIRL_1200x717_Evenement-facebook_v2-1000x600-1.jpg
END:VEVENT
END:VCALENDAR