BEGIN:VCALENDAR
VERSION:2.0
PRODID:-//One Chippenham - ECPv6.15.20//NONSGML v1.0//EN
CALSCALE:GREGORIAN
METHOD:PUBLISH
X-WR-CALNAME:One Chippenham
X-ORIGINAL-URL:https://onechippenham.org.uk
X-WR-CALDESC:Events for One Chippenham
REFRESH-INTERVAL;VALUE=DURATION:PT1H
X-Robots-Tag:noindex
X-PUBLISHED-TTL:PT1H
BEGIN:VTIMEZONE
TZID:Europe/London
BEGIN:DAYLIGHT
TZOFFSETFROM:+0000
TZOFFSETTO:+0100
TZNAME:BST
DTSTART:20230326T010000
END:DAYLIGHT
BEGIN:STANDARD
TZOFFSETFROM:+0100
TZOFFSETTO:+0000
TZNAME:GMT
DTSTART:20231029T010000
END:STANDARD
BEGIN:DAYLIGHT
TZOFFSETFROM:+0000
TZOFFSETTO:+0100
TZNAME:BST
DTSTART:20240331T010000
END:DAYLIGHT
BEGIN:STANDARD
TZOFFSETFROM:+0100
TZOFFSETTO:+0000
TZNAME:GMT
DTSTART:20241027T010000
END:STANDARD
BEGIN:DAYLIGHT
TZOFFSETFROM:+0000
TZOFFSETTO:+0100
TZNAME:BST
DTSTART:20250330T010000
END:DAYLIGHT
BEGIN:STANDARD
TZOFFSETFROM:+0100
TZOFFSETTO:+0000
TZNAME:GMT
DTSTART:20251026T010000
END:STANDARD
END:VTIMEZONE
BEGIN:VEVENT
DTSTART;TZID=Europe/London:20240410T190000
DTEND;TZID=Europe/London:20240410T200000
DTSTAMP:20260422T020459
CREATED:20240319T135459Z
LAST-MODIFIED:20240319T135459Z
UID:28405-1712775600-1712779200@onechippenham.org.uk
SUMMARY:Fight Klub Chippenham
DESCRIPTION:FIGHT KLUB® is the high intensity fun workout that makes getting in shape an addiction. Set to music\, the program is a combination of boxing\, kick boxing and Thai boxing. \nFIGHT KLUB® is a workout built around a freestanding professional grade punch bag using simple combinations of kicks and punches whilst keeping time with the high energy beat. \nFIGHT KLUB® is sweeping the workout scene as participants benefit from improvements in cardiovascular endurance\, weight loss and muscular toning fused with the atmosphere of a nightclub. Fight Klub® is an intense workout utilising all the muscle groups in the upper and lower body including the core\, whilst increasing flexibility. \nLaura Caddy launched Fight Klub in Chippenham in January 2024. You get your first class free!
URL:https://onechippenham.org.uk/event/fight-klub-chippenham/2024-04-10/
LOCATION:Pewsham Community Centre\, Lodge Road\, Chippenham\, SN5 3SY
CATEGORIES:Fitness
ATTACH;FMTTYPE=image/jpeg:https://onechippenham.org.uk/wp-content/uploads/2024/03/FK-Chippenham-New-Logo-March-2024.jpg
ORGANIZER;CN="Fight Klub Chippenham":MAILTO:swindon@fightklub.co.uk
END:VEVENT
BEGIN:VEVENT
DTSTART;TZID=Europe/London:20240411T091500
DTEND;TZID=Europe/London:20240411T101500
DTSTAMP:20260422T020459
CREATED:20230922T082037Z
LAST-MODIFIED:20231218T115708Z
UID:15570-1712826900-1712830500@onechippenham.org.uk
SUMMARY:Seniors Strong Class
DESCRIPTION:NEW Class for the over 50’s starting Thursday 28th September at Chippenham Sports Club 9:15am to 10am \nAs we age we naturally lose strength\, balance and muscle. This class will help improve all of those things and more! \nNew research suggests the amount of muscle someone has determines how long they will live. So it’s important to maintain and build muscle. \nWe all want to live a healthy and active life for as long as we can. \nStrength training; \n\nPreserves muscle size and strength\nPreserves Bone Density\nLowers the risk of falls\nImproves mobility\nImproves insulin sensitivity\nHelps you stay fit and functional\, so you can do the things you enjoy! 😊\n\nSeniors Strong™ is a functional strength\, cardio\, and mobility class designed to improve cardiovascular fitness and functional fitness for older adults. \nSeniors Strong is a modern\, inspiring and fresh class for older adults \nExercising within a group is motivating\, fun and sociable. \nBring a couple of tins\, filled water bottles or some dumbbells (if you have them.)\nYou will learn the correct technique for exercise and you can also practice at home too! 😉 \nFIRST CLASS FREE!\nThen £7 per class (block booking will be available at a discounted rate.) \nBooking is essential as spaces are limited.\nPlease message/email or text me and I will send you the online registration form.
URL:https://onechippenham.org.uk/event/seniors-strong-class/2024-04-11/
LOCATION:Chippenham Sports Club
CATEGORIES:Fitness
ATTACH;FMTTYPE=image/png:https://onechippenham.org.uk/wp-content/uploads/2023/09/D5C9FF0E-1C77-4FFC-BB5A-77FA2A9E1D62.png
ORGANIZER;CN="Sheila's Fitness and Wellbeing":MAILTO:Fitsteps6@gmail.com
END:VEVENT
BEGIN:VEVENT
DTSTART;TZID=Europe/London:20240417T190000
DTEND;TZID=Europe/London:20240417T200000
DTSTAMP:20260422T020459
CREATED:20240319T135459Z
LAST-MODIFIED:20240319T135459Z
UID:28406-1713380400-1713384000@onechippenham.org.uk
SUMMARY:Fight Klub Chippenham
DESCRIPTION:FIGHT KLUB® is the high intensity fun workout that makes getting in shape an addiction. Set to music\, the program is a combination of boxing\, kick boxing and Thai boxing. \nFIGHT KLUB® is a workout built around a freestanding professional grade punch bag using simple combinations of kicks and punches whilst keeping time with the high energy beat. \nFIGHT KLUB® is sweeping the workout scene as participants benefit from improvements in cardiovascular endurance\, weight loss and muscular toning fused with the atmosphere of a nightclub. Fight Klub® is an intense workout utilising all the muscle groups in the upper and lower body including the core\, whilst increasing flexibility. \nLaura Caddy launched Fight Klub in Chippenham in January 2024. You get your first class free!
URL:https://onechippenham.org.uk/event/fight-klub-chippenham/2024-04-17/
LOCATION:Pewsham Community Centre\, Lodge Road\, Chippenham\, SN5 3SY
CATEGORIES:Fitness
ATTACH;FMTTYPE=image/jpeg:https://onechippenham.org.uk/wp-content/uploads/2024/03/FK-Chippenham-New-Logo-March-2024.jpg
ORGANIZER;CN="Fight Klub Chippenham":MAILTO:swindon@fightklub.co.uk
END:VEVENT
BEGIN:VEVENT
DTSTART;TZID=Europe/London:20240418T091500
DTEND;TZID=Europe/London:20240418T101500
DTSTAMP:20260422T020459
CREATED:20230922T082037Z
LAST-MODIFIED:20231218T115708Z
UID:15571-1713431700-1713435300@onechippenham.org.uk
SUMMARY:Seniors Strong Class
DESCRIPTION:NEW Class for the over 50’s starting Thursday 28th September at Chippenham Sports Club 9:15am to 10am \nAs we age we naturally lose strength\, balance and muscle. This class will help improve all of those things and more! \nNew research suggests the amount of muscle someone has determines how long they will live. So it’s important to maintain and build muscle. \nWe all want to live a healthy and active life for as long as we can. \nStrength training; \n\nPreserves muscle size and strength\nPreserves Bone Density\nLowers the risk of falls\nImproves mobility\nImproves insulin sensitivity\nHelps you stay fit and functional\, so you can do the things you enjoy! 😊\n\nSeniors Strong™ is a functional strength\, cardio\, and mobility class designed to improve cardiovascular fitness and functional fitness for older adults. \nSeniors Strong is a modern\, inspiring and fresh class for older adults \nExercising within a group is motivating\, fun and sociable. \nBring a couple of tins\, filled water bottles or some dumbbells (if you have them.)\nYou will learn the correct technique for exercise and you can also practice at home too! 😉 \nFIRST CLASS FREE!\nThen £7 per class (block booking will be available at a discounted rate.) \nBooking is essential as spaces are limited.\nPlease message/email or text me and I will send you the online registration form.
URL:https://onechippenham.org.uk/event/seniors-strong-class/2024-04-18/
LOCATION:Chippenham Sports Club
CATEGORIES:Fitness
ATTACH;FMTTYPE=image/png:https://onechippenham.org.uk/wp-content/uploads/2023/09/D5C9FF0E-1C77-4FFC-BB5A-77FA2A9E1D62.png
ORGANIZER;CN="Sheila's Fitness and Wellbeing":MAILTO:Fitsteps6@gmail.com
END:VEVENT
BEGIN:VEVENT
DTSTART;TZID=Europe/London:20240424T190000
DTEND;TZID=Europe/London:20240424T200000
DTSTAMP:20260422T020459
CREATED:20240319T135500Z
LAST-MODIFIED:20240319T135500Z
UID:28407-1713985200-1713988800@onechippenham.org.uk
SUMMARY:Fight Klub Chippenham
DESCRIPTION:FIGHT KLUB® is the high intensity fun workout that makes getting in shape an addiction. Set to music\, the program is a combination of boxing\, kick boxing and Thai boxing. \nFIGHT KLUB® is a workout built around a freestanding professional grade punch bag using simple combinations of kicks and punches whilst keeping time with the high energy beat. \nFIGHT KLUB® is sweeping the workout scene as participants benefit from improvements in cardiovascular endurance\, weight loss and muscular toning fused with the atmosphere of a nightclub. Fight Klub® is an intense workout utilising all the muscle groups in the upper and lower body including the core\, whilst increasing flexibility. \nLaura Caddy launched Fight Klub in Chippenham in January 2024. You get your first class free!
URL:https://onechippenham.org.uk/event/fight-klub-chippenham/2024-04-24/
LOCATION:Pewsham Community Centre\, Lodge Road\, Chippenham\, SN5 3SY
CATEGORIES:Fitness
ATTACH;FMTTYPE=image/jpeg:https://onechippenham.org.uk/wp-content/uploads/2024/03/FK-Chippenham-New-Logo-March-2024.jpg
ORGANIZER;CN="Fight Klub Chippenham":MAILTO:swindon@fightklub.co.uk
END:VEVENT
BEGIN:VEVENT
DTSTART;TZID=Europe/London:20240425T091500
DTEND;TZID=Europe/London:20240425T101500
DTSTAMP:20260422T020459
CREATED:20230922T082037Z
LAST-MODIFIED:20231218T115708Z
UID:15572-1714036500-1714040100@onechippenham.org.uk
SUMMARY:Seniors Strong Class
DESCRIPTION:NEW Class for the over 50’s starting Thursday 28th September at Chippenham Sports Club 9:15am to 10am \nAs we age we naturally lose strength\, balance and muscle. This class will help improve all of those things and more! \nNew research suggests the amount of muscle someone has determines how long they will live. So it’s important to maintain and build muscle. \nWe all want to live a healthy and active life for as long as we can. \nStrength training; \n\nPreserves muscle size and strength\nPreserves Bone Density\nLowers the risk of falls\nImproves mobility\nImproves insulin sensitivity\nHelps you stay fit and functional\, so you can do the things you enjoy! 😊\n\nSeniors Strong™ is a functional strength\, cardio\, and mobility class designed to improve cardiovascular fitness and functional fitness for older adults. \nSeniors Strong is a modern\, inspiring and fresh class for older adults \nExercising within a group is motivating\, fun and sociable. \nBring a couple of tins\, filled water bottles or some dumbbells (if you have them.)\nYou will learn the correct technique for exercise and you can also practice at home too! 😉 \nFIRST CLASS FREE!\nThen £7 per class (block booking will be available at a discounted rate.) \nBooking is essential as spaces are limited.\nPlease message/email or text me and I will send you the online registration form.
URL:https://onechippenham.org.uk/event/seniors-strong-class/2024-04-25/
LOCATION:Chippenham Sports Club
CATEGORIES:Fitness
ATTACH;FMTTYPE=image/png:https://onechippenham.org.uk/wp-content/uploads/2023/09/D5C9FF0E-1C77-4FFC-BB5A-77FA2A9E1D62.png
ORGANIZER;CN="Sheila's Fitness and Wellbeing":MAILTO:Fitsteps6@gmail.com
END:VEVENT
BEGIN:VEVENT
DTSTART;TZID=Europe/London:20240427T090000
DTEND;TZID=Europe/London:20240427T090000
DTSTAMP:20260422T020459
CREATED:20240423T083711Z
LAST-MODIFIED:20240423T083926Z
UID:29472-1714208400-1714208400@onechippenham.org.uk
SUMMARY:Chippenham Parkrun
DESCRIPTION:Why don’t you kick off your morning of the Teen Takeover weekend with a brisk 5k!! \nChippenham Parkrun is a FREE weekly 5km event for runners of all standards\, which takes place every Saturday at 9am in Monkton Park\, Chippenham\, Wiltshire. Meet: 8:50am at the Multi-use Games Area in Monkton Park \nThe course is run on a mixture of trail paths\, tarmac paths and gravel paths. Some sections of the course may accumulate mud\, leaves and puddles after rain. \nIt offers an opportunity for all the local community\, regardless of age or gender\, to come together on a regular basis to enjoy the outdoors and get physically active. We want to encourage people to run\, jog\, walk and volunteer together – this event is truly open to all and best of all it really is FREE! \nTaking part is easy – just register before your first ever parkrun and remember to bring a scannable copy of your registration barcode\, that way your running time will be recorded. \nSuitable for ages 11+ (under 11’s welcome to walk/run the course but must complete the course with an adult) \nFor more details visit: https://www.parkrun.org.uk/chippenham/ \n\nDid you know Chippenham junior parkrun takes place every Sunday (ages 4 to 14) – junior parkrun is a series of 2k runs for children aged between 4 and 14. They are open to all\, free\, and are safe and easy to take part in.
URL:https://onechippenham.org.uk/event/teen-takeover-chippenham-parkrun/
LOCATION:Monkton Park\, Chippenham
CATEGORIES:Adults,Children,Community,Fitness,Outdoor,Teen Takeover,Teens,Tweens,Young adults
ATTACH;FMTTYPE=image/jpeg:https://onechippenham.org.uk/wp-content/uploads/2024/04/Parkrun.jpg
ORGANIZER;CN="Chippenham Parkrun":MAILTO:chippenham@parkrun.com
END:VEVENT
END:VCALENDAR