BEGIN:VCALENDAR
VERSION:2.0
PRODID:-//One Chippenham - ECPv6.15.20//NONSGML v1.0//EN
CALSCALE:GREGORIAN
METHOD:PUBLISH
X-WR-CALNAME:One Chippenham
X-ORIGINAL-URL:https://onechippenham.org.uk
X-WR-CALDESC:Events for One Chippenham
REFRESH-INTERVAL;VALUE=DURATION:PT1H
X-Robots-Tag:noindex
X-PUBLISHED-TTL:PT1H
BEGIN:VTIMEZONE
TZID:Europe/London
BEGIN:DAYLIGHT
TZOFFSETFROM:+0000
TZOFFSETTO:+0100
TZNAME:BST
DTSTART:20220327T010000
END:DAYLIGHT
BEGIN:STANDARD
TZOFFSETFROM:+0100
TZOFFSETTO:+0000
TZNAME:GMT
DTSTART:20221030T010000
END:STANDARD
BEGIN:DAYLIGHT
TZOFFSETFROM:+0000
TZOFFSETTO:+0100
TZNAME:BST
DTSTART:20230326T010000
END:DAYLIGHT
BEGIN:STANDARD
TZOFFSETFROM:+0100
TZOFFSETTO:+0000
TZNAME:GMT
DTSTART:20231029T010000
END:STANDARD
BEGIN:DAYLIGHT
TZOFFSETFROM:+0000
TZOFFSETTO:+0100
TZNAME:BST
DTSTART:20240331T010000
END:DAYLIGHT
BEGIN:STANDARD
TZOFFSETFROM:+0100
TZOFFSETTO:+0000
TZNAME:GMT
DTSTART:20241027T010000
END:STANDARD
END:VTIMEZONE
BEGIN:VEVENT
DTSTART;TZID=Europe/London:20231202T183000
DTEND;TZID=Europe/London:20231202T183000
DTSTAMP:20260422T023332
CREATED:20231201T093004Z
LAST-MODIFIED:20231201T093004Z
UID:24068-1701541800-1701541800@onechippenham.org.uk
SUMMARY:Christmas Bingo Night
DESCRIPTION:Come and join us for a fun-filled night of Bingo! Prizes for a line and a full house. \nEmail Kelly at chairchippenhamscc@yahoo.com to book your spot and order your bowl of Chilli (mild\, spicy & veggie options). \nWe’re raising much needed funds to continue to improve our facilities for young people in Chippenham. \n 
URL:https://onechippenham.org.uk/event/christmas-bingo-night/
LOCATION:Chippenham Sea Cadets\, Long Close\, Chippenham
CATEGORIES:Bingo,Christmas,Family Friendly,Food and Drink
ATTACH;FMTTYPE=image/jpeg:https://onechippenham.org.uk/wp-content/uploads/2023/12/IMG_8708.jpeg
ORGANIZER;CN="Chippenham Sea Cadets":MAILTO:chairchippenhamscc@yahoo.com
END:VEVENT
BEGIN:VEVENT
DTSTART;TZID=Europe/London:20231203T110000
DTEND;TZID=Europe/London:20231203T160000
DTSTAMP:20260422T023332
CREATED:20231106T204925Z
LAST-MODIFIED:20231106T204925Z
UID:17049-1701601200-1701619200@onechippenham.org.uk
SUMMARY:Christmas Fayre & Santa’s Grotto
DESCRIPTION:Come along to our Christmas Fayre on Sunday 3rd Dec. Lots of gift and craft stalls to look around\, Xmas card and tree decorating activities for the children and warm mulled wine for the adults and much more. \nChippenham Male Voice Choir are performing from 11.30am – 12.30pm featuring our very own Nathan Charles Brown. \nSanta is also visiting us in his Santa’s Grotto\, so to come and see Santa and receive a gift please purchase your tickets in advance from the bar – Only £5 per child – Ticket on sale now! \nEmail: enquiries@chippenhamsportsclub.co.uk \n 
URL:https://onechippenham.org.uk/event/christmas-fayre-santas-grotto/
LOCATION:Chippenham Sports Club
CATEGORIES:Choir,Christmas,Community,Family,Family Friendly,Fayre,Food and Drink
ATTACH;FMTTYPE=image/jpeg:https://onechippenham.org.uk/wp-content/uploads/2023/11/IMG_7958.jpeg
END:VEVENT
BEGIN:VEVENT
DTSTART;TZID=Europe/London:20231207T170000
DTEND;TZID=Europe/London:20231207T220000
DTSTAMP:20260422T023332
CREATED:20231208T174229Z
LAST-MODIFIED:20231208T174342Z
UID:24805-1701968400-1701986400@onechippenham.org.uk
SUMMARY:Live music at The Cellar by Wine Monkey
DESCRIPTION:Live music every Thursday 6:30-8:30 in December at The Cellar: \n-7th Luke Gittens\, local singer/songwriter\n-14th “Corks and Carols”\, quartet carol singing including the owner\, Bryan\n-21st Luke Gittens is back again for a festive evening of holiday music \nHomemade mulled wine and minced pies available\, plus our range of sustainable wines\, beers\, ciders and softs and artisan food.
URL:https://onechippenham.org.uk/event/live-music-at-the-cellar-by-wine-monkey/2023-12-07/
LOCATION:The Cellar by Wine Monkey\, 20 Borough Parade\, Chippenham\, SN15 3WL\, United Kingdom
CATEGORIES:Christmas,Food and Drink,Music
ATTACH;FMTTYPE=image/jpeg:https://onechippenham.org.uk/wp-content/uploads/2023/12/IMG_2230.jpeg
ORGANIZER;CN="Wine Monkey":MAILTO:Thecellar@winemonkey.co.uk
END:VEVENT
BEGIN:VEVENT
DTSTART;VALUE=DATE:20231214
DTEND;VALUE=DATE:20231218
DTSTAMP:20260422T023332
CREATED:20231123T071403Z
LAST-MODIFIED:20231216T140525Z
UID:20075-1702512000-1702857599@onechippenham.org.uk
SUMMARY:Christmas Island + Festive Fringe
DESCRIPTION:Come and join us down at The Illuminated Island as we kick start the 2023 festive season… \nFor the third year running\, come and experience the banks of the River Avon spectacularly lit up\, bringing some twinkling magic to the heart of Chippenham. \nThe event is produced and managed by local Creative Event Production company Melt Productions in partnership with Chippenham Town Council. \nAlongside the lights\, this years’ focal point will be the beautiful wooden Roundhouse; a cosy\, heated\, wooden structure – the perfect spot to enjoy our jam-packed roster of entertainment as well as some well-earned ‘Hygee’. \nNew for this year\, we have carefully curated a full schedule of Festive Fringe entertainment\, including live Music\, Comedy\, Cabaret\, Cinema Screenings\, Workshops\, and even a Festive Quiz! \nOur infamous Aprés Ski Bar will return\, serving up delicious Hot and Cold Drinks\, Mulled Wine and wintery Cocktails\, alongside some of the South West’s top-notch Food Vendors. \nThis year’s event runs from Thursday 14th – Sunday 17th December (inclusive) down at The Island\, Monkton Park (just over Town Bridge). \nThe Light Trail and Festive Fringe show times vary\, please take a look at the schedule for more information. \nChippenham-Christmas-Programme-2023 \nPlease Note:\n* Each event is free to attend and seats will be allocated on a first-come\, first-serve basis.\n* The trail is situated on uneven ground\, please ensure you wear suitable footwear.\n* Disabled access is situated along the path from the main entrance\, please alert one of our Stewards wearing high-vis should you require any assistance.\n* All dogs are required to remain on a lead throughout the trail. Dogs are not allowed within the Roundhouse. \nFor all other questions or enquiries\, please email: events@meltproductions.co.uk
URL:https://onechippenham.org.uk/event/christmas-island-festive-fringe/
LOCATION:Island Park\, Chippenham
CATEGORIES:Adults,Arts,Bingo,Children,Choir,Christmas,Cinema,Comedy,Community,Family,Family Friendly,Festival,Food and Drink,Outdoor,Over 60's,Performance,Pre-school,Primary age children,Quiz,Teens,Workshop
ATTACH;FMTTYPE=image/jpeg:https://onechippenham.org.uk/wp-content/uploads/2023/11/MELT_0023_Xmas_X_3.jpg
END:VEVENT
BEGIN:VEVENT
DTSTART;TZID=Europe/London:20231216T110000
DTEND;TZID=Europe/London:20231216T210000
DTSTAMP:20260422T023332
CREATED:20231113T163007Z
LAST-MODIFIED:20231113T163007Z
UID:18133-1702724400-1702760400@onechippenham.org.uk
SUMMARY:The Artisan Fundraiser
DESCRIPTION:Come down to The Artisan Fundraiser in support of No. 7 Creative Space! A full day of great food\, drinks and lively local music all to raise money for a new creative space in Chippenham. Fantastic people and handmade crafts; by the community\, for the community. \nLive music from 18:00 onwards. \nFind out more & book tickets here. \n 
URL:https://onechippenham.org.uk/event/the-artisan-fundraiser/
LOCATION:No.7\, 7 Union Road\, Chippenham\, SN15 1HW
CATEGORIES:Community,Food and Drink,Market,Music,Pop up shop
ATTACH;FMTTYPE=image/jpeg:https://onechippenham.org.uk/wp-content/uploads/2023/11/IMG_8326.jpeg
END:VEVENT
END:VCALENDAR