BEGIN:VCALENDAR
VERSION:2.0
PRODID:-//One Chippenham - ECPv6.15.20//NONSGML v1.0//EN
CALSCALE:GREGORIAN
METHOD:PUBLISH
X-ORIGINAL-URL:https://onechippenham.org.uk
X-WR-CALDESC:Events for One Chippenham
REFRESH-INTERVAL;VALUE=DURATION:PT1H
X-Robots-Tag:noindex
X-PUBLISHED-TTL:PT1H
BEGIN:VTIMEZONE
TZID:Europe/London
BEGIN:DAYLIGHT
TZOFFSETFROM:+0000
TZOFFSETTO:+0100
TZNAME:BST
DTSTART:20240331T010000
END:DAYLIGHT
BEGIN:STANDARD
TZOFFSETFROM:+0100
TZOFFSETTO:+0000
TZNAME:GMT
DTSTART:20241027T010000
END:STANDARD
BEGIN:DAYLIGHT
TZOFFSETFROM:+0000
TZOFFSETTO:+0100
TZNAME:BST
DTSTART:20250330T010000
END:DAYLIGHT
BEGIN:STANDARD
TZOFFSETFROM:+0100
TZOFFSETTO:+0000
TZNAME:GMT
DTSTART:20251026T010000
END:STANDARD
BEGIN:DAYLIGHT
TZOFFSETFROM:+0000
TZOFFSETTO:+0100
TZNAME:BST
DTSTART:20260329T010000
END:DAYLIGHT
BEGIN:STANDARD
TZOFFSETFROM:+0100
TZOFFSETTO:+0000
TZNAME:GMT
DTSTART:20261025T010000
END:STANDARD
END:VTIMEZONE
BEGIN:VEVENT
DTSTART;TZID=Europe/London:20250311T160000
DTEND;TZID=Europe/London:20250311T190000
DTSTAMP:20260420T002438
CREATED:20250222T184808Z
LAST-MODIFIED:20250222T184808Z
UID:38840-1741708800-1741719600@onechippenham.org.uk
SUMMARY:Little Voices - Drama & Singing
DESCRIPTION:We’re SO excited to be welcoming lots of new pupils\, tutors\, and schools to Little Voices this year – 2025 is going to be BIGGER and better than ever! \nWe have recently launched at Pewsham Community Centre on Tuesdays\, term time and have a selection of lessons available for ages 4-18yrs (school age) \nWe would love to welcome you along to join us for a free trial lesson\, and for us to be a big part of Pewsham community – helping children find their voices\, learn new skills and make new friends\, having fun along the way. \nHoliday workshops may be in the offing too if weekly lessons don’t suit your current timetables.
URL:https://onechippenham.org.uk/event/little-voices-drama-singing/2025-03-11/
LOCATION:Pewsham Community Centre\, Lodge Road\, Chippenham\, SN5 3SY
CATEGORIES:Children,Community,Dance,Drama,Education,Games,Music,Performance,Performing Arts,Primary age children,School holiday,Singing,Theatre,Tweens,Workshop,Young adults
ATTACH;FMTTYPE=image/jpeg:https://onechippenham.org.uk/wp-content/uploads/2025/02/All-ages-Big-Futures.jpg
END:VEVENT
BEGIN:VEVENT
DTSTART;TZID=Europe/London:20250314T100000
DTEND;TZID=Europe/London:20250314T140000
DTSTAMP:20260420T002438
CREATED:20250317T090713Z
LAST-MODIFIED:20250317T090713Z
UID:39774-1741946400-1741960800@onechippenham.org.uk
SUMMARY:Kingston House Activity Days
DESCRIPTION:Drop in sessions for those aged 65 plus to join us for activities\, entertainment and lunch.\n10am – 2pm every week day. \nCall to book (essential)
URL:https://onechippenham.org.uk/event/kingston-house-activity-days/2025-03-14/
LOCATION:Kingston House Care Home\, Lansdown Crescent\, Derry Hill\, Calne\, SN11 9NP\, United Kingdom
CATEGORIES:Games,Open Day,Over 60's
ATTACH;FMTTYPE=image/jpeg:https://onechippenham.org.uk/wp-content/uploads/2025/03/Activity-days-Kingston-House-1.jpg
ORGANIZER;CN="Kingston House Care Home":MAILTO:kingston@greensleeves.org.uk
END:VEVENT
BEGIN:VEVENT
DTSTART;TZID=Europe/London:20250314T103000
DTEND;TZID=Europe/London:20250314T120000
DTSTAMP:20260420T002438
CREATED:20250222T180004Z
LAST-MODIFIED:20250222T180004Z
UID:39071-1741948200-1741953600@onechippenham.org.uk
SUMMARY:Lighten Up! Physical games workshops
DESCRIPTION:A new 6 week course for women as part of She Can Be Active (WASP)! 🕺 \nDon’t find exercise easy? You won’t even think of this as exercise\, and will laugh your way through the session! \nHow many years since you played Stuck in the Mud? Ever tried Bombs and Shields? The aeroplane game Playing shouldn’t be left in the playground when you hit 12. It should stay in your life and help you keep active and healthy. \nBook in for a session at a time and see if you can remember how to have fun and play! \nTickets here: https://www.ticketsource.co.uk/rag-and-bone…/t-moxzzjp \nSee you soon!
URL:https://onechippenham.org.uk/event/lighten-up-physical-games-workshops/2025-03-14/
LOCATION:St Pauls church hall\, Malmesbury rd\, Malmesbury Rd\, Chippenham\, SN15 1PW\, United Kingdom
CATEGORIES:Adults,Community,Games
ATTACH;FMTTYPE=image/png:https://onechippenham.org.uk/wp-content/uploads/2025/02/EDA4C7F4-70B2-420A-B25E-F1C37AA0C462.png
ORGANIZER;CN="Rag and Bone Arts CIC":MAILTO:ragandbonearts@gmail.com
END:VEVENT
END:VCALENDAR