BEGIN:VCALENDAR
VERSION:2.0
PRODID:-//One Chippenham - ECPv6.15.20//NONSGML v1.0//EN
CALSCALE:GREGORIAN
METHOD:PUBLISH
X-WR-CALNAME:One Chippenham
X-ORIGINAL-URL:https://onechippenham.org.uk
X-WR-CALDESC:Events for One Chippenham
REFRESH-INTERVAL;VALUE=DURATION:PT1H
X-Robots-Tag:noindex
X-PUBLISHED-TTL:PT1H
BEGIN:VTIMEZONE
TZID:Europe/London
BEGIN:DAYLIGHT
TZOFFSETFROM:+0000
TZOFFSETTO:+0100
TZNAME:BST
DTSTART:20230326T010000
END:DAYLIGHT
BEGIN:STANDARD
TZOFFSETFROM:+0100
TZOFFSETTO:+0000
TZNAME:GMT
DTSTART:20231029T010000
END:STANDARD
BEGIN:DAYLIGHT
TZOFFSETFROM:+0000
TZOFFSETTO:+0100
TZNAME:BST
DTSTART:20240331T010000
END:DAYLIGHT
BEGIN:STANDARD
TZOFFSETFROM:+0100
TZOFFSETTO:+0000
TZNAME:GMT
DTSTART:20241027T010000
END:STANDARD
BEGIN:DAYLIGHT
TZOFFSETFROM:+0000
TZOFFSETTO:+0100
TZNAME:BST
DTSTART:20250330T010000
END:DAYLIGHT
BEGIN:STANDARD
TZOFFSETFROM:+0100
TZOFFSETTO:+0000
TZNAME:GMT
DTSTART:20251026T010000
END:STANDARD
END:VTIMEZONE
BEGIN:VEVENT
DTSTART;TZID=Europe/London:20240601T090000
DTEND;TZID=Europe/London:20240601T100000
DTSTAMP:20260420T150436
CREATED:20230909T145220Z
LAST-MODIFIED:20231218T115753Z
UID:15100-1717232400-1717236000@onechippenham.org.uk
SUMMARY:Chippenham parkrun
DESCRIPTION:A free\, weekly\, timed 5k run\, jog or walk in the park.\nOrganised by local volunteers\, the 5k parkrun event encourages individuals and groups to meet their mental as well as physical health goals in a friendly community atmosphere. \nWe have runners out to beat the course record\, their own Personal Best and meet with friends as well as walkers out to do almost exactly the same!
URL:https://onechippenham.org.uk/event/chippenham-parkrun-2/2024-06-01/
LOCATION:Monkton Park\, Chippenham
CATEGORIES:Health,Sport,Wellbeing
ATTACH;FMTTYPE=image/png:https://onechippenham.org.uk/wp-content/uploads/2023/09/inbound5435510492952247169.png
ORGANIZER;CN="Chippenham Parkrun":MAILTO:chippenham@parkrun.com
END:VEVENT
BEGIN:VEVENT
DTSTART;TZID=Europe/London:20240603T190000
DTEND;TZID=Europe/London:20240603T210000
DTSTAMP:20260420T150436
CREATED:20240424T215511Z
LAST-MODIFIED:20240424T215511Z
UID:29485-1717441200-1717448400@onechippenham.org.uk
SUMMARY:Chippenham Menopause Cuppa & Chat
DESCRIPTION:Welcome to the Chippenham Menopause Cuppa & Chat event! Join us at Inspire Fitness for a cozy gathering where we can share experiences\, tips\, and support each other through the menopause journey. This is a fantastic opportunity to connect with like-minded individuals in a relaxed setting. Grab a cuppa\, pull up a chair\, and let’s chat about all things menopause. Whether you’re seeking advice\, camaraderie\, or just a friendly chat\, this event is for you. Don’t miss out on this chance to bond with others who understand what you’re going through. We can’t wait to see you there! \nWe will be welcoming Tracey from Tracey Andresen Reflexology who will be going through some self help techniques. Tracey is based in Chippenham and provides wonderful reflexology treatments. As always there will be plenty of time for chat afterwards. \nDonations will all go to Fear Free charity.
URL:https://onechippenham.org.uk/event/chippenham-menopause-cuppa-chat-2/
LOCATION:Inspire Fitness\, 3a Union Street\, Chippenham\, Wiltshire\, SN15 1HW\, United Kingdom
CATEGORIES:Community,Health,Meeting,Support group,Wellbeing
ATTACH;FMTTYPE=image/jpeg:https://onechippenham.org.uk/wp-content/uploads/2024/04/Meno-cafe-cuppa-and-chat.jpg
ORGANIZER;CN="Affinity Bodyworks":MAILTO:sarahjones@affinitybodyworks.co.uk
END:VEVENT
BEGIN:VEVENT
DTSTART;TZID=Europe/London:20240608T090000
DTEND;TZID=Europe/London:20240608T100000
DTSTAMP:20260420T150436
CREATED:20230909T145220Z
LAST-MODIFIED:20231218T115753Z
UID:15101-1717837200-1717840800@onechippenham.org.uk
SUMMARY:Chippenham parkrun
DESCRIPTION:A free\, weekly\, timed 5k run\, jog or walk in the park.\nOrganised by local volunteers\, the 5k parkrun event encourages individuals and groups to meet their mental as well as physical health goals in a friendly community atmosphere. \nWe have runners out to beat the course record\, their own Personal Best and meet with friends as well as walkers out to do almost exactly the same!
URL:https://onechippenham.org.uk/event/chippenham-parkrun-2/2024-06-08/
LOCATION:Monkton Park\, Chippenham
CATEGORIES:Health,Sport,Wellbeing
ATTACH;FMTTYPE=image/png:https://onechippenham.org.uk/wp-content/uploads/2023/09/inbound5435510492952247169.png
ORGANIZER;CN="Chippenham Parkrun":MAILTO:chippenham@parkrun.com
END:VEVENT
BEGIN:VEVENT
DTSTART;TZID=Europe/London:20240615T090000
DTEND;TZID=Europe/London:20240615T100000
DTSTAMP:20260420T150436
CREATED:20230909T145220Z
LAST-MODIFIED:20231218T115753Z
UID:15102-1718442000-1718445600@onechippenham.org.uk
SUMMARY:Chippenham parkrun
DESCRIPTION:A free\, weekly\, timed 5k run\, jog or walk in the park.\nOrganised by local volunteers\, the 5k parkrun event encourages individuals and groups to meet their mental as well as physical health goals in a friendly community atmosphere. \nWe have runners out to beat the course record\, their own Personal Best and meet with friends as well as walkers out to do almost exactly the same!
URL:https://onechippenham.org.uk/event/chippenham-parkrun-2/2024-06-15/
LOCATION:Monkton Park\, Chippenham
CATEGORIES:Health,Sport,Wellbeing
ATTACH;FMTTYPE=image/png:https://onechippenham.org.uk/wp-content/uploads/2023/09/inbound5435510492952247169.png
ORGANIZER;CN="Chippenham Parkrun":MAILTO:chippenham@parkrun.com
END:VEVENT
BEGIN:VEVENT
DTSTART;TZID=Europe/London:20240622T090000
DTEND;TZID=Europe/London:20240622T100000
DTSTAMP:20260420T150436
CREATED:20230909T145220Z
LAST-MODIFIED:20231218T115754Z
UID:15103-1719046800-1719050400@onechippenham.org.uk
SUMMARY:Chippenham parkrun
DESCRIPTION:A free\, weekly\, timed 5k run\, jog or walk in the park.\nOrganised by local volunteers\, the 5k parkrun event encourages individuals and groups to meet their mental as well as physical health goals in a friendly community atmosphere. \nWe have runners out to beat the course record\, their own Personal Best and meet with friends as well as walkers out to do almost exactly the same!
URL:https://onechippenham.org.uk/event/chippenham-parkrun-2/2024-06-22/
LOCATION:Monkton Park\, Chippenham
CATEGORIES:Health,Sport,Wellbeing
ATTACH;FMTTYPE=image/png:https://onechippenham.org.uk/wp-content/uploads/2023/09/inbound5435510492952247169.png
ORGANIZER;CN="Chippenham Parkrun":MAILTO:chippenham@parkrun.com
END:VEVENT
BEGIN:VEVENT
DTSTART;TZID=Europe/London:20240629T090000
DTEND;TZID=Europe/London:20240629T100000
DTSTAMP:20260420T150436
CREATED:20230909T145220Z
LAST-MODIFIED:20230912T122420Z
UID:15104-1719651600-1719655200@onechippenham.org.uk
SUMMARY:Chippenham parkrun
DESCRIPTION:A free\, weekly\, timed 5k run\, jog or walk in the park.\nOrganised by local volunteers\, the 5k parkrun event encourages individuals and groups to meet their mental as well as physical health goals in a friendly community atmosphere. \nWe have runners out to beat the course record\, their own Personal Best and meet with friends as well as walkers out to do almost exactly the same!
URL:https://onechippenham.org.uk/event/chippenham-parkrun-2/2024-06-29/
LOCATION:Monkton Park\, Chippenham
CATEGORIES:Health,Sport,Wellbeing
ATTACH;FMTTYPE=image/png:https://onechippenham.org.uk/wp-content/uploads/2023/09/inbound5435510492952247169.png
ORGANIZER;CN="Chippenham Parkrun":MAILTO:chippenham@parkrun.com
END:VEVENT
END:VCALENDAR