BEGIN:VCALENDAR
VERSION:2.0
PRODID:-//One Chippenham - ECPv6.15.20//NONSGML v1.0//EN
CALSCALE:GREGORIAN
METHOD:PUBLISH
X-WR-CALNAME:One Chippenham
X-ORIGINAL-URL:https://onechippenham.org.uk
X-WR-CALDESC:Events for One Chippenham
REFRESH-INTERVAL;VALUE=DURATION:PT1H
X-Robots-Tag:noindex
X-PUBLISHED-TTL:PT1H
BEGIN:VTIMEZONE
TZID:Europe/London
BEGIN:DAYLIGHT
TZOFFSETFROM:+0000
TZOFFSETTO:+0100
TZNAME:BST
DTSTART:20250330T010000
END:DAYLIGHT
BEGIN:STANDARD
TZOFFSETFROM:+0100
TZOFFSETTO:+0000
TZNAME:GMT
DTSTART:20251026T010000
END:STANDARD
BEGIN:DAYLIGHT
TZOFFSETFROM:+0000
TZOFFSETTO:+0100
TZNAME:BST
DTSTART:20260329T010000
END:DAYLIGHT
BEGIN:STANDARD
TZOFFSETFROM:+0100
TZOFFSETTO:+0000
TZNAME:GMT
DTSTART:20261025T010000
END:STANDARD
BEGIN:DAYLIGHT
TZOFFSETFROM:+0000
TZOFFSETTO:+0100
TZNAME:BST
DTSTART:20270328T010000
END:DAYLIGHT
BEGIN:STANDARD
TZOFFSETFROM:+0100
TZOFFSETTO:+0000
TZNAME:GMT
DTSTART:20271031T010000
END:STANDARD
END:VTIMEZONE
BEGIN:VEVENT
DTSTART;TZID=Europe/London:20260822T103000
DTEND;TZID=Europe/London:20260822T133000
DTSTAMP:20260422T230822
CREATED:20260421T134415Z
LAST-MODIFIED:20260421T134415Z
UID:60984-1787394600-1787405400@onechippenham.org.uk
SUMMARY:Yelde Hall Summer Opening
DESCRIPTION:Want to discover more about Chippenham’s history? Visit the Yelde Hall on select dates from May to September\, where you can meet characters from the town’s past in the council chamber and pirates from 1709 in the lock-up! \nThe Yelde Hall is free to enter and will be open from 10.30am to 1.30pm. \nOpening dates: \nSaturday 9 May\nSaturday 11 July\nSaturday 8 August\nSaturday 22 August\nSaturday 12 September
URL:https://onechippenham.org.uk/event/yelde-hall-summer-opening/2026-08-22/
LOCATION:The Yelde Hall
CATEGORIES:Heritage,History,Museum
ATTACH;FMTTYPE=image/jpeg:https://onechippenham.org.uk/wp-content/uploads/2026/04/Yelde.jpg
ORGANIZER;CN="Chippenham Museum":MAILTO:heritage@chippenham.gov.uk
END:VEVENT
BEGIN:VEVENT
DTSTART;TZID=Europe/London:20260822T140000
DTEND;TZID=Europe/London:20260822T150000
DTSTAMP:20260422T230822
CREATED:20260421T134222Z
LAST-MODIFIED:20260421T134222Z
UID:61004-1787407200-1787410800@onechippenham.org.uk
SUMMARY:Town Walk
DESCRIPTION:Our free guided walks are back for 2026! \nJoin a member of the Chippenham Museum team on select Thursdays and Saturdays from May to September for a 40-minute journey through the town’s history\, from King Alfred and the Saxons to the present day. \nPerfect for residents\, visitors and groups! Meet at The Buttercross\, Market Place. Arrive 5 to 10 minutes before to allow for a prompt start. Spaces are limited so booking is essential via Eventbrite. \nSaturdays at 2pm: \n9 May\, 13 June\, 11 July\, 8 August\, 22 August & 12 September \nThursdays at 7pm: \n14 May\, 18 June\, 16 July\, 13 August & 17 September
URL:https://onechippenham.org.uk/event/town-walk/2026-08-22/
LOCATION:Chippenham Museum\, 9-10 Market Pl\, Chippenham\, SN15 3HF\, United Kingdom
CATEGORIES:Heritage,History,Museum,Walks
ATTACH;FMTTYPE=image/jpeg:https://onechippenham.org.uk/wp-content/uploads/2026/04/Town-Walk.jpg
ORGANIZER;CN="Chippenham Museum":MAILTO:heritage@chippenham.gov.uk
END:VEVENT
END:VCALENDAR