BEGIN:VCALENDAR
VERSION:2.0
PRODID:-//One Chippenham - ECPv6.15.20//NONSGML v1.0//EN
CALSCALE:GREGORIAN
METHOD:PUBLISH
X-WR-CALNAME:One Chippenham
X-ORIGINAL-URL:https://onechippenham.org.uk
X-WR-CALDESC:Events for One Chippenham
REFRESH-INTERVAL;VALUE=DURATION:PT1H
X-Robots-Tag:noindex
X-PUBLISHED-TTL:PT1H
BEGIN:VTIMEZONE
TZID:Europe/London
BEGIN:DAYLIGHT
TZOFFSETFROM:+0000
TZOFFSETTO:+0100
TZNAME:BST
DTSTART:20210328T010000
END:DAYLIGHT
BEGIN:STANDARD
TZOFFSETFROM:+0100
TZOFFSETTO:+0000
TZNAME:GMT
DTSTART:20211031T010000
END:STANDARD
BEGIN:DAYLIGHT
TZOFFSETFROM:+0000
TZOFFSETTO:+0100
TZNAME:BST
DTSTART:20220327T010000
END:DAYLIGHT
BEGIN:STANDARD
TZOFFSETFROM:+0100
TZOFFSETTO:+0000
TZNAME:GMT
DTSTART:20221030T010000
END:STANDARD
BEGIN:DAYLIGHT
TZOFFSETFROM:+0000
TZOFFSETTO:+0100
TZNAME:BST
DTSTART:20230326T010000
END:DAYLIGHT
BEGIN:STANDARD
TZOFFSETFROM:+0100
TZOFFSETTO:+0000
TZNAME:GMT
DTSTART:20231029T010000
END:STANDARD
END:VTIMEZONE
BEGIN:VEVENT
DTSTART;TZID=Europe/London:20220711T193000
DTEND;TZID=Europe/London:20220711T213000
DTSTAMP:20260425T224044
CREATED:20220620T094053Z
LAST-MODIFIED:20220620T094053Z
UID:6139-1657567800-1657575000@onechippenham.org.uk
SUMMARY:Chippenham Film Club's July Presentation
DESCRIPTION:Chippenham Film Club’s next offering will be Sweet Bean\, a lovely Japanese film starring the late Kirin Kiki.\nMade in 2015\, Sweet Bean tells the story of Sentaro\, the manager of a pancake stall\, who finds himself confronted with an odd but sympathetic elderly woman looking for work. A taste of her homemade red bean paste convinces him to hire her\, which starts a relationship that is about much more than just street food. \nTickets are available through the film club’s website.
URL:https://onechippenham.org.uk/event/chippenham-film-clubs-july-presentation/
LOCATION:The Reel Cinema\, 91 Marshfield Rd\, Chippenham\, SN15 1JR\, United Kingdom
CATEGORIES:Arts,Cinema,Community,Film,Indoor
ATTACH;FMTTYPE=image/jpeg:https://onechippenham.org.uk/wp-content/uploads/2022/06/Sweet-Bean-film_poster_2265.jpg
END:VEVENT
BEGIN:VEVENT
DTSTART;TZID=Europe/London:20220714T133000
DTEND;TZID=Europe/London:20220714T143000
DTSTAMP:20260425T224044
CREATED:20220711T154218Z
LAST-MODIFIED:20220711T154950Z
UID:6328-1657805400-1657809000@onechippenham.org.uk
SUMMARY:Craft and Chat at Chippenham Library
DESCRIPTION:Bring your knitting\, crochet or other craft to the library and meet other creative people on the second Thursday of each month 1.30-2.30pm
URL:https://onechippenham.org.uk/event/craft-and-chat-at-chippenham-library/2022-07-14/
LOCATION:Chippenham Library
CATEGORIES:Adults,Arts,Community,Crafts,Indoor,Over 60's
ATTACH;FMTTYPE=image/png:https://onechippenham.org.uk/wp-content/uploads/2022/07/Craftandchat_facebook.png
END:VEVENT
END:VCALENDAR