BEGIN:VCALENDAR
VERSION:2.0
PRODID:-//One Chippenham - ECPv6.15.20//NONSGML v1.0//EN
CALSCALE:GREGORIAN
METHOD:PUBLISH
X-WR-CALNAME:One Chippenham
X-ORIGINAL-URL:https://onechippenham.org.uk
X-WR-CALDESC:Events for One Chippenham
REFRESH-INTERVAL;VALUE=DURATION:PT1H
X-Robots-Tag:noindex
X-PUBLISHED-TTL:PT1H
BEGIN:VTIMEZONE
TZID:Europe/London
BEGIN:DAYLIGHT
TZOFFSETFROM:+0000
TZOFFSETTO:+0100
TZNAME:BST
DTSTART:20210328T010000
END:DAYLIGHT
BEGIN:STANDARD
TZOFFSETFROM:+0100
TZOFFSETTO:+0000
TZNAME:GMT
DTSTART:20211031T010000
END:STANDARD
BEGIN:DAYLIGHT
TZOFFSETFROM:+0000
TZOFFSETTO:+0100
TZNAME:BST
DTSTART:20220327T010000
END:DAYLIGHT
BEGIN:STANDARD
TZOFFSETFROM:+0100
TZOFFSETTO:+0000
TZNAME:GMT
DTSTART:20221030T010000
END:STANDARD
BEGIN:DAYLIGHT
TZOFFSETFROM:+0000
TZOFFSETTO:+0100
TZNAME:BST
DTSTART:20230326T010000
END:DAYLIGHT
BEGIN:STANDARD
TZOFFSETFROM:+0100
TZOFFSETTO:+0000
TZNAME:GMT
DTSTART:20231029T010000
END:STANDARD
END:VTIMEZONE
BEGIN:VEVENT
DTSTART;TZID=Europe/London:20220822T090000
DTEND;TZID=Europe/London:20220826T110000
DTSTAMP:20260425T163301
CREATED:20220711T152958Z
LAST-MODIFIED:20220711T152958Z
UID:6366-1661158800-1661511600@onechippenham.org.uk
SUMMARY:Summer Swimming - Crash Courses
DESCRIPTION:Neptune Aquatic’s small-group intensive swimming crash courses at Starfish Hydrotherapy Pool are suitable for children aged 3 years+ and are the perfect way to introduce your young child to a swimming lessons environment or build on skills learned in weekly lessons. \nWe currently offer crash courses (with a maximum of 6 children in each class) for our Ducklings\, Turtles and Jellyfish stages (equivalent to Swim England Stages 1-4.) All courses are 5 days\, with children swimming every morning for 25 minutes. \nWe welcome all swimmers\, including those who do not currently swim with Neptune Swim School. \nSession times all take place between 9-11am:\nSession 1 – 9:00-9:30am\nSession 2 – 9:30-10:00am\nSession 3 – 10:00-10:30am\nSession 4 – 10:30-11:00am
URL:https://onechippenham.org.uk/event/summer-swimming-crash-courses/2022-08-22/
LOCATION:Starfish Hydrotherapy Pool\, Malmesbury Road\, Chippenham\, SN15 1QF\, United Kingdom
CATEGORIES:Children,Course,Exercise,Family,Family Friendly,Indoor,Pre-school,Workshop
ATTACH;FMTTYPE=image/png:https://onechippenham.org.uk/wp-content/uploads/2022/07/3.png
ORGANIZER;CN="Neptune Aquatics Swim School":MAILTO:steph@neptuneaquatics.co.uk
END:VEVENT
END:VCALENDAR