BEGIN:VCALENDAR
VERSION:2.0
PRODID:-//One Chippenham - ECPv6.15.20//NONSGML v1.0//EN
CALSCALE:GREGORIAN
METHOD:PUBLISH
X-WR-CALNAME:One Chippenham
X-ORIGINAL-URL:https://onechippenham.org.uk
X-WR-CALDESC:Events for One Chippenham
REFRESH-INTERVAL;VALUE=DURATION:PT1H
X-Robots-Tag:noindex
X-PUBLISHED-TTL:PT1H
BEGIN:VTIMEZONE
TZID:Europe/London
BEGIN:DAYLIGHT
TZOFFSETFROM:+0000
TZOFFSETTO:+0100
TZNAME:BST
DTSTART:20220327T010000
END:DAYLIGHT
BEGIN:STANDARD
TZOFFSETFROM:+0100
TZOFFSETTO:+0000
TZNAME:GMT
DTSTART:20221030T010000
END:STANDARD
BEGIN:DAYLIGHT
TZOFFSETFROM:+0000
TZOFFSETTO:+0100
TZNAME:BST
DTSTART:20230326T010000
END:DAYLIGHT
BEGIN:STANDARD
TZOFFSETFROM:+0100
TZOFFSETTO:+0000
TZNAME:GMT
DTSTART:20231029T010000
END:STANDARD
BEGIN:DAYLIGHT
TZOFFSETFROM:+0000
TZOFFSETTO:+0100
TZNAME:BST
DTSTART:20240331T010000
END:DAYLIGHT
BEGIN:STANDARD
TZOFFSETFROM:+0100
TZOFFSETTO:+0000
TZNAME:GMT
DTSTART:20241027T010000
END:STANDARD
END:VTIMEZONE
BEGIN:VEVENT
DTSTART;TZID=Europe/London:20230128T100000
DTEND;TZID=Europe/London:20230128T160000
DTSTAMP:20260422T013110
CREATED:20230118T093711Z
LAST-MODIFIED:20230118T093711Z
UID:10317-1674900000-1674921600@onechippenham.org.uk
SUMMARY:Art Sale
DESCRIPTION:Come along and hand select some beautiful\, original art work produced by our very talented Life Drawing artists. From £10\, £15 or £20 – all pieces have been kindly donated by our lovely groups. \nWe don’t have any core funding and keep our costs as low as possible so that more people can attend. But that means that much of our work is done for free. We make regular fundraising efforts but aren’t always successful\, so this will help us hugely. You get beautiful\, affordable\, original art. We get help to keep our sessions and productions affordable. Everyone’s a winner!
URL:https://onechippenham.org.uk/event/art-sale/
LOCATION:Cause Arts Centre\, 42 The Causeway\, Chippenham\, Wiltshire\, SN15 3DD\, United Kingdom
CATEGORIES:Arts,Indoor,Visual Arts
ATTACH;FMTTYPE=image/png:https://onechippenham.org.uk/wp-content/uploads/2023/01/IMG_0461-2.png
ORGANIZER;CN="Rag and Bone Arts CIC":MAILTO:ragandbonearts@gmail.com
END:VEVENT
END:VCALENDAR