BEGIN:VCALENDAR
VERSION:2.0
PRODID:-//One Chippenham - ECPv6.15.20//NONSGML v1.0//EN
CALSCALE:GREGORIAN
METHOD:PUBLISH
X-WR-CALNAME:One Chippenham
X-ORIGINAL-URL:https://onechippenham.org.uk
X-WR-CALDESC:Events for One Chippenham
REFRESH-INTERVAL;VALUE=DURATION:PT1H
X-Robots-Tag:noindex
X-PUBLISHED-TTL:PT1H
BEGIN:VTIMEZONE
TZID:Europe/London
BEGIN:DAYLIGHT
TZOFFSETFROM:+0000
TZOFFSETTO:+0100
TZNAME:BST
DTSTART:20220327T010000
END:DAYLIGHT
BEGIN:STANDARD
TZOFFSETFROM:+0100
TZOFFSETTO:+0000
TZNAME:GMT
DTSTART:20221030T010000
END:STANDARD
BEGIN:DAYLIGHT
TZOFFSETFROM:+0000
TZOFFSETTO:+0100
TZNAME:BST
DTSTART:20230326T010000
END:DAYLIGHT
BEGIN:STANDARD
TZOFFSETFROM:+0100
TZOFFSETTO:+0000
TZNAME:GMT
DTSTART:20231029T010000
END:STANDARD
BEGIN:DAYLIGHT
TZOFFSETFROM:+0000
TZOFFSETTO:+0100
TZNAME:BST
DTSTART:20240331T010000
END:DAYLIGHT
BEGIN:STANDARD
TZOFFSETFROM:+0100
TZOFFSETTO:+0000
TZNAME:GMT
DTSTART:20241027T010000
END:STANDARD
END:VTIMEZONE
BEGIN:VEVENT
DTSTART;TZID=Europe/London:20230325T110000
DTEND;TZID=Europe/London:20230325T150000
DTSTAMP:20260421T180022
CREATED:20230306T193018Z
LAST-MODIFIED:20230319T073225Z
UID:12323-1679742000-1679756400@onechippenham.org.uk
SUMMARY:Indoor car boot sale - Chippenham Sea Cadets
DESCRIPTION:We are raising money towards our ‘Tigers Den’ appeal with an indoor car boot sale on Saturday 25th March.\nWe are also offering tea and coffee at a £1 and cakes at a £1 a slice. B \nAdmission: 50p per adult\, children are free. \nIf you would like a table at our indoor car boot sale it is £5 per table\, email Kelly chairchippenhamscc@yahoo.com to book
URL:https://onechippenham.org.uk/event/indoor-car-boot-sale-chippenham-sea-cadets/
LOCATION:Chippenham Sea Cadets\, Long Close\, Chippenham
CATEGORIES:Indoor
ATTACH;FMTTYPE=image/jpeg:https://onechippenham.org.uk/wp-content/uploads/2023/03/3DD06882-9B4B-492C-87AD-DB86A4AC8949.jpeg
ORGANIZER;CN="Chippenham Sea Cadets":MAILTO:chairchippenhamscc@yahoo.com
END:VEVENT
END:VCALENDAR